BEGIN:VCALENDAR
VERSION:2.0
PRODID:-//MOAC - Maine Outdoor Adventure Club - ECPv6.15.12.1//NONSGML v1.0//EN
CALSCALE:GREGORIAN
METHOD:PUBLISH
X-WR-CALNAME:MOAC - Maine Outdoor Adventure Club
X-ORIGINAL-URL:https://moac.org
X-WR-CALDESC:Events for MOAC - Maine Outdoor Adventure Club
REFRESH-INTERVAL;VALUE=DURATION:PT1H
X-Robots-Tag:noindex
X-PUBLISHED-TTL:PT1H
BEGIN:VTIMEZONE
TZID:America/New_York
BEGIN:DAYLIGHT
TZOFFSETFROM:-0500
TZOFFSETTO:-0400
TZNAME:EDT
DTSTART:20210314T070000
END:DAYLIGHT
BEGIN:STANDARD
TZOFFSETFROM:-0400
TZOFFSETTO:-0500
TZNAME:EST
DTSTART:20211107T060000
END:STANDARD
BEGIN:DAYLIGHT
TZOFFSETFROM:-0500
TZOFFSETTO:-0400
TZNAME:EDT
DTSTART:20220313T070000
END:DAYLIGHT
BEGIN:STANDARD
TZOFFSETFROM:-0400
TZOFFSETTO:-0500
TZNAME:EST
DTSTART:20221106T060000
END:STANDARD
BEGIN:DAYLIGHT
TZOFFSETFROM:-0500
TZOFFSETTO:-0400
TZNAME:EDT
DTSTART:20230312T070000
END:DAYLIGHT
BEGIN:STANDARD
TZOFFSETFROM:-0400
TZOFFSETTO:-0500
TZNAME:EST
DTSTART:20231105T060000
END:STANDARD
END:VTIMEZONE
BEGIN:VEVENT
DTSTART;TZID=America/New_York:20220415T173000
DTEND;TZID=America/New_York:20220415T203000
DTSTAMP:20260421T042521
CREATED:20220410T151557Z
LAST-MODIFIED:20220412T033742Z
UID:10000429-1650043800-1650054600@moac.org
SUMMARY:HAPPY HOUR
DESCRIPTION:Happy Hour for Friday\, April 15 will be at RIVALRIES SPORTS PUB AND RESTAURANT in Falmouth. View Map. Seating will likely be inside unless it warms up sufficiently for them to open their patio. Ample parking in their lot. \nWith the advent of cooler weather\, MOAC Happy Hours may now be located at establishments offering limited or no options for outdoor seating.  For each Happy Hour venue\, we will try to give as much information as practical about available seating options. \nParticipation in Happy Hour events\, regardless of seating options\, is a personal decision and MOAC assumes no liability for potential health risks associated with attending these activities. \nVaccination against COVID-19 (including approved booster shots) is STRONGLY ENCOURAGED\, but not required for participation in Happy Hour events.   Participants are expected to practice safe behaviors including social distancing\, hand washing and wearing a mask when not eating/drinking or when not seated.  Please be respectful of other people’s choices and comfort level.  ****Do not participate if you are not feeling well\, exhibiting COVID symptoms\, have recently tested positive for COVID or have come into close contact with someone who may be COVID positive. ****
URL:https://moac.org/event/happy-hour/
CATEGORIES:Happy Hour/Dancing
END:VEVENT
END:VCALENDAR