BEGIN:VCALENDAR
VERSION:2.0
PRODID:-//MOAC - Maine Outdoor Adventure Club - ECPv6.15.12.1//NONSGML v1.0//EN
CALSCALE:GREGORIAN
METHOD:PUBLISH
X-ORIGINAL-URL:https://moac.org
X-WR-CALDESC:Events for MOAC - Maine Outdoor Adventure Club
REFRESH-INTERVAL;VALUE=DURATION:PT1H
X-Robots-Tag:noindex
X-PUBLISHED-TTL:PT1H
BEGIN:VTIMEZONE
TZID:America/New_York
BEGIN:DAYLIGHT
TZOFFSETFROM:-0500
TZOFFSETTO:-0400
TZNAME:EDT
DTSTART:20210314T070000
END:DAYLIGHT
BEGIN:STANDARD
TZOFFSETFROM:-0400
TZOFFSETTO:-0500
TZNAME:EST
DTSTART:20211107T060000
END:STANDARD
BEGIN:DAYLIGHT
TZOFFSETFROM:-0500
TZOFFSETTO:-0400
TZNAME:EDT
DTSTART:20220313T070000
END:DAYLIGHT
BEGIN:STANDARD
TZOFFSETFROM:-0400
TZOFFSETTO:-0500
TZNAME:EST
DTSTART:20221106T060000
END:STANDARD
BEGIN:DAYLIGHT
TZOFFSETFROM:-0500
TZOFFSETTO:-0400
TZNAME:EDT
DTSTART:20230312T070000
END:DAYLIGHT
BEGIN:STANDARD
TZOFFSETFROM:-0400
TZOFFSETTO:-0500
TZNAME:EST
DTSTART:20231105T060000
END:STANDARD
END:VTIMEZONE
BEGIN:VEVENT
DTSTART;TZID=America/New_York:20220420T180000
DTEND;TZID=America/New_York:20220420T193000
DTSTAMP:20260421T072605
CREATED:20220417T213907Z
LAST-MODIFIED:20220921T175330Z
UID:10000452-1650477600-1650483000@moac.org
SUMMARY:Mid-week Walk--Bug Light to Willard Beach
DESCRIPTION:Meet at Bug Light Park in South Portland for a walk along the shore to Willard Beach.  Distance is probably around 3 miles.
URL:https://moac.org/event/mid-week-walk-bug-light-to-willard-beach/
CATEGORIES:Walking
ORGANIZER;CN="Bonnie Farrand":MAILTO:Bonniefarrand@gmail.com
END:VEVENT
BEGIN:VEVENT
DTSTART;TZID=America/New_York:20220420T193000
DTEND;TZID=America/New_York:20220420T210000
DTSTAMP:20260421T072605
CREATED:20220418T145502Z
LAST-MODIFIED:20220420T222812Z
UID:10000453-1650483000-1650488400@moac.org
SUMMARY:MOAC Board meeting
DESCRIPTION:Monthly MOAC Board meeting.  Members are welcome to join us. \nZOOM link: https://us02web.zoom.us/j/83684200941?pwd=TmErK1ZlU01hYVBKaHQ4T3gvMlVwdz09 \nMeeting ID: 836 8420 0941 \nPassword: 730377 \n 
URL:https://moac.org/event/moac-board-meeting/
END:VEVENT
END:VCALENDAR