BEGIN:VCALENDAR
VERSION:2.0
PRODID:-//MOAC - Maine Outdoor Adventure Club - ECPv6.15.12.1//NONSGML v1.0//EN
CALSCALE:GREGORIAN
METHOD:PUBLISH
X-WR-CALNAME:MOAC - Maine Outdoor Adventure Club
X-ORIGINAL-URL:https://moac.org
X-WR-CALDESC:Events for MOAC - Maine Outdoor Adventure Club
REFRESH-INTERVAL;VALUE=DURATION:PT1H
X-Robots-Tag:noindex
X-PUBLISHED-TTL:PT1H
BEGIN:VTIMEZONE
TZID:America/New_York
BEGIN:DAYLIGHT
TZOFFSETFROM:-0500
TZOFFSETTO:-0400
TZNAME:EDT
DTSTART:20210314T070000
END:DAYLIGHT
BEGIN:STANDARD
TZOFFSETFROM:-0400
TZOFFSETTO:-0500
TZNAME:EST
DTSTART:20211107T060000
END:STANDARD
BEGIN:DAYLIGHT
TZOFFSETFROM:-0500
TZOFFSETTO:-0400
TZNAME:EDT
DTSTART:20220313T070000
END:DAYLIGHT
BEGIN:STANDARD
TZOFFSETFROM:-0400
TZOFFSETTO:-0500
TZNAME:EST
DTSTART:20221106T060000
END:STANDARD
BEGIN:DAYLIGHT
TZOFFSETFROM:-0500
TZOFFSETTO:-0400
TZNAME:EDT
DTSTART:20230312T070000
END:DAYLIGHT
BEGIN:STANDARD
TZOFFSETFROM:-0400
TZOFFSETTO:-0500
TZNAME:EST
DTSTART:20231105T060000
END:STANDARD
END:VTIMEZONE
BEGIN:VEVENT
DTSTART;TZID=America/New_York:20220427T190000
DTEND;TZID=America/New_York:20220427T213000
DTSTAMP:20260421T081640
CREATED:20220427T185331Z
LAST-MODIFIED:20220427T185453Z
UID:10000484-1651086000-1651095000@moac.org
SUMMARY:Last of the Right Whales – movie\, documentary — one showing only!
DESCRIPTION:Movie\, tonight\, Wednesday the 27th\, LAST OF THE RIGHT WHALES\, at Nickolodean Theatre\, downtown Portland\, 7:00 pm \nText me 251 if 5491 you’d like to meet up in advance for a quick brew or bite to eat\, or possibly a brew afterwards to discuss the movie. \nI’ll be the person in the lobby wearing a tneck\, fleece\, and raincoat (next to all the others wearing the same thing) on this drippy day. \nDon’t miss this documentary — one showing onlty! \n\n\n\nLast of the Right Whales\nNorth Atlantic right whales are dying faster than they can reproduce.  With just over 330 remaining\, these great whales rarely die of natural causes. Instead they are run over by ships or suffer lethal injuries from fishing gear. If we don’t stop killing them\, in 20 years they could be extinct. \nFrom the only known calving grounds to the shifting feeding grounds\, Last of the Right Whales follows the North Atlantic right whale migration and the people committed to saving a species still struggling to recover from centuries of hunting. Now climate change is forcing right whales further north in search of food\, putting them on a collision course with deadly ships and fishing gear. \nWith unprecedented access to film the whale migration\, Last of the Right Whales brings a message of hope about the most at risk great whale on the planet.
URL:https://moac.org/event/last-of-the-right-whales-movie-documentary-one-showing-only/
ORGANIZER;CN="Sue Schaller":MAILTO:Santee914@aol.com
END:VEVENT
END:VCALENDAR