BEGIN:VCALENDAR
VERSION:2.0
PRODID:-//MOAC - Maine Outdoor Adventure Club - ECPv6.15.12.1//NONSGML v1.0//EN
CALSCALE:GREGORIAN
METHOD:PUBLISH
X-WR-CALNAME:MOAC - Maine Outdoor Adventure Club
X-ORIGINAL-URL:https://moac.org
X-WR-CALDESC:Events for MOAC - Maine Outdoor Adventure Club
REFRESH-INTERVAL;VALUE=DURATION:PT1H
X-Robots-Tag:noindex
X-PUBLISHED-TTL:PT1H
BEGIN:VTIMEZONE
TZID:America/New_York
BEGIN:DAYLIGHT
TZOFFSETFROM:-0500
TZOFFSETTO:-0400
TZNAME:EDT
DTSTART:20210314T070000
END:DAYLIGHT
BEGIN:STANDARD
TZOFFSETFROM:-0400
TZOFFSETTO:-0500
TZNAME:EST
DTSTART:20211107T060000
END:STANDARD
BEGIN:DAYLIGHT
TZOFFSETFROM:-0500
TZOFFSETTO:-0400
TZNAME:EDT
DTSTART:20220313T070000
END:DAYLIGHT
BEGIN:STANDARD
TZOFFSETFROM:-0400
TZOFFSETTO:-0500
TZNAME:EST
DTSTART:20221106T060000
END:STANDARD
BEGIN:DAYLIGHT
TZOFFSETFROM:-0500
TZOFFSETTO:-0400
TZNAME:EDT
DTSTART:20230312T070000
END:DAYLIGHT
BEGIN:STANDARD
TZOFFSETFROM:-0400
TZOFFSETTO:-0500
TZNAME:EST
DTSTART:20231105T060000
END:STANDARD
END:VTIMEZONE
BEGIN:VEVENT
DTSTART;VALUE=DATE:20220507
DTEND;VALUE=DATE:20220508
DTSTAMP:20260421T202041
CREATED:20220507T211813Z
LAST-MODIFIED:20220507T211813Z
UID:10000500-1651881600-1651967999@moac.org
SUMMARY:Pleasant mountain Mothers Day hike
DESCRIPTION:Moderate  hike for experienced hikers to the open summit at 2006 ft. The elevation gain is 1500 ft. 3.6 mi RT. We may add a little more heading over to Bald peak and back or doing a loop down Bald Peak Trail which would be about 6 miles with road walk at end.  Approx 3-4 hour hike. Likely we will stop on the way home for a beverage/food.  The pace will be mod fast. Bring water\, extra clothes. There was snow last weekend at 2000 ft. Probably don’t need traction. \nMust be fully vaccinated!  Text if you would like to join. No show n go’s. Carpool from Portland area is possible. \nStart time is 10 am at Trailhead.
URL:https://moac.org/event/pleasant-mountain-mothers-day-hike/
ORGANIZER;CN="Pat Johnson  207-210-0509":MAILTO:hikinurs@gmail.com
END:VEVENT
BEGIN:VEVENT
DTSTART;TZID=America/New_York:20220507T100000
DTEND;TZID=America/New_York:20220507T160000
DTSTAMP:20260421T202041
CREATED:20220410T155650Z
LAST-MODIFIED:20220414T004041Z
UID:10000434-1651917600-1651939200@moac.org
SUMMARY:Ossippee River Trip
DESCRIPTION:I have run this river trip for MOAC most years since joining the club back in 1998. 7 miles of Class 2 whitewater. This is not a raft trip. Canoes and or Whitewater Kayaks are the river craft used here. I need to chat with interested participants to understand their level of experience and what gear they are bringing. We have had occasional out of boat experiences (I had one early on) and want to make sure participants have the proper gear in case of an unplanned swim. The water is still cold and hypothermia is a significant concern if one leaves their boat. We usually stop for lunch along the way. We usually have significant fun doing this. We may also have some folks join us from the Penobscot Paddle and Chowder Society (another outdoor group here in Maine that concentrates on water sports). If interested\, give me a shout. Bob
URL:https://moac.org/event/ossippee-river-trip/
CATEGORIES:Kayaking/Canoeing
ORGANIZER;CN="Bob Radowicz":MAILTO:Robert_Radowicz@msn.com
END:VEVENT
END:VCALENDAR