BEGIN:VCALENDAR
VERSION:2.0
PRODID:-//MOAC - Maine Outdoor Adventure Club - ECPv6.15.12.1//NONSGML v1.0//EN
CALSCALE:GREGORIAN
METHOD:PUBLISH
X-ORIGINAL-URL:https://moac.org
X-WR-CALDESC:Events for MOAC - Maine Outdoor Adventure Club
REFRESH-INTERVAL;VALUE=DURATION:PT1H
X-Robots-Tag:noindex
X-PUBLISHED-TTL:PT1H
BEGIN:VTIMEZONE
TZID:America/New_York
BEGIN:DAYLIGHT
TZOFFSETFROM:-0500
TZOFFSETTO:-0400
TZNAME:EDT
DTSTART:20210314T070000
END:DAYLIGHT
BEGIN:STANDARD
TZOFFSETFROM:-0400
TZOFFSETTO:-0500
TZNAME:EST
DTSTART:20211107T060000
END:STANDARD
BEGIN:DAYLIGHT
TZOFFSETFROM:-0500
TZOFFSETTO:-0400
TZNAME:EDT
DTSTART:20220313T070000
END:DAYLIGHT
BEGIN:STANDARD
TZOFFSETFROM:-0400
TZOFFSETTO:-0500
TZNAME:EST
DTSTART:20221106T060000
END:STANDARD
BEGIN:DAYLIGHT
TZOFFSETFROM:-0500
TZOFFSETTO:-0400
TZNAME:EDT
DTSTART:20230312T070000
END:DAYLIGHT
BEGIN:STANDARD
TZOFFSETFROM:-0400
TZOFFSETTO:-0500
TZNAME:EST
DTSTART:20231105T060000
END:STANDARD
END:VTIMEZONE
BEGIN:VEVENT
DTSTART;TZID=America/New_York:20220514T093000
DTEND;TZID=America/New_York:20220517T170000
DTSTAMP:20260421T190615
CREATED:20220513T170034Z
LAST-MODIFIED:20220513T170039Z
UID:10000404-1652520600-1652806800@moac.org
SUMMARY:Ready the Emily Jane!
DESCRIPTION:Yes!  Have you ever dreamed of getting a boat ready for launch?  Well\, it’s come true!  Indeed!..a rare chance to clean\, paint and polish a yacht right at the marina!  Be the envy of all your friends!  Launching Wednesday!  Opportunities Saturday thtough Monday.  Give me a call and start your adventure today!
URL:https://moac.org/event/ready-the-emily-jane/
CATEGORIES:Sailing/Boating
ATTACH;FMTTYPE=image/jpeg:https://moac.org/wp-content/uploads/IMG_20220513_121917057_HDR-1.jpg
END:VEVENT
BEGIN:VEVENT
DTSTART;TZID=America/New_York:20220516T180000
DTEND;TZID=America/New_York:20220516T200000
DTSTAMP:20260421T190615
CREATED:20220420T140542Z
LAST-MODIFIED:20221018T170817Z
UID:10000459-1652724000-1652731200@moac.org
SUMMARY:Sunset Beach Walk at Pinepoint
DESCRIPTION:The Pine Point Beach walk will take a break after the October 24 walk. As always\, only if the weather is sensible. \nMeet at 6pm in the Scarborough Municipal Parking Lot on Avenue 5 (off King St.) in Pinepoint\, Scarborough. Walk at your own pace and as far as you wish! \nThe more the merrier!
URL:https://moac.org/event/sunset-beach-walk-at-pinepoint/2022-05-16/
CATEGORIES:Walking
END:VEVENT
END:VCALENDAR