BEGIN:VCALENDAR
VERSION:2.0
PRODID:-//MOAC - Maine Outdoor Adventure Club - ECPv6.15.12.1//NONSGML v1.0//EN
CALSCALE:GREGORIAN
METHOD:PUBLISH
X-WR-CALNAME:MOAC - Maine Outdoor Adventure Club
X-ORIGINAL-URL:https://moac.org
X-WR-CALDESC:Events for MOAC - Maine Outdoor Adventure Club
REFRESH-INTERVAL;VALUE=DURATION:PT1H
X-Robots-Tag:noindex
X-PUBLISHED-TTL:PT1H
BEGIN:VTIMEZONE
TZID:America/New_York
BEGIN:DAYLIGHT
TZOFFSETFROM:-0500
TZOFFSETTO:-0400
TZNAME:EDT
DTSTART:20210314T070000
END:DAYLIGHT
BEGIN:STANDARD
TZOFFSETFROM:-0400
TZOFFSETTO:-0500
TZNAME:EST
DTSTART:20211107T060000
END:STANDARD
BEGIN:DAYLIGHT
TZOFFSETFROM:-0500
TZOFFSETTO:-0400
TZNAME:EDT
DTSTART:20220313T070000
END:DAYLIGHT
BEGIN:STANDARD
TZOFFSETFROM:-0400
TZOFFSETTO:-0500
TZNAME:EST
DTSTART:20221106T060000
END:STANDARD
BEGIN:DAYLIGHT
TZOFFSETFROM:-0500
TZOFFSETTO:-0400
TZNAME:EDT
DTSTART:20230312T070000
END:DAYLIGHT
BEGIN:STANDARD
TZOFFSETFROM:-0400
TZOFFSETTO:-0500
TZNAME:EST
DTSTART:20231105T060000
END:STANDARD
END:VTIMEZONE
BEGIN:VEVENT
DTSTART;TZID=America/New_York:20220519T173000
DTEND;TZID=America/New_York:20220519T190000
DTSTAMP:20260421T070214
CREATED:20220516T141028Z
LAST-MODIFIED:20220519T123943Z
UID:10000512-1652981400-1652986800@moac.org
SUMMARY:Fore River Sanctuary — Jewell Falls
DESCRIPTION:Join me for an easy hike in the Fore River Sanctuary to Jewell Falls.  Distance is probably around a total of 3 miles.  Meet at the Maine Orthopaedic Center’s parking lot on Frost Street which is located between Congress and Capisic Streets. \nRain will cancel. \n 
URL:https://moac.org/event/fore-river-sanctuary-jewell-falls/
CATEGORIES:Hiking
ORGANIZER;CN="Bonnie Farrand":MAILTO:Bonniefarrand@gmail.com
END:VEVENT
BEGIN:VEVENT
DTSTART;TZID=America/New_York:20220519T180000
DTEND;TZID=America/New_York:20220519T200000
DTSTAMP:20260421T070214
CREATED:20220512T001900Z
LAST-MODIFIED:20220519T121229Z
UID:10000399-1652983200-1652990400@moac.org
SUMMARY:Sunset on the Bay by Campfire!
DESCRIPTION:Come join us by a campfire on the water and watch the sunset!  Talk trash.  Solve social issues and more!  Bring a chair\, better yet –  a drink!  Hot dogs!  Be still your heart!  Weather forecasts a splendid evrning!  7 Ballard St\, South Portland in the back behind the barn….shhhh don’t tell anybody.
URL:https://moac.org/event/sunset-on-the-bay-by-campfire/
END:VEVENT
END:VCALENDAR