BEGIN:VCALENDAR
VERSION:2.0
PRODID:-//MOAC - Maine Outdoor Adventure Club - ECPv6.15.12.1//NONSGML v1.0//EN
CALSCALE:GREGORIAN
METHOD:PUBLISH
X-WR-CALNAME:MOAC - Maine Outdoor Adventure Club
X-ORIGINAL-URL:https://moac.org
X-WR-CALDESC:Events for MOAC - Maine Outdoor Adventure Club
REFRESH-INTERVAL;VALUE=DURATION:PT1H
X-Robots-Tag:noindex
X-PUBLISHED-TTL:PT1H
BEGIN:VTIMEZONE
TZID:America/New_York
BEGIN:DAYLIGHT
TZOFFSETFROM:-0500
TZOFFSETTO:-0400
TZNAME:EDT
DTSTART:20210314T070000
END:DAYLIGHT
BEGIN:STANDARD
TZOFFSETFROM:-0400
TZOFFSETTO:-0500
TZNAME:EST
DTSTART:20211107T060000
END:STANDARD
BEGIN:DAYLIGHT
TZOFFSETFROM:-0500
TZOFFSETTO:-0400
TZNAME:EDT
DTSTART:20220313T070000
END:DAYLIGHT
BEGIN:STANDARD
TZOFFSETFROM:-0400
TZOFFSETTO:-0500
TZNAME:EST
DTSTART:20221106T060000
END:STANDARD
BEGIN:DAYLIGHT
TZOFFSETFROM:-0500
TZOFFSETTO:-0400
TZNAME:EDT
DTSTART:20230312T070000
END:DAYLIGHT
BEGIN:STANDARD
TZOFFSETFROM:-0400
TZOFFSETTO:-0500
TZNAME:EST
DTSTART:20231105T060000
END:STANDARD
END:VTIMEZONE
BEGIN:VEVENT
DTSTART;TZID=America/New_York:20220525T173000
DTEND;TZID=America/New_York:20220525T190000
DTSTAMP:20260421T053600
CREATED:20220522T180959Z
LAST-MODIFIED:20220522T181110Z
UID:10000406-1653499800-1653505200@moac.org
SUMMARY:Back Cove Walk
DESCRIPTION:Join me on a 3.5 mile loop around Back Cove. Meet in the parking lot across from Hannafords at 5:30pm (at the end farthest from downtown). Show and go\, no need to email leader. Newcomers welcome!
URL:https://moac.org/event/back-cove-walk/
ATTACH;FMTTYPE=image/jpeg:https://moac.org/wp-content/uploads/A55DF5D5-93E8-4100-9B70-84FBB4513050_1_201_a.jpeg
ORGANIZER;CN="Ann Hitzrot":MAILTO:ahitzrot@gmail.com
END:VEVENT
BEGIN:VEVENT
DTSTART;TZID=America/New_York:20220525T190000
DTEND;TZID=America/New_York:20220525T220000
DTSTAMP:20260421T053600
CREATED:20220410T164004Z
LAST-MODIFIED:20220410T181531Z
UID:10000440-1653505200-1653516000@moac.org
SUMMARY:Banff Mountain Film Festival World Tour
DESCRIPTION:Banff returns to State Theater! Different films each night! \nClick HERE for online tickets. \nClick HERE for additional information.
URL:https://moac.org/event/banff-mountain-film-festival-world-tour/2022-05-25/
CATEGORIES:Camping,Happy Hour/Dancing,Hiking,Kayaking/Canoeing,Mountain Biking,Other/General,Road Biking,Sailing/Boating,Skating,Skiing-Downhill,Skiing-XC/Classic/Skate,Snowshoeing,Walking
ATTACH;FMTTYPE=image/jpeg:https://moac.org/wp-content/uploads/banff-mountain-film-festival-world-tour-2022.jpeg
END:VEVENT
END:VCALENDAR