BEGIN:VCALENDAR
VERSION:2.0
PRODID:-//MOAC - Maine Outdoor Adventure Club - ECPv6.15.12.1//NONSGML v1.0//EN
CALSCALE:GREGORIAN
METHOD:PUBLISH
X-WR-CALNAME:MOAC - Maine Outdoor Adventure Club
X-ORIGINAL-URL:https://moac.org
X-WR-CALDESC:Events for MOAC - Maine Outdoor Adventure Club
REFRESH-INTERVAL;VALUE=DURATION:PT1H
X-Robots-Tag:noindex
X-PUBLISHED-TTL:PT1H
BEGIN:VTIMEZONE
TZID:America/New_York
BEGIN:DAYLIGHT
TZOFFSETFROM:-0500
TZOFFSETTO:-0400
TZNAME:EDT
DTSTART:20210314T070000
END:DAYLIGHT
BEGIN:STANDARD
TZOFFSETFROM:-0400
TZOFFSETTO:-0500
TZNAME:EST
DTSTART:20211107T060000
END:STANDARD
BEGIN:DAYLIGHT
TZOFFSETFROM:-0500
TZOFFSETTO:-0400
TZNAME:EDT
DTSTART:20220313T070000
END:DAYLIGHT
BEGIN:STANDARD
TZOFFSETFROM:-0400
TZOFFSETTO:-0500
TZNAME:EST
DTSTART:20221106T060000
END:STANDARD
BEGIN:DAYLIGHT
TZOFFSETFROM:-0500
TZOFFSETTO:-0400
TZNAME:EDT
DTSTART:20230312T070000
END:DAYLIGHT
BEGIN:STANDARD
TZOFFSETFROM:-0400
TZOFFSETTO:-0500
TZNAME:EST
DTSTART:20231105T060000
END:STANDARD
END:VTIMEZONE
BEGIN:VEVENT
DTSTART;TZID=America/New_York:20220527T120000
DTEND;TZID=America/New_York:20220530T150000
DTSTAMP:20260421T114107
CREATED:20220427T121927Z
LAST-MODIFIED:20220427T132157Z
UID:10000483-1653652800-1653922800@moac.org
SUMMARY:Camping at Acadia National Park
DESCRIPTION:After a 2-year absence\, I am resurrecting the annual MOAC Memorial Weekend camping trip at Acadia National Park.  We will be camping at Bar Harbor Campground.   See link:  https://www.thebarharborcampground.com/  Please review so that you are aware of the campground rules\, etc.  I am estimating costs for tenting is between $32.00 and $35.00 per night.   They do not take credit cards or reservations but we have never had issues securing sites.  We generally camp along Loop “B”. \nThe plan will be to bike the Carriage paths or hike. \nHopefully the weather will cooperate.  If not\, we can bail at the last minute. \n  \n 
URL:https://moac.org/event/camping-at-acadia-national-park/
CATEGORIES:Camping
ORGANIZER;CN="Bonnie Farrand":MAILTO:Bonniefarrand@gmail.com
END:VEVENT
BEGIN:VEVENT
DTSTART;TZID=America/New_York:20220527T180000
DTEND;TZID=America/New_York:20220530T170000
DTSTAMP:20260421T114107
CREATED:20220503T141850Z
LAST-MODIFIED:20220526T141118Z
UID:10000492-1653674400-1653930000@moac.org
SUMMARY:West Branch Penobscot Canoe Trip!
DESCRIPTION:Traditional Memorial Day Weekend Canoe Trip!  This year – historic and classic West Branch of the Penobscot!  Come meet the ghost of Thoreau!  Be a part of a log jam!  Leave a note for the boss and some TV dinners for the kids!  Take control!  Easy canoeing (I’ll eat those words maybe..)\, no portages.  Novices invited!  We always have extra canoes and partners!  All you need is a tent\, sleeping bag\, change of clothes\, and rabbits foot!  Food and cooking catered! ?  Cheap!  – maybe $40  High Class Trip!  Picture yourself by the campfire\, with a loving companion peeling grapes for you and whispering….with the loons…. \nUpdate Details!…The plan… \nCanoe the river to the north end of Chesuncook Lake\, then around Gero Island taking out at Chesuncook Village/Graveyard Point.  We are NOT going down the Lake!  This gives us options as conditions or time dictate.  At this point\, we have 8 people going and can have a couple more!  Don’t wish you had said yes watching the grass grow at home!
URL:https://moac.org/event/west-branch-penobscot-canoe-trip/
CATEGORIES:Kayaking/Canoeing
ATTACH;FMTTYPE=image/jpeg:https://moac.org/wp-content/uploads/IMG_20220116_131250944_HDR.jpg
END:VEVENT
END:VCALENDAR