BEGIN:VCALENDAR
VERSION:2.0
PRODID:-//MOAC - Maine Outdoor Adventure Club - ECPv6.15.12.1//NONSGML v1.0//EN
CALSCALE:GREGORIAN
METHOD:PUBLISH
X-ORIGINAL-URL:https://moac.org
X-WR-CALDESC:Events for MOAC - Maine Outdoor Adventure Club
REFRESH-INTERVAL;VALUE=DURATION:PT1H
X-Robots-Tag:noindex
X-PUBLISHED-TTL:PT1H
BEGIN:VTIMEZONE
TZID:America/New_York
BEGIN:DAYLIGHT
TZOFFSETFROM:-0500
TZOFFSETTO:-0400
TZNAME:EDT
DTSTART:20230312T070000
END:DAYLIGHT
BEGIN:STANDARD
TZOFFSETFROM:-0400
TZOFFSETTO:-0500
TZNAME:EST
DTSTART:20231105T060000
END:STANDARD
BEGIN:DAYLIGHT
TZOFFSETFROM:-0500
TZOFFSETTO:-0400
TZNAME:EDT
DTSTART:20240310T070000
END:DAYLIGHT
BEGIN:STANDARD
TZOFFSETFROM:-0400
TZOFFSETTO:-0500
TZNAME:EST
DTSTART:20241103T060000
END:STANDARD
BEGIN:DAYLIGHT
TZOFFSETFROM:-0500
TZOFFSETTO:-0400
TZNAME:EDT
DTSTART:20250309T070000
END:DAYLIGHT
BEGIN:STANDARD
TZOFFSETFROM:-0400
TZOFFSETTO:-0500
TZNAME:EST
DTSTART:20251102T060000
END:STANDARD
END:VTIMEZONE
BEGIN:VEVENT
DTSTART;TZID=America/New_York:20240510T173000
DTEND;TZID=America/New_York:20240510T200000
DTSTAMP:20260421T184908
CREATED:20240509T025731Z
LAST-MODIFIED:20240509T025731Z
UID:10003189-1715362200-1715371200@moac.org
SUMMARY:HAPPY HOUR
DESCRIPTION:We’re in that interim period when the weather is warming up and the tourists haven’t yet arrived. It’s a good time to go back to the Old Port. HAPPY HOUR this Friday will be at THREE DOLLAR DEWEYS located at 241 Commercial Street. Reasonable drink prices\, good food\, free popcorn\, all in a long-table atmosphere. Free parking along Commercial Street up by Becky’s and also at all meters after 6:00PM.
URL:https://moac.org/event/happy-hour-108/
CATEGORIES:Happy Hour/Dancing
END:VEVENT
END:VCALENDAR