BEGIN:VCALENDAR
VERSION:2.0
PRODID:-//MOAC - Maine Outdoor Adventure Club - ECPv6.15.12.1//NONSGML v1.0//EN
CALSCALE:GREGORIAN
METHOD:PUBLISH
X-WR-CALNAME:MOAC - Maine Outdoor Adventure Club
X-ORIGINAL-URL:https://moac.org
X-WR-CALDESC:Events for MOAC - Maine Outdoor Adventure Club
REFRESH-INTERVAL;VALUE=DURATION:PT1H
X-Robots-Tag:noindex
X-PUBLISHED-TTL:PT1H
BEGIN:VTIMEZONE
TZID:America/New_York
BEGIN:DAYLIGHT
TZOFFSETFROM:-0500
TZOFFSETTO:-0400
TZNAME:EDT
DTSTART:20230312T070000
END:DAYLIGHT
BEGIN:STANDARD
TZOFFSETFROM:-0400
TZOFFSETTO:-0500
TZNAME:EST
DTSTART:20231105T060000
END:STANDARD
BEGIN:DAYLIGHT
TZOFFSETFROM:-0500
TZOFFSETTO:-0400
TZNAME:EDT
DTSTART:20240310T070000
END:DAYLIGHT
BEGIN:STANDARD
TZOFFSETFROM:-0400
TZOFFSETTO:-0500
TZNAME:EST
DTSTART:20241103T060000
END:STANDARD
BEGIN:DAYLIGHT
TZOFFSETFROM:-0500
TZOFFSETTO:-0400
TZNAME:EDT
DTSTART:20250309T070000
END:DAYLIGHT
BEGIN:STANDARD
TZOFFSETFROM:-0400
TZOFFSETTO:-0500
TZNAME:EST
DTSTART:20251102T060000
END:STANDARD
END:VTIMEZONE
BEGIN:VEVENT
DTSTART;TZID=America/New_York:20240516T080000
DTEND;TZID=America/New_York:20240516T143000
DTSTAMP:20260421T142523
CREATED:20240516T213613Z
LAST-MODIFIED:20240516T214309Z
UID:10003197-1715846400-1715869800@moac.org
SUMMARY:Cancelled I put in the wrong date oops!  Monroe Gravel Rambler
DESCRIPTION:There is a group gravel ride scheduled for Sunday.  I missed the cut off for registration\, so I’m planning on riding it in saturday \n45 miles of gravel in Monroe ME. \nHere’s the route:  https://ridewithgps.com/routes/46675072 \nabout 50% gravel 50% paved. \nBest ride would be a gravel bike.  Second choice would be a MTB\, though it will be slower.  Not suitable for road bikes due to gravel roads and double track. \n 
URL:https://moac.org/event/monroe-gravel-rambler/
CATEGORIES:Mountain Biking
ORGANIZER;CN="Marc Richardson":MAILTO:richardson.marc@gmail.com
END:VEVENT
END:VCALENDAR