BEGIN:VCALENDAR
VERSION:2.0
PRODID:-//MOAC - Maine Outdoor Adventure Club - ECPv6.15.12.1//NONSGML v1.0//EN
CALSCALE:GREGORIAN
METHOD:PUBLISH
X-WR-CALNAME:MOAC - Maine Outdoor Adventure Club
X-ORIGINAL-URL:https://moac.org
X-WR-CALDESC:Events for MOAC - Maine Outdoor Adventure Club
REFRESH-INTERVAL;VALUE=DURATION:PT1H
X-Robots-Tag:noindex
X-PUBLISHED-TTL:PT1H
BEGIN:VTIMEZONE
TZID:America/New_York
BEGIN:DAYLIGHT
TZOFFSETFROM:-0500
TZOFFSETTO:-0400
TZNAME:EDT
DTSTART:20230312T070000
END:DAYLIGHT
BEGIN:STANDARD
TZOFFSETFROM:-0400
TZOFFSETTO:-0500
TZNAME:EST
DTSTART:20231105T060000
END:STANDARD
BEGIN:DAYLIGHT
TZOFFSETFROM:-0500
TZOFFSETTO:-0400
TZNAME:EDT
DTSTART:20240310T070000
END:DAYLIGHT
BEGIN:STANDARD
TZOFFSETFROM:-0400
TZOFFSETTO:-0500
TZNAME:EST
DTSTART:20241103T060000
END:STANDARD
BEGIN:DAYLIGHT
TZOFFSETFROM:-0500
TZOFFSETTO:-0400
TZNAME:EDT
DTSTART:20250309T070000
END:DAYLIGHT
BEGIN:STANDARD
TZOFFSETFROM:-0400
TZOFFSETTO:-0500
TZNAME:EST
DTSTART:20251102T060000
END:STANDARD
END:VTIMEZONE
BEGIN:VEVENT
DTSTART;TZID=America/New_York:20240524T110000
DTEND;TZID=America/New_York:20240527T140000
DTSTAMP:20260421T070157
CREATED:20240328T193012Z
LAST-MODIFIED:20240429T233400Z
UID:10001326-1716548400-1716818400@moac.org
SUMMARY:ACADIA CAMPING\, BIKING\, AND HIKING
DESCRIPTION:Seawall is now full for the weekend.  If interested in going to Acadia\, please check Bass Harbor Campground which is nearby. \n  \nFor many years\, it has been a MOAC tradition to go to Bar Harbor Campground for Memorial Weekend.  Unfortunately\, the campground has been sold to a large corporation and is no longer a “first come\, first serve” facility.  I am finding the price points too expensive for me to want to make a reservation. \nI have booked a site at Seawall Campground which is part of Acadia National Park.  Reservations can only be made 2 months in advance so Memorial Weekend has just opened up and is filling up very quickly.  As of 3:30PM \, 3/28\, there are 22 campsites still left.  Most are in Loop C.  If interested\, you must act NOW!!!  Cost is $30 per night with a 50% discount for anyone having a National Park Lifetime Senior Pass.  Go to: www.recreation.gov to make reservations.  Also\, you can cancel two days in advance for a $10 cancellation fee if the weather does not cooperate.
URL:https://moac.org/event/acadia-camping-biking-and-hiking-please-read-if-you-have-any-interest-as-this-is-time-sensitive/
CATEGORIES:Camping
ORGANIZER;CN="Bonnie Farrand":MAILTO:Bonniefarrand@gmail.com
END:VEVENT
BEGIN:VEVENT
DTSTART;VALUE=DATE:20240525
DTEND;VALUE=DATE:20240526
DTSTAMP:20260421T070157
CREATED:20240522T133118Z
LAST-MODIFIED:20240522T133552Z
UID:10003209-1716595200-1716681599@moac.org
SUMMARY:10 mile+ day hike at Pleasant Mountain\, Bridgton
DESCRIPTION:I’ll be day hiking Pleasant Mountain in Bridgton Sat and Sun with fully loaded pack in preparation for 100 mile wilderness backpack later this summer. \nPace: approx: 2 miles/hour \nMileage: 10-12 miles each day \nElev gain expected: 2\,000 ft or more \nLooking for: 2-4 others to join me — seasoned hikers who are comfortable with pace\, or those less familiar with longer day hikes who have fitness level to go at that pace.
URL:https://moac.org/event/10-mile-day-hikes-at-pleasant-mountain-bridgton-sat-and-sun-5-25-and-5-26/
CATEGORIES:Hiking
ATTACH;FMTTYPE=image/png:https://moac.org/wp-content/uploads/Screenshot-2024-05-22-at-9.25.12 AM.png
ORGANIZER;CN="Susy Kist":MAILTO:map.lover@outlook.com
END:VEVENT
BEGIN:VEVENT
DTSTART;TZID=America/New_York:20240525T090000
DTEND;TZID=America/New_York:20240525T153000
DTSTAMP:20260421T070157
CREATED:20240518T235810Z
LAST-MODIFIED:20240519T000518Z
UID:10003202-1716627600-1716651000@moac.org
SUMMARY:Hike/bike Acadia adventure
DESCRIPTION:This has been a traditional MOAC adventure for many years\, (thanks to Jim Lennox).  We will meet at the end of Duck Brook Road in Bar Harbor at 9AM sharp and bike the carriage trails with a couple of small hikes thrown in.  Bike for a bit\, then hike Conners Nubble\, a short but fairly steep .1 mile with a great view of Eagle Lake.  Back onto the bikes and head for the challenging Around the Mountain trail.  Stop and hike Parkman Mountain\, 1 mile round trip.  Back onto the bikes\, next stop will be Jordan Pond.  If we are feeling extremely ambitious\, we might do Day Mountain\, another 1 mile round trip.  Total biking miles are 18 to 20 miles.  Road bikes are not acceptable on the carriage paths\, helmets are mandatory.  Assume this is a full day but if folks want to start with us and create their own route\, that is entirely acceptable.  Park pass is required to park on Duck Brook Road.  Bring lunch and plenty of water although water bottles can be refilled at Jordan Pond.
URL:https://moac.org/event/hike-bike-acadia-adventure/
CATEGORIES:Mountain Biking
ORGANIZER;CN="Bonnie Farrand":MAILTO:Bonniefarrand@gmail.com
END:VEVENT
BEGIN:VEVENT
DTSTART;TZID=America/New_York:20240525T100000
DTEND;TZID=America/New_York:20240525T170000
DTSTAMP:20260421T070157
CREATED:20240524T010227Z
LAST-MODIFIED:20240524T010227Z
UID:10003212-1716631200-1716656400@moac.org
SUMMARY:Eastern Trail Ride.  40 Miles Scarborough to Kennybunk
DESCRIPTION:Starting from the top of the eastern trail\, off of Black Point Road in Scarborough at 10:00 this Saturday  We’ll go to the end of the trail section of the Eastern Trail in Kennybunk\, and back again.  There isn’t a trail through Biddeford\, so we can go one way down and another way back to break it up a bit.  The whole ride is just shy of 40 miles\, mostly flat\, and probably more than half on gravel\, some through Biddeford\, and some of that not the nicest biking\, but it gets nice again soon.\n\nAim to meet at 10AM on Saturday.  Feel free to turn around sooner if that’s too long a ride.  We can stop somewhere along the way for a beer and lunch.  Very Civilized.  Biddeford has a ton to offer these days too.  The whole thing will take about 5 hours. Text me at 207 323.1805 if you’re planning on coming.\n  \nHere is the ride. \nhttps://www.google.com/maps/dir/Eastern+Trail+Scarborough\,+Scarborough\,+ME/43.4132286\,-70.5677192/Eastern+Trail+Scarborough\,+Scarborough\,+ME/@43.4952345\,-70.5423517\,20577m/data=!3m2!1e3!4b1!4m15!4m14!1m5!1m1!1s0x4cb299ccc2601687:0x8394b8bbbfa60a7e!2m2!1d-70.3384599!2d43.581583!1m0!1m5!1m1!1s0x4cb299ccc2601687:0x8394b8bbbfa60a7e!2m2!1d-70.3384599!2d43.581583!3e1!5m1!1e3?entry=ttu
URL:https://moac.org/event/eastern-trail-ride-40-miles-scarborough-to-kennybunk/
ORGANIZER;CN="Pat Coon":MAILTO:patrickjamescoon@gmail.com
END:VEVENT
BEGIN:VEVENT
DTSTART;TZID=America/New_York:20240525T140000
DTEND;TZID=America/New_York:20240525T183000
DTSTAMP:20260421T070157
CREATED:20240520T164811Z
LAST-MODIFIED:20240521T115830Z
UID:10003204-1716645600-1716661800@moac.org
SUMMARY:Sailing Saturday 5/25
DESCRIPTION:Saturday is now full. There is space on the Sunday and Monday sails. \n\nLet’s go sailing on S/V Beyond 2\, my Cape Dory 36 Sailboat\, moored in Falmouth. \nI plan to sail from 2-6ish in the afternoon\, and may stay out later to watch the sunset if people want. Please reply back with a brief description of your sailing experience\, whether you have been on my boat before\, and your cell phone and email for planning the carpool. Parking is $20/car for non-members\, so we should fit as many as possible in one car. My car is free as a member. Rain\, fog\, or strong winds will cancel this event\, so watch your email for updates. \nPlease Bring: \n\nWater\nSnacks to share\nGood close-toe non marking shoes (sneakers or closed-toe sandals are fine…no flip flops)\nLayers for outdoor activity\, including a warm sweater or jacket\nRain jacket\nSunglasses and sunscreen\nCash for parking
URL:https://moac.org/event/sailing-saturday-5-25/
CATEGORIES:Sailing/Boating
ATTACH;FMTTYPE=image/jpeg:https://moac.org/wp-content/uploads/Beyond-2-rotated.jpg
ORGANIZER;CN="Sarah":MAILTO:sarah.joness@gmail.com
END:VEVENT
END:VCALENDAR