BEGIN:VCALENDAR
VERSION:2.0
PRODID:-//MOAC - Maine Outdoor Adventure Club - ECPv6.15.12.1//NONSGML v1.0//EN
CALSCALE:GREGORIAN
METHOD:PUBLISH
X-WR-CALNAME:MOAC - Maine Outdoor Adventure Club
X-ORIGINAL-URL:https://moac.org
X-WR-CALDESC:Events for MOAC - Maine Outdoor Adventure Club
REFRESH-INTERVAL;VALUE=DURATION:PT1H
X-Robots-Tag:noindex
X-PUBLISHED-TTL:PT1H
BEGIN:VTIMEZONE
TZID:America/New_York
BEGIN:DAYLIGHT
TZOFFSETFROM:-0500
TZOFFSETTO:-0400
TZNAME:EDT
DTSTART:20230312T070000
END:DAYLIGHT
BEGIN:STANDARD
TZOFFSETFROM:-0400
TZOFFSETTO:-0500
TZNAME:EST
DTSTART:20231105T060000
END:STANDARD
BEGIN:DAYLIGHT
TZOFFSETFROM:-0500
TZOFFSETTO:-0400
TZNAME:EDT
DTSTART:20240310T070000
END:DAYLIGHT
BEGIN:STANDARD
TZOFFSETFROM:-0400
TZOFFSETTO:-0500
TZNAME:EST
DTSTART:20241103T060000
END:STANDARD
BEGIN:DAYLIGHT
TZOFFSETFROM:-0500
TZOFFSETTO:-0400
TZNAME:EDT
DTSTART:20250309T070000
END:DAYLIGHT
BEGIN:STANDARD
TZOFFSETFROM:-0400
TZOFFSETTO:-0500
TZNAME:EST
DTSTART:20251102T060000
END:STANDARD
END:VTIMEZONE
BEGIN:VEVENT
DTSTART;TZID=America/New_York:20240530T173000
DTEND;TZID=America/New_York:20240530T193000
DTSTAMP:20260421T081647
CREATED:20240524T134236Z
LAST-MODIFIED:20240524T134525Z
UID:10003213-1717090200-1717097400@moac.org
SUMMARY:Peaks Island Walk
DESCRIPTION:Join us for a walk around Peaks Island and travel back on the sunset ferry. Leave enough time to park on the Portland side and purchase tickets to catch the 5:25 pm ferry. We will walk counterclockwise the loop road and return via the 7:45 pm ferry. There are gardens and ocean views all along the way. Rates go up June 1 for non-seniors\, so this is a good time to go. Pack a sandwich or picnic to enjoy as we stop at the halfway rocks\, or stay later if you like for a restaurant dinner on Peaks.Email me if you have questions.
URL:https://moac.org/event/peaks-island-walk-2/
CATEGORIES:Walking
ORGANIZER;CN="Helen Hemminger":MAILTO:seagirl81@gmail.com
END:VEVENT
END:VCALENDAR