BEGIN:VCALENDAR
VERSION:2.0
PRODID:-//MOAC - Maine Outdoor Adventure Club - ECPv6.15.12.1//NONSGML v1.0//EN
CALSCALE:GREGORIAN
METHOD:PUBLISH
X-ORIGINAL-URL:https://moac.org
X-WR-CALDESC:Events for MOAC - Maine Outdoor Adventure Club
REFRESH-INTERVAL;VALUE=DURATION:PT1H
X-Robots-Tag:noindex
X-PUBLISHED-TTL:PT1H
BEGIN:VTIMEZONE
TZID:America/New_York
BEGIN:DAYLIGHT
TZOFFSETFROM:-0500
TZOFFSETTO:-0400
TZNAME:EDT
DTSTART:20230312T070000
END:DAYLIGHT
BEGIN:STANDARD
TZOFFSETFROM:-0400
TZOFFSETTO:-0500
TZNAME:EST
DTSTART:20231105T060000
END:STANDARD
BEGIN:DAYLIGHT
TZOFFSETFROM:-0500
TZOFFSETTO:-0400
TZNAME:EDT
DTSTART:20240310T070000
END:DAYLIGHT
BEGIN:STANDARD
TZOFFSETFROM:-0400
TZOFFSETTO:-0500
TZNAME:EST
DTSTART:20241103T060000
END:STANDARD
BEGIN:DAYLIGHT
TZOFFSETFROM:-0500
TZOFFSETTO:-0400
TZNAME:EDT
DTSTART:20250309T070000
END:DAYLIGHT
BEGIN:STANDARD
TZOFFSETFROM:-0400
TZOFFSETTO:-0500
TZNAME:EST
DTSTART:20251102T060000
END:STANDARD
END:VTIMEZONE
BEGIN:VEVENT
DTSTART;TZID=America/New_York:20240603T103000
DTEND;TZID=America/New_York:20240603T123000
DTSTAMP:20260419T124253
CREATED:20240531T195612Z
LAST-MODIFIED:20240602T130120Z
UID:10003217-1717410600-1717417800@moac.org
SUMMARY:Bike and picnic\, Papermill Trail and Androscoggin River Trail\, Lisbon
DESCRIPTION:Bike and picnic\, Papermill Trail and Androscoggin River Trail\, Lisbon  \nWhat: About 7 miles round trip along the Androscoggin and Sabattus rivers. The trails are wide and paved\, generally flat with some rolling hills. We’ll see ruins of a mill and stunning river views. A relaxed ride followed by optional picnic (BYO) riverside. \nWhen: Monday\, June 3\, 10:30 am -12:30 pm \nWhere: Meet in the municipal parking lot on Capital Ave.\, Lisbon. This is NOT Miller Park\, where the two rivers meet at the boat launch. From Rt 196/Lisbon St.\, turn onto Capital Avenue (McDonald’s and Walgreen’s are at the intersection). Turn right at Lisbon Fuel to remain on Capital Avenue. After the road curves to the left\, turn right onto the unnamed road. Go slightly downhill into the parking lot. On Google maps\, it’s labeled “Lisbon Rail Trail Parking.” On the ground\, I didn’t see any signs. The nearest business is Enterprise Electric\, 46 Capital Ave. \nWho: Laura Williams. Please email me to let me know you’re coming and include your cell number in case there’s a last-minute change. The day of\, please text or phone me at (207) 239-2913 rather than emailing if you need to reach me. I will cancel on the MOAC website by 8 am the day of if there are no sign-ups.
URL:https://moac.org/event/bike-and-picnic-papermill-trail-and-androscoggin-river-trail-lisbon/
ATTACH;FMTTYPE=image/jpeg:https://moac.org/wp-content/uploads/Rail-trail-Lisbon.jpg
ORGANIZER;CN="Laura Williams":MAILTO:llwilliams@maine.rr.com
END:VEVENT
BEGIN:VEVENT
DTSTART;TZID=America/New_York:20240603T173000
DTEND;TZID=America/New_York:20240603T190000
DTSTAMP:20260419T124253
CREATED:20240602T114541Z
LAST-MODIFIED:20240602T114541Z
UID:10003218-1717435800-1717441200@moac.org
SUMMARY:Eastern Prom Walk--Portland
DESCRIPTION:It should be a great evening for a walk on the Eastern Prom.  Park on the Prom or the access street to the East End Beach and meet by the restrooms at 5:30. We will walk the Prom as well as the East End Beach Trail.  Distance is approximately 3 1/2 to 4 miles.
URL:https://moac.org/event/eastern-prom-walk-portland/
CATEGORIES:Walking
ORGANIZER;CN="Bonnie Farrand":MAILTO:Bonniefarrand@gmail.com
END:VEVENT
END:VCALENDAR