BEGIN:VCALENDAR
VERSION:2.0
PRODID:-//MOAC - Maine Outdoor Adventure Club - ECPv6.15.12.1//NONSGML v1.0//EN
CALSCALE:GREGORIAN
METHOD:PUBLISH
X-ORIGINAL-URL:https://moac.org
X-WR-CALDESC:Events for MOAC - Maine Outdoor Adventure Club
REFRESH-INTERVAL;VALUE=DURATION:PT1H
X-Robots-Tag:noindex
X-PUBLISHED-TTL:PT1H
BEGIN:VTIMEZONE
TZID:America/New_York
BEGIN:DAYLIGHT
TZOFFSETFROM:-0500
TZOFFSETTO:-0400
TZNAME:EDT
DTSTART:20230312T070000
END:DAYLIGHT
BEGIN:STANDARD
TZOFFSETFROM:-0400
TZOFFSETTO:-0500
TZNAME:EST
DTSTART:20231105T060000
END:STANDARD
BEGIN:DAYLIGHT
TZOFFSETFROM:-0500
TZOFFSETTO:-0400
TZNAME:EDT
DTSTART:20240310T070000
END:DAYLIGHT
BEGIN:STANDARD
TZOFFSETFROM:-0400
TZOFFSETTO:-0500
TZNAME:EST
DTSTART:20241103T060000
END:STANDARD
BEGIN:DAYLIGHT
TZOFFSETFROM:-0500
TZOFFSETTO:-0400
TZNAME:EDT
DTSTART:20250309T070000
END:DAYLIGHT
BEGIN:STANDARD
TZOFFSETFROM:-0400
TZOFFSETTO:-0500
TZNAME:EST
DTSTART:20251102T060000
END:STANDARD
END:VTIMEZONE
BEGIN:VEVENT
DTSTART;TZID=America/New_York:20240703T140000
DTEND;TZID=America/New_York:20240707T110000
DTSTAMP:20260421T220212
CREATED:20240515T134226Z
LAST-MODIFIED:20240515T134226Z
UID:10003195-1720015200-1720350000@moac.org
SUMMARY:Lamoine State Park\, July 3 - 7
DESCRIPTION:Celebrate July 4th at Lamoine State Park. Group siteB has been reserved for July 3 – 7\, departing Sunday morning. \nOn State Park Road off Route 184 eight (8) miles southeast of Ellsworth on Frenchman’s Bay. \nNestled in the heart of Down east Maine\, this oceanfront park is located in one of the most sought-after vacation regions in the state. Lamoine State Park’s central location is a quiet alternative that provides easy access to Bar Harbor\, Acadia National Park\, rockbound islands\, and many other hiking trails down east. Visitors enjoy camping\, boating\, fishing and simple relaxation in a beautiful location. Park views of Frenchman’s Bay\, and amenities such as the campground facilities and boat launching ramp are some of the park’s highlights. Read more about the park at Lamoine State Park. \nAll kinds of adventures await whether it’s hiking in Acadia\, kayaking Frenchman Bay\, or biking carriage roads or back roads. While Mount Desert Island is only 30 minutes away (on a good day) there is much to see downeast: Tunk Mountain  and the Caribou Loop trails are only 30 minutes away\, too\, and will be less crowded. Lamoine Town Beach and Marlboro Beach provide sea kayaking up the Skilling River\, and Donnell Pond\, a designated jewel of Maine pond\, is thirty minutes away for fresh water kayaking. The Sunrise Rail to Trail provides mountain biking trails from Ellsworth to Machias. For a multi-sport adventure\, bike to the back door hiking trail up Schoodic Mountain. \nTotal rate is $30 for 1\, 2\, 3\, or 4 nights. Registration is limited to 20 campers. Cancellations up to May 31\, after that registration is non-refundable but can be transferred to a buddy. You may opt for fewer nights\, same price\, $30\, but you could transfer your spot to someone else; that will be your responsibility. \nWe will have a pot luck dinner one night and a cook out July 4th. More details will be available. If there is interest\, we can have a boiled lobster dinner one night. \nPLEASE include Lamoine State Park in your subject line when responding. \nMarty Williams\, 207-801-1488 voice or text for questions. You must sign  up through email\, marty@donnellpond.com
URL:https://moac.org/event/lamoine-state-park-july-3-7/
ATTACH;FMTTYPE=image/jpeg:https://moac.org/wp-content/uploads/Lamoine-Sunset-2.jpg
ORGANIZER;CN="MOAC":MAILTO:info@moac.org
END:VEVENT
BEGIN:VEVENT
DTSTART;TZID=America/New_York:20240704T090000
DTEND;TZID=America/New_York:20240704T140000
DTSTAMP:20260421T220212
CREATED:20240703T023234Z
LAST-MODIFIED:20240703T030416Z
UID:10003255-1720083600-1720101600@moac.org
SUMMARY:Hike Long Ledges and Baker Hill\, Sullivan
DESCRIPTION:Frenchman Bay Conservancy has some nice hikes away from the congestion of Acadia NP. These two hikes are moderate hikes through woods and granite. Baker Hill offers great views of Mount Desert Island. There are several possible loops so we can hike as much as we want. After\, we can stop at Tidal Falls. If the timing is right\, the reversing falls should be ripping. There may be some other sites we might like to catch. \nLet’s gather at 9:30 at the campground. It’s about a 25 minute drive to the trail head. Bring a lunch – not that many places and might be busy. \nIf you are not camping with us\, but would like to join\, text me at 207-801-1488.
URL:https://moac.org/event/hike-long-ledges-and-baker-hill-sullivan/
ATTACH;FMTTYPE=image/jpeg:https://moac.org/wp-content/uploads/IMG_9395-2.jpg
ORGANIZER;CN="Martha Williams":MAILTO:marty@donnellpond.com
END:VEVENT
BEGIN:VEVENT
DTSTART;TZID=America/New_York:20240704T173000
DTEND;TZID=America/New_York:20240704T210000
DTSTAMP:20260421T220212
CREATED:20240628T013756Z
LAST-MODIFIED:20240628T013756Z
UID:10003246-1720114200-1720126800@moac.org
SUMMARY:Pot Luck Dinner\, July 4\, Lamoine State Park
DESCRIPTION:Join us at Lamoine State Park for a pot luck dinner and July 4th celebration. Happy Hour and appetizers start at 5:30\, start eating dinner at 6 PM. S’mores after on the campfire. Bring a dish to share and a CHAIR. Import to remember the chair. Campfire included.
URL:https://moac.org/event/pot-luck-dinner-july-4-lamoine-state-park/
ATTACH;FMTTYPE=image/jpeg:https://moac.org/wp-content/uploads/Lamoine-Sunset-3.jpg
ORGANIZER;CN="Martha Williams":MAILTO:marty@donnellpond.com
END:VEVENT
END:VCALENDAR