BEGIN:VCALENDAR
VERSION:2.0
PRODID:-//MOAC - Maine Outdoor Adventure Club - ECPv6.15.12.1//NONSGML v1.0//EN
CALSCALE:GREGORIAN
METHOD:PUBLISH
X-WR-CALNAME:MOAC - Maine Outdoor Adventure Club
X-ORIGINAL-URL:https://moac.org
X-WR-CALDESC:Events for MOAC - Maine Outdoor Adventure Club
REFRESH-INTERVAL;VALUE=DURATION:PT1H
X-Robots-Tag:noindex
X-PUBLISHED-TTL:PT1H
BEGIN:VTIMEZONE
TZID:America/New_York
BEGIN:DAYLIGHT
TZOFFSETFROM:-0500
TZOFFSETTO:-0400
TZNAME:EDT
DTSTART:20240310T070000
END:DAYLIGHT
BEGIN:STANDARD
TZOFFSETFROM:-0400
TZOFFSETTO:-0500
TZNAME:EST
DTSTART:20241103T060000
END:STANDARD
BEGIN:DAYLIGHT
TZOFFSETFROM:-0500
TZOFFSETTO:-0400
TZNAME:EDT
DTSTART:20250309T070000
END:DAYLIGHT
BEGIN:STANDARD
TZOFFSETFROM:-0400
TZOFFSETTO:-0500
TZNAME:EST
DTSTART:20251102T060000
END:STANDARD
BEGIN:DAYLIGHT
TZOFFSETFROM:-0500
TZOFFSETTO:-0400
TZNAME:EDT
DTSTART:20260308T070000
END:DAYLIGHT
BEGIN:STANDARD
TZOFFSETFROM:-0400
TZOFFSETTO:-0500
TZNAME:EST
DTSTART:20261101T060000
END:STANDARD
END:VTIMEZONE
BEGIN:VEVENT
DTSTART;TZID=America/New_York:20250103T080000
DTEND;TZID=America/New_York:20250114T170000
DTSTAMP:20260421T081700
CREATED:20241205T155941Z
LAST-MODIFIED:20241205T160222Z
UID:10003793-1735891200-1736874000@moac.org
SUMMARY:Canoe the Everglades!
DESCRIPTION:Tired of freez’n?  Dog won’t come?  Repo man had the wrong address – only reason you’re not walk’n today?  Your boat has come in!  YOU could be sit’n on a tropical beach\, not a care in the world!..short of be’n gator bait\, indeed a relatively rare occurrence.  10 days of canoeing and camping through the Everglades National Park.  This is a little realized 100 miles of wilderness paddling in lush warm magical tropics\, albeit gator and snake infested.  Wimps need not apply.  El cheapo trip!  Total 10 days including airfare\, canoe rental\, food\, gratuity for esteemed leader under a grand!  Dates are approximate now.  Text Dan@478six835 for less info!
URL:https://moac.org/event/canoe-the-everglades-2/
ATTACH;FMTTYPE=image/jpeg:https://moac.org/wp-content/uploads/PXL_20210118_180916762.MP_.jpg
ORGANIZER;CN="Dan Kidd":MAILTO:pocketcrimper@gmail.com
END:VEVENT
BEGIN:VEVENT
DTSTART;TZID=America/New_York:20250104T083000
DTEND;TZID=America/New_York:20250104T170000
DTSTAMP:20260421T081700
CREATED:20250101T223123Z
LAST-MODIFIED:20250102T022001Z
UID:10003815-1735979400-1736010000@moac.org
SUMMARY:Snowshoe Long Mountain Loop
DESCRIPTION:We’ll meet at a park and ride TBD and drive to the Long mountain loop Trailhead. This loop is 5.6 miles with just under 1\,200 feet of elevation gain. Dress warm in layers and bring both snowshoes and traction since I am not sure of the conditions. Saturday looks sunny and cold. Bring plenty of water and snacks.  The hike will probably take 3.5 hours and the drive is 1.5 hours from Portland. Please email me if you are interested so we can coordinate travel and decide on which trail specifically we want to do. I am open to suggestions.
URL:https://moac.org/event/snowshoe-caribou-mountain-loop-or-nearby/
ATTACH;FMTTYPE=image/jpeg:https://moac.org/wp-content/uploads/1209191030-2.1717613032.jpg
ORGANIZER;CN="Sarah":MAILTO:sarah.joness@gmail.com
END:VEVENT
BEGIN:VEVENT
DTSTART;TZID=America/New_York:20250104T120000
DTEND;TZID=America/New_York:20250104T150000
DTSTAMP:20260421T081700
CREATED:20250103T215848Z
LAST-MODIFIED:20250103T215848Z
UID:10003818-1735992000-1736002800@moac.org
SUMMARY:Ice Skating on Real Pond!
DESCRIPTION:No more of that fake stuff! \nClassic afternoon of skating with a fire on the pond to warm up.  Hot chocolate and marshmallows bring a pad to sit on or a chair!  Mill Pond 1/8 mile north of Rt.25 and Rt. 11 in Limington\, high noon!  Text Dan@478 six835 for counseling!
URL:https://moac.org/event/ice-skating-on-real-pond/
ORGANIZER;CN="Dan Kidd":MAILTO:pocketcrimper@gmail.com
END:VEVENT
END:VCALENDAR