BEGIN:VCALENDAR
VERSION:2.0
PRODID:-//MOAC - Maine Outdoor Adventure Club - ECPv6.15.12.1//NONSGML v1.0//EN
CALSCALE:GREGORIAN
METHOD:PUBLISH
X-WR-CALNAME:MOAC - Maine Outdoor Adventure Club
X-ORIGINAL-URL:https://moac.org
X-WR-CALDESC:Events for MOAC - Maine Outdoor Adventure Club
REFRESH-INTERVAL;VALUE=DURATION:PT1H
X-Robots-Tag:noindex
X-PUBLISHED-TTL:PT1H
BEGIN:VTIMEZONE
TZID:America/New_York
BEGIN:DAYLIGHT
TZOFFSETFROM:-0500
TZOFFSETTO:-0400
TZNAME:EDT
DTSTART:20240310T070000
END:DAYLIGHT
BEGIN:STANDARD
TZOFFSETFROM:-0400
TZOFFSETTO:-0500
TZNAME:EST
DTSTART:20241103T060000
END:STANDARD
BEGIN:DAYLIGHT
TZOFFSETFROM:-0500
TZOFFSETTO:-0400
TZNAME:EDT
DTSTART:20250309T070000
END:DAYLIGHT
BEGIN:STANDARD
TZOFFSETFROM:-0400
TZOFFSETTO:-0500
TZNAME:EST
DTSTART:20251102T060000
END:STANDARD
BEGIN:DAYLIGHT
TZOFFSETFROM:-0500
TZOFFSETTO:-0400
TZNAME:EDT
DTSTART:20260308T070000
END:DAYLIGHT
BEGIN:STANDARD
TZOFFSETFROM:-0400
TZOFFSETTO:-0500
TZNAME:EST
DTSTART:20261101T060000
END:STANDARD
END:VTIMEZONE
BEGIN:VEVENT
DTSTART;TZID=America/New_York:20250103T080000
DTEND;TZID=America/New_York:20250114T170000
DTSTAMP:20260421T081650
CREATED:20241205T155941Z
LAST-MODIFIED:20241205T160222Z
UID:10003793-1735891200-1736874000@moac.org
SUMMARY:Canoe the Everglades!
DESCRIPTION:Tired of freez’n?  Dog won’t come?  Repo man had the wrong address – only reason you’re not walk’n today?  Your boat has come in!  YOU could be sit’n on a tropical beach\, not a care in the world!..short of be’n gator bait\, indeed a relatively rare occurrence.  10 days of canoeing and camping through the Everglades National Park.  This is a little realized 100 miles of wilderness paddling in lush warm magical tropics\, albeit gator and snake infested.  Wimps need not apply.  El cheapo trip!  Total 10 days including airfare\, canoe rental\, food\, gratuity for esteemed leader under a grand!  Dates are approximate now.  Text Dan@478six835 for less info!
URL:https://moac.org/event/canoe-the-everglades-2/
ATTACH;FMTTYPE=image/jpeg:https://moac.org/wp-content/uploads/PXL_20210118_180916762.MP_.jpg
ORGANIZER;CN="Dan Kidd":MAILTO:pocketcrimper@gmail.com
END:VEVENT
BEGIN:VEVENT
DTSTART;VALUE=DATE:20250105
DTEND;VALUE=DATE:20250120
DTSTAMP:20260421T081650
CREATED:20250103T222403Z
LAST-MODIFIED:20250103T222403Z
UID:10003819-1736035200-1737331199@moac.org
SUMMARY:Planning: Stevenson Trail trek in France\, date TBA
DESCRIPTION:Interested in a 5-7 day walking trip through southern France? The Stevenson Trail (or G70) is a moderate difficulty path that passes through picturesque villages\, forests\, and low mountains (the Cévennes region of the Massif Central). It is named after Robert Louis Stevenson (Treasure Island) who traveled it with a pack donkey and wrote a book about his trip. Today\, you can follow the well-marked route\, aided by maps and guidebooks. And a series of outfitters and B&Bs associated with the trail make it possible to rent a donkey and stop each night at lodgings. Prices are reasonable\, the food is good\, and the scenery is beautiful (fluffy hiking companion is a bonus!). No French is required. If this sounds appealing (or you want to know who’s crazy enough to consider it)\, contact Maria Snyder to start planning for a possible group trip. Dates still TBA\, but fall 2025 is likely. mariahsnyder501@gmail.com
URL:https://moac.org/event/planning-stevenson-trail-trek-in-france-date-tba/
CATEGORIES:Hiking,Walking
ORGANIZER;CN="Maria Snyder":MAILTO:msnyder501@gmail.com
END:VEVENT
END:VCALENDAR