BEGIN:VCALENDAR
VERSION:2.0
PRODID:-//MOAC - Maine Outdoor Adventure Club - ECPv6.15.12.1//NONSGML v1.0//EN
CALSCALE:GREGORIAN
METHOD:PUBLISH
X-ORIGINAL-URL:https://moac.org
X-WR-CALDESC:Events for MOAC - Maine Outdoor Adventure Club
REFRESH-INTERVAL;VALUE=DURATION:PT1H
X-Robots-Tag:noindex
X-PUBLISHED-TTL:PT1H
BEGIN:VTIMEZONE
TZID:America/New_York
BEGIN:DAYLIGHT
TZOFFSETFROM:-0500
TZOFFSETTO:-0400
TZNAME:EDT
DTSTART:20240310T070000
END:DAYLIGHT
BEGIN:STANDARD
TZOFFSETFROM:-0400
TZOFFSETTO:-0500
TZNAME:EST
DTSTART:20241103T060000
END:STANDARD
BEGIN:DAYLIGHT
TZOFFSETFROM:-0500
TZOFFSETTO:-0400
TZNAME:EDT
DTSTART:20250309T070000
END:DAYLIGHT
BEGIN:STANDARD
TZOFFSETFROM:-0400
TZOFFSETTO:-0500
TZNAME:EST
DTSTART:20251102T060000
END:STANDARD
BEGIN:DAYLIGHT
TZOFFSETFROM:-0500
TZOFFSETTO:-0400
TZNAME:EDT
DTSTART:20260308T070000
END:DAYLIGHT
BEGIN:STANDARD
TZOFFSETFROM:-0400
TZOFFSETTO:-0500
TZNAME:EST
DTSTART:20261101T060000
END:STANDARD
END:VTIMEZONE
BEGIN:VEVENT
DTSTART;TZID=America/New_York:20250215T100000
DTEND;TZID=America/New_York:20250215T140000
DTSTAMP:20260421T215718
CREATED:20250212T125526Z
LAST-MODIFIED:20250212T125526Z
UID:10003913-1739613600-1739628000@moac.org
SUMMARY:Pineland Farms XC Ski or Snowshoe
DESCRIPTION:Meet at Pineland Farms for miles of xc skiing or snowshoeing – take your pick. I will be on classic Nordic skis and intermediate/expert trails – beginners are welcome and there are great easy trails to choose from. The trails are also groomed for skate skiing\, and there’s a separate trail network for snowshoeing. Tickets are $20 for xc skiing\, $12 for snowshoeing. We can get lunch in the cafe after a couple hours skiing\, then go back out to the trails if people want a longer workout. Meet at 10 AM with your trail pass already purchased\, all geared up and ready to hit the trails. RSVP by text or call to 207-380-6008 for our meeting place so I know who’s coming.
URL:https://moac.org/event/pineland-farms-xc-ski-or-snowshoe/
CATEGORIES:Skiing-XC/Classic/Skate
ORGANIZER;CN="Anne Geisler":MAILTO:annegme.123@gmail.com
END:VEVENT
BEGIN:VEVENT
DTSTART;TZID=America/New_York:20250215T130000
DTEND;TZID=America/New_York:20250215T170000
DTSTAMP:20260421T215718
CREATED:20250210T031056Z
LAST-MODIFIED:20250215T150613Z
UID:10003911-1739624400-1739638800@moac.org
SUMMARY:Nordic Skiing & Snowshoeing
DESCRIPTION:Sebago Lake State Park.  Meet at 1:00 PM at the Ranger Station on the Casco side of the Park\, 61 Cub Point Road\, Casco.  Turn off Rte 302 at park sign.  Bring food and water.  Call for carpooling 207-749-0211. \nTrails on Casco side: 5.5 miles of groomed trails for cross-country skiing\, including 1.5 miles for skate skiing.  Many more miles “ungroomed” but possibly packed by snowshoes or other skiers.  The SUNSET is beautiful!! \n\n\n\nYou can check trail conditions on the Maine.gov website \n\n\n\n\n\n\n\n\nYou can also call (207) 693-6231 for trail conditions \n\n\n\n 
URL:https://moac.org/event/nordic-skiing/
ATTACH;FMTTYPE=image/jpeg:https://moac.org/wp-content/uploads/sebage-lake-x-c.jpg
ORGANIZER;CN="Eileen Whynot":MAILTO:ewhynote@gmail.com
END:VEVENT
BEGIN:VEVENT
DTSTART;TZID=America/New_York:20250215T180000
DTEND;TZID=America/New_York:20250215T220000
DTSTAMP:20260421T215718
CREATED:20250213T125032Z
LAST-MODIFIED:20250213T125032Z
UID:10003916-1739642400-1739656800@moac.org
SUMMARY:Live Music at Lenny's in Westbrook
DESCRIPTION:Post outdoor activity\, join us at Lenny’s for a famous songwriter and his band\, “Cattle Call.”  Meet at 6:00PM for drinks and eats or come later.\nWe’ll have a MOAC table\, probably at the high-tops seats by the window!  My phone is 207-749-0211.
URL:https://moac.org/event/live-music-at-lennys-in-westbrook/
ORGANIZER;CN="Eileen Whynot":MAILTO:ewhynote@gmail.com
END:VEVENT
END:VCALENDAR