BEGIN:VCALENDAR
VERSION:2.0
PRODID:-//MOAC - Maine Outdoor Adventure Club - ECPv6.15.12.1//NONSGML v1.0//EN
CALSCALE:GREGORIAN
METHOD:PUBLISH
X-WR-CALNAME:MOAC - Maine Outdoor Adventure Club
X-ORIGINAL-URL:https://moac.org
X-WR-CALDESC:Events for MOAC - Maine Outdoor Adventure Club
REFRESH-INTERVAL;VALUE=DURATION:PT1H
X-Robots-Tag:noindex
X-PUBLISHED-TTL:PT1H
BEGIN:VTIMEZONE
TZID:America/New_York
BEGIN:DAYLIGHT
TZOFFSETFROM:-0500
TZOFFSETTO:-0400
TZNAME:EDT
DTSTART:20240310T070000
END:DAYLIGHT
BEGIN:STANDARD
TZOFFSETFROM:-0400
TZOFFSETTO:-0500
TZNAME:EST
DTSTART:20241103T060000
END:STANDARD
BEGIN:DAYLIGHT
TZOFFSETFROM:-0500
TZOFFSETTO:-0400
TZNAME:EDT
DTSTART:20250309T070000
END:DAYLIGHT
BEGIN:STANDARD
TZOFFSETFROM:-0400
TZOFFSETTO:-0500
TZNAME:EST
DTSTART:20251102T060000
END:STANDARD
BEGIN:DAYLIGHT
TZOFFSETFROM:-0500
TZOFFSETTO:-0400
TZNAME:EDT
DTSTART:20260308T070000
END:DAYLIGHT
BEGIN:STANDARD
TZOFFSETFROM:-0400
TZOFFSETTO:-0500
TZNAME:EST
DTSTART:20261101T060000
END:STANDARD
END:VTIMEZONE
BEGIN:VEVENT
DTSTART;TZID=America/New_York:20250219T083000
DTEND;TZID=America/New_York:20250219T160000
DTSTAMP:20260421T042455
CREATED:20250216T101112Z
LAST-MODIFIED:20250216T101601Z
UID:10003918-1739953800-1739980800@moac.org
SUMMARY:Alpine Tour at Mt. Abrams
DESCRIPTION:Dust off your climbing skis\, bring your helmet\, skins\, layers of clothes\, water and food.  The weather looks perfect and Meg knows the mountain and has skinned it numerous times before.  We will meet at the Gray exit of 95 at 8:30AM.  We will carpool to Locke Mills.  Be ready for a full\, fun day!   My phone is 207-749-0211.  Don’t miss this opportunity; we cannot take our snowy winter for granted.  Feel free to join us and buy a downhill ticket–it is school vacation week.
URL:https://moac.org/event/alpine-tour-at-mt-abrams/
CATEGORIES:Skiing-Downhill,Social
ATTACH;FMTTYPE=image/jpeg:https://moac.org/wp-content/uploads/Abram-Trail-Map-FINAL-1-1536x786-1.jpg
ORGANIZER;CN="Eileen Whynot":MAILTO:ewhynote@gmail.com
END:VEVENT
BEGIN:VEVENT
DTSTART;TZID=America/New_York:20250219T180000
DTEND;TZID=America/New_York:20250219T200000
DTSTAMP:20260421T042455
CREATED:20250218T160006Z
LAST-MODIFIED:20250218T160006Z
UID:10003922-1739988000-1739995200@moac.org
SUMMARY:Winter Music Jam!
DESCRIPTION:We’re going to get together and play some music at 6:00 Wednesday at my place at South Portland!  Join us!  Text me for directions! \nDan@478. Six835
URL:https://moac.org/event/winter-music-jam/
ATTACH;FMTTYPE=image/jpeg:https://moac.org/wp-content/uploads/PXL_20250202_141159081.jpg
ORGANIZER;CN="Dan Kidd":MAILTO:pocketcrimper@gmail.com
END:VEVENT
END:VCALENDAR