BEGIN:VCALENDAR
VERSION:2.0
PRODID:-//MOAC - Maine Outdoor Adventure Club - ECPv6.15.12.1//NONSGML v1.0//EN
CALSCALE:GREGORIAN
METHOD:PUBLISH
X-ORIGINAL-URL:https://moac.org
X-WR-CALDESC:Events for MOAC - Maine Outdoor Adventure Club
REFRESH-INTERVAL;VALUE=DURATION:PT1H
X-Robots-Tag:noindex
X-PUBLISHED-TTL:PT1H
BEGIN:VTIMEZONE
TZID:America/New_York
BEGIN:DAYLIGHT
TZOFFSETFROM:-0500
TZOFFSETTO:-0400
TZNAME:EDT
DTSTART:20240310T070000
END:DAYLIGHT
BEGIN:STANDARD
TZOFFSETFROM:-0400
TZOFFSETTO:-0500
TZNAME:EST
DTSTART:20241103T060000
END:STANDARD
BEGIN:DAYLIGHT
TZOFFSETFROM:-0500
TZOFFSETTO:-0400
TZNAME:EDT
DTSTART:20250309T070000
END:DAYLIGHT
BEGIN:STANDARD
TZOFFSETFROM:-0400
TZOFFSETTO:-0500
TZNAME:EST
DTSTART:20251102T060000
END:STANDARD
BEGIN:DAYLIGHT
TZOFFSETFROM:-0500
TZOFFSETTO:-0400
TZNAME:EDT
DTSTART:20260308T070000
END:DAYLIGHT
BEGIN:STANDARD
TZOFFSETFROM:-0400
TZOFFSETTO:-0500
TZNAME:EST
DTSTART:20261101T060000
END:STANDARD
END:VTIMEZONE
BEGIN:VEVENT
DTSTART;TZID=America/New_York:20250726T080000
DTEND;TZID=America/New_York:20250726T150000
DTSTAMP:20260422T102737
CREATED:20250722T174917Z
LAST-MODIFIED:20250722T174917Z
UID:10004095-1753516800-1753542000@moac.org
SUMMARY:Hike Old Speck mountain
DESCRIPTION:Hike Old Speck mountain\, one of 14 4000 foot peaks in the state of Maine. \nThis is not a hike for beginners!  Ideally you will have had experience hiking other 4000 foot peaks.  I will be shooting to hike at a pace of 35 minutes per mile.  I know there are people in this group who can manage that pace\, as I have hiked with you when Anne was still leading MOAC hikes.  If you cannot maintain that pace\, you will be left behind the lead group. \nIt should be 7.6 miles round trip.  Start at Grafton Notch State Park.  There may be a small fee.  Boots on trail at 8:00AM.
URL:https://moac.org/event/hike-old-speck-mountain-2/
CATEGORIES:Hiking
ORGANIZER;CN="Marc Richardson":MAILTO:richardson.marc@gmail.com
END:VEVENT
BEGIN:VEVENT
DTSTART;TZID=America/New_York:20250726T090000
DTEND;TZID=America/New_York:20250726T180000
DTSTAMP:20260422T102738
CREATED:20250725T161629Z
LAST-MODIFIED:20250725T162029Z
UID:10004099-1753520400-1753552800@moac.org
SUMMARY:Sail to Richmond Island!
DESCRIPTION:Saturday weather looks great!  Let’s sail to Richmond Island from South Portland for lunch and some hiking on the 37 ft. Emily Jane sailboat!  TextDan@47eight\, 68 35 for a spot!
URL:https://moac.org/event/sail-to-richmond-island/
ATTACH;FMTTYPE=image/jpeg:https://moac.org/wp-content/uploads/PXL_20250624_005159096.jpg
ORGANIZER;CN="Dan Kidd":MAILTO:pocketcrimper@gmail.com
END:VEVENT
END:VCALENDAR