BEGIN:VCALENDAR
VERSION:2.0
PRODID:-//MOAC - Maine Outdoor Adventure Club - ECPv6.15.12.1//NONSGML v1.0//EN
CALSCALE:GREGORIAN
METHOD:PUBLISH
X-ORIGINAL-URL:https://moac.org
X-WR-CALDESC:Events for MOAC - Maine Outdoor Adventure Club
REFRESH-INTERVAL;VALUE=DURATION:PT1H
X-Robots-Tag:noindex
X-PUBLISHED-TTL:PT1H
BEGIN:VTIMEZONE
TZID:America/New_York
BEGIN:DAYLIGHT
TZOFFSETFROM:-0500
TZOFFSETTO:-0400
TZNAME:EDT
DTSTART:20240310T070000
END:DAYLIGHT
BEGIN:STANDARD
TZOFFSETFROM:-0400
TZOFFSETTO:-0500
TZNAME:EST
DTSTART:20241103T060000
END:STANDARD
BEGIN:DAYLIGHT
TZOFFSETFROM:-0500
TZOFFSETTO:-0400
TZNAME:EDT
DTSTART:20250309T070000
END:DAYLIGHT
BEGIN:STANDARD
TZOFFSETFROM:-0400
TZOFFSETTO:-0500
TZNAME:EST
DTSTART:20251102T060000
END:STANDARD
BEGIN:DAYLIGHT
TZOFFSETFROM:-0500
TZOFFSETTO:-0400
TZNAME:EDT
DTSTART:20260308T070000
END:DAYLIGHT
BEGIN:STANDARD
TZOFFSETFROM:-0400
TZOFFSETTO:-0500
TZNAME:EST
DTSTART:20261101T060000
END:STANDARD
END:VTIMEZONE
BEGIN:VEVENT
DTSTART;TZID=America/New_York:20250801T130000
DTEND;TZID=America/New_York:20250801T143000
DTSTAMP:20260421T121323
CREATED:20250729T120047Z
LAST-MODIFIED:20250729T120047Z
UID:10004101-1754053200-1754058600@moac.org
SUMMARY:Back Cove Stroll
DESCRIPTION:Meet for an early afternoon walk around the Back Cove.  Park across from Hannaford meeting at the crane statue.
URL:https://moac.org/event/back-cove-stroll/
ORGANIZER;CN="Terese Pawletko":MAILTO:teresepawl@gmail.com
END:VEVENT
BEGIN:VEVENT
DTSTART;TZID=America/New_York:20250801T173000
DTEND;TZID=America/New_York:20250801T193000
DTSTAMP:20260421T121323
CREATED:20250730T153754Z
LAST-MODIFIED:20250730T153754Z
UID:10004103-1754069400-1754076600@moac.org
SUMMARY:A Night on the Farm
DESCRIPTION:Come to Orchard Ridge Farm to enjoy the sound of the Maine Coon Cats and celebrate Mary’s Birthday!  10$ Donation for the Band. Food and Drinks available for purchase in the store.
URL:https://moac.org/event/a-night-on-the-farm/
LOCATION:Orchard Ridge Farm\, 236 Sebago Lake road\, Gorham\, M\, 04038\, United States
CATEGORIES:Social
ATTACH;FMTTYPE=image/jpeg:https://moac.org/wp-content/uploads/IMG_0094-2.jpeg
ORGANIZER;CN="Maureen Griffin":MAILTO:mrngriffin1012@gmail.com
END:VEVENT
BEGIN:VEVENT
DTSTART;TZID=America/New_York:20250801T173000
DTEND;TZID=America/New_York:20250801T200000
DTSTAMP:20260421T121323
CREATED:20250731T145925Z
LAST-MODIFIED:20250731T145925Z
UID:10004105-1754069400-1754078400@moac.org
SUMMARY:HAPPY HOUR
DESCRIPTION:HAPPY HOUR this Friday will be at the RIVERSIDE GRILL located in the Clubhouse of the Riverside Golf Course (1158 Riverside St.\, Portland). Very popular with our group. Food and drink specials. Free parking. We’ll be on the deck!
URL:https://moac.org/event/happy-hour-171/
CATEGORIES:Happy Hour/Dancing
ORGANIZER;CN="Tom Geis":MAILTO:tomjgeis@hotmail.com
END:VEVENT
END:VCALENDAR