BEGIN:VCALENDAR
VERSION:2.0
PRODID:-//MOAC - Maine Outdoor Adventure Club - ECPv6.15.12.1//NONSGML v1.0//EN
CALSCALE:GREGORIAN
METHOD:PUBLISH
X-WR-CALNAME:MOAC - Maine Outdoor Adventure Club
X-ORIGINAL-URL:https://moac.org
X-WR-CALDESC:Events for MOAC - Maine Outdoor Adventure Club
REFRESH-INTERVAL;VALUE=DURATION:PT1H
X-Robots-Tag:noindex
X-PUBLISHED-TTL:PT1H
BEGIN:VTIMEZONE
TZID:America/New_York
BEGIN:DAYLIGHT
TZOFFSETFROM:-0500
TZOFFSETTO:-0400
TZNAME:EDT
DTSTART:20240310T070000
END:DAYLIGHT
BEGIN:STANDARD
TZOFFSETFROM:-0400
TZOFFSETTO:-0500
TZNAME:EST
DTSTART:20241103T060000
END:STANDARD
BEGIN:DAYLIGHT
TZOFFSETFROM:-0500
TZOFFSETTO:-0400
TZNAME:EDT
DTSTART:20250309T070000
END:DAYLIGHT
BEGIN:STANDARD
TZOFFSETFROM:-0400
TZOFFSETTO:-0500
TZNAME:EST
DTSTART:20251102T060000
END:STANDARD
BEGIN:DAYLIGHT
TZOFFSETFROM:-0500
TZOFFSETTO:-0400
TZNAME:EDT
DTSTART:20260308T070000
END:DAYLIGHT
BEGIN:STANDARD
TZOFFSETFROM:-0400
TZOFFSETTO:-0500
TZNAME:EST
DTSTART:20261101T060000
END:STANDARD
END:VTIMEZONE
BEGIN:VEVENT
DTSTART;TZID=America/New_York:20250804T080000
DTEND;TZID=America/New_York:20250807T170000
DTSTAMP:20260421T104622
CREATED:20250801T205608Z
LAST-MODIFIED:20250801T205719Z
UID:10004107-1754294400-1754586000@moac.org
SUMMARY:Cruise Maine Coast\, Isle au haut
DESCRIPTION:Let’s do a cruise down east to Isle Au Haut starting Monday. Probably take 4 days on the Emily Jane sailing! \nTaxt Dan@4seven8 6835! For a spot!
URL:https://moac.org/event/cruise-maine-coast-isle-au-haut/
ATTACH;FMTTYPE=image/jpeg:https://moac.org/wp-content/uploads/PXL_20250701_011324390-1.jpg
ORGANIZER;CN="Dan Kidd":MAILTO:pocketcrimper@gmail.com
END:VEVENT
END:VCALENDAR