BEGIN:VCALENDAR
VERSION:2.0
PRODID:-//MOAC - Maine Outdoor Adventure Club - ECPv6.15.12.1//NONSGML v1.0//EN
CALSCALE:GREGORIAN
METHOD:PUBLISH
X-WR-CALNAME:MOAC - Maine Outdoor Adventure Club
X-ORIGINAL-URL:https://moac.org
X-WR-CALDESC:Events for MOAC - Maine Outdoor Adventure Club
REFRESH-INTERVAL;VALUE=DURATION:PT1H
X-Robots-Tag:noindex
X-PUBLISHED-TTL:PT1H
BEGIN:VTIMEZONE
TZID:America/New_York
BEGIN:DAYLIGHT
TZOFFSETFROM:-0500
TZOFFSETTO:-0400
TZNAME:EDT
DTSTART:20240310T070000
END:DAYLIGHT
BEGIN:STANDARD
TZOFFSETFROM:-0400
TZOFFSETTO:-0500
TZNAME:EST
DTSTART:20241103T060000
END:STANDARD
BEGIN:DAYLIGHT
TZOFFSETFROM:-0500
TZOFFSETTO:-0400
TZNAME:EDT
DTSTART:20250309T070000
END:DAYLIGHT
BEGIN:STANDARD
TZOFFSETFROM:-0400
TZOFFSETTO:-0500
TZNAME:EST
DTSTART:20251102T060000
END:STANDARD
BEGIN:DAYLIGHT
TZOFFSETFROM:-0500
TZOFFSETTO:-0400
TZNAME:EDT
DTSTART:20260308T070000
END:DAYLIGHT
BEGIN:STANDARD
TZOFFSETFROM:-0400
TZOFFSETTO:-0500
TZNAME:EST
DTSTART:20261101T060000
END:STANDARD
END:VTIMEZONE
BEGIN:VEVENT
DTSTART;TZID=America/New_York:20250815T130000
DTEND;TZID=America/New_York:20250818T110000
DTSTAMP:20260421T090854
CREATED:20250601T233117Z
LAST-MODIFIED:20250601T235851Z
UID:10004030-1755262800-1755514800@moac.org
SUMMARY:Mt. Blue State Park Group Camping Extravaganza
DESCRIPTION:Stunning Mount Blue State Park at the foot of the Tumbledown Mountain Region in beautiful Weld Maine is the site of your best summer adventure!  We have secured the north shelter\, which is right on the water with a beautiful sunny beach and an adirondack shelter should the weather be too fussy. \nYou will need to canoe in to the site or walk your things down a craggy\, rooty path to the site.  Maybe a quarter of a mile… I much prefer to canoe in.  Faster\, less exhausting.   While you are free\, of course\, to do as you please each day\, here are some of my favorite things to do when I am at Mt. Blue: hike Bald and /or Tumbledown; rent a canoe or rowboat or kayak (all dirt cheap) and make my way across the lake to have a beer or a bite at the historic Kawanhee Inn and sing all the way back; if it was hot on the way over\, we may need to stop at the big rock and jump off a few times to cool off; many Saturday evenings see programming at the ampitheatre just up the hill from our sexy forested lakeside spot; if it’s too hot to hike\, we can spend the day swimming or strumming ukulele by the water hoping for a cool breeze or go to the Swift River to pan for gold or jump off the cliffs of Coos Canyon; if it’s really hot we’ll pop over to Farmington and spend the day tubing down the Sandy River; at night I hope there will be music and song or other shenanigans; maybe sardines after dark or a cribbage competition; and I really should caution you that you won’t want to miss the inaugural MOAC Mt. Blue Belly Flop Competition off the great rock that juts out in the middle of the lake (Prizes tba).  Oh do come\, it’ll be just like summer camp. \nCost is a steal at $16.50 per person for the whole trip. \nYou may come one\, two\, or three nights. \nIf we have at least 7 peeps each night\, I’ll only charge you by the night\, otherwise\, it’s a flat fee of $16.50 so that I don’t eat the bill.  Hope this sounds fair.  Not trying to  make money; just trying not to lose too much. \nSign up for this trip by filling out the google form included below (it is a live document\, so only edit your own information and feel free to message me privately if you don’t want your info shared and know that we are all agreeing to only use this information on this sheet for the express purpose of communicating about this one event and should not be used for any other reason in the future) and venmo me (@Tess-Murphy-9) your payment or call me to make alternate arrangements (207-518-3320). \nHope to see you there. \nIf we do not meet the minimum by July 28\, I will cancel event so that we do not violate the conditions of the agreement with the park that we will have a minimum of 7 people on site each night.  I am happy\, in that case\, to spend time camping with you in the family campground\, should that be the case.
URL:https://moac.org/event/mt-blue-state-park-group-camping-extravaganza/
ATTACH;FMTTYPE=image/jpeg:https://moac.org/wp-content/uploads/20220604_134016-scaled-1.jpg
ORGANIZER;CN="Tess Murphy":MAILTO:tess.h.murphy@gmail.com
END:VEVENT
BEGIN:VEVENT
DTSTART;TZID=America/New_York:20250817T080000
DTEND;TZID=America/New_York:20250817T150000
DTSTAMP:20260421T090854
CREATED:20250812T235416Z
LAST-MODIFIED:20250812T235416Z
UID:10004116-1755417600-1755442800@moac.org
SUMMARY:Hike Avery peak and West peak
DESCRIPTION:Hike Avery peak and West peak \nThis is not a hike for beginners!  Ideally you will have had experience hiking other 4000 foot peaks.  I will be shooting to hike at a pace of 35 minutes per mile.  I know there are people in this group who can manage that pace\, as I have hiked with you when Anne was still leading MOAC hikes.  If you cannot maintain that pace\, you will be left behind the lead group.  Please email me with your hiking experience\,  not a show-and-go trip. \nThis should be about an 10 mile hike.  Not 100% sure on the distance \nMeet at the Firewarden trailhead:  https://www.google.com/maps/place/Fire+Warden+Trail/@45.109879\,-70.3397673\,17z/data=!3m1!4b1!4m6!3m5!1s0x4cb0e3efcf419f91:0xb9b066f0f3f5b51!8m2!3d45.109879!4d-70.3371924!16s%2Fg%2F11rjqmm2zl?entry=ttu&g_ep=EgoyMDI1MDcyOS4wIKXMDSoASAFQAw%3D%3D
URL:https://moac.org/event/hike-avery-peak-and-west-peak-3/
ORGANIZER;CN="Marc Richardson":MAILTO:richardson.marc@gmail.com
END:VEVENT
END:VCALENDAR