BEGIN:VCALENDAR
VERSION:2.0
PRODID:-//MOAC - Maine Outdoor Adventure Club - ECPv6.15.12.1//NONSGML v1.0//EN
CALSCALE:GREGORIAN
METHOD:PUBLISH
X-WR-CALNAME:MOAC - Maine Outdoor Adventure Club
X-ORIGINAL-URL:https://moac.org
X-WR-CALDESC:Events for MOAC - Maine Outdoor Adventure Club
REFRESH-INTERVAL;VALUE=DURATION:PT1H
X-Robots-Tag:noindex
X-PUBLISHED-TTL:PT1H
BEGIN:VTIMEZONE
TZID:America/New_York
BEGIN:DAYLIGHT
TZOFFSETFROM:-0500
TZOFFSETTO:-0400
TZNAME:EDT
DTSTART:20240310T070000
END:DAYLIGHT
BEGIN:STANDARD
TZOFFSETFROM:-0400
TZOFFSETTO:-0500
TZNAME:EST
DTSTART:20241103T060000
END:STANDARD
BEGIN:DAYLIGHT
TZOFFSETFROM:-0500
TZOFFSETTO:-0400
TZNAME:EDT
DTSTART:20250309T070000
END:DAYLIGHT
BEGIN:STANDARD
TZOFFSETFROM:-0400
TZOFFSETTO:-0500
TZNAME:EST
DTSTART:20251102T060000
END:STANDARD
BEGIN:DAYLIGHT
TZOFFSETFROM:-0500
TZOFFSETTO:-0400
TZNAME:EDT
DTSTART:20260308T070000
END:DAYLIGHT
BEGIN:STANDARD
TZOFFSETFROM:-0400
TZOFFSETTO:-0500
TZNAME:EST
DTSTART:20261101T060000
END:STANDARD
END:VTIMEZONE
BEGIN:VEVENT
DTSTART;TZID=America/New_York:20250822T143000
DTEND;TZID=America/New_York:20250822T170000
DTSTAMP:20260422T000549
CREATED:20250820T184003Z
LAST-MODIFIED:20250820T184003Z
UID:10004124-1755873000-1755882000@moac.org
SUMMARY:paddle and (unofficial) happy hour in Gray
DESCRIPTION:Leisurely paddle from camp\, with a possible stop to swim and stretch our legs.  We’ll be out for about an hour and a half .  On the water at 3:00\, so please arrive in time to unload your boat before that.  I’ll be there by 2:00. \nI have extra boats to borrow\, along with safety gear.  Just let me know ahead of time.  You must bring a PFD and whistle if you go on the water.  I share a driveway on an incline\, you can pull down to unload your boats\, then park back by the road. \nYou’re welcome to stay after to hang out and/or have happy hour and dinner. If you can’t make the paddle\, but want to hang out at the lake for the social time\, you’re welcome.    BYO drinks and food\, I can light up the grill. \nShow and go\, but it’s nice to know who’s planning to attend.   There may be a dog there as I’m taking care of my daughter’s dog\, but please do not bring other pets.          207.807.2729
URL:https://moac.org/event/paddle-and-unofficial-happy-hour-in-gray/
CATEGORIES:Kayaking/Canoeing
ATTACH;FMTTYPE=image/jpeg:https://moac.org/wp-content/uploads/misty-water-view-7.jpg
ORGANIZER;CN="Lianne Mitchell":MAILTO:lmitchell75@aol.com
END:VEVENT
BEGIN:VEVENT
DTSTART;TZID=America/New_York:20250822T173000
DTEND;TZID=America/New_York:20250822T200000
DTSTAMP:20260422T000549
CREATED:20250821T163034Z
LAST-MODIFIED:20250821T163034Z
UID:10004125-1755883800-1755892800@moac.org
SUMMARY:HAPPY HOUR
DESCRIPTION:HAPPY HOUR this Friday will be at THE BAYSIDE BOWL ROOFTOP located at 58 ALDER STREET in PORTLAND. Full bar with food served from their vintage Airstream camper. Free parking in their own lot and on adjacent streets. Unique spot overlooking Back Cove – and it’s supposed to be a beautiful night.
URL:https://moac.org/event/happy-hour-174/
CATEGORIES:Happy Hour/Dancing
ORGANIZER;CN="Tom Geis":MAILTO:tomjgeis@hotmail.com
END:VEVENT
END:VCALENDAR