BEGIN:VCALENDAR
VERSION:2.0
PRODID:-//MOAC - Maine Outdoor Adventure Club - ECPv6.15.12.1//NONSGML v1.0//EN
CALSCALE:GREGORIAN
METHOD:PUBLISH
X-ORIGINAL-URL:https://moac.org
X-WR-CALDESC:Events for MOAC - Maine Outdoor Adventure Club
REFRESH-INTERVAL;VALUE=DURATION:PT1H
X-Robots-Tag:noindex
X-PUBLISHED-TTL:PT1H
BEGIN:VTIMEZONE
TZID:America/New_York
BEGIN:DAYLIGHT
TZOFFSETFROM:-0500
TZOFFSETTO:-0400
TZNAME:EDT
DTSTART:20250309T070000
END:DAYLIGHT
BEGIN:STANDARD
TZOFFSETFROM:-0400
TZOFFSETTO:-0500
TZNAME:EST
DTSTART:20251102T060000
END:STANDARD
BEGIN:DAYLIGHT
TZOFFSETFROM:-0500
TZOFFSETTO:-0400
TZNAME:EDT
DTSTART:20260308T070000
END:DAYLIGHT
BEGIN:STANDARD
TZOFFSETFROM:-0400
TZOFFSETTO:-0500
TZNAME:EST
DTSTART:20261101T060000
END:STANDARD
BEGIN:DAYLIGHT
TZOFFSETFROM:-0500
TZOFFSETTO:-0400
TZNAME:EDT
DTSTART:20270314T070000
END:DAYLIGHT
BEGIN:STANDARD
TZOFFSETFROM:-0400
TZOFFSETTO:-0500
TZNAME:EST
DTSTART:20271107T060000
END:STANDARD
END:VTIMEZONE
BEGIN:VEVENT
DTSTART;TZID=America/New_York:20260119T153000
DTEND;TZID=America/New_York:20260119T210000
DTSTAMP:20260423T123606
CREATED:20260118T034138Z
LAST-MODIFIED:20260118T034658Z
UID:10004648-1768836600-1768856400@moac.org
SUMMARY:Night skiing  at Mount Pleasant
DESCRIPTION:Night skiing  at Mount Pleasant . The $24 Monday Madness price is valid on MLK Day. \n  \nContact Melanie for more information. \nEmail – melanieslawlor@smccme.edu \nMaine area code 219-ninety-six twenty-two.
URL:https://moac.org/event/night-skiing-at-mount-pleasant/
CATEGORIES:Skiing-Downhill
ORGANIZER;CN="Melanie Lawlor":MAILTO:melaniesochanphoto@yahoo.com
END:VEVENT
END:VCALENDAR