BEGIN:VCALENDAR
VERSION:2.0
PRODID:-//MOAC - Maine Outdoor Adventure Club - ECPv6.15.12.1//NONSGML v1.0//EN
CALSCALE:GREGORIAN
METHOD:PUBLISH
X-ORIGINAL-URL:https://moac.org
X-WR-CALDESC:Events for MOAC - Maine Outdoor Adventure Club
REFRESH-INTERVAL;VALUE=DURATION:PT1H
X-Robots-Tag:noindex
X-PUBLISHED-TTL:PT1H
BEGIN:VTIMEZONE
TZID:America/New_York
BEGIN:DAYLIGHT
TZOFFSETFROM:-0500
TZOFFSETTO:-0400
TZNAME:EDT
DTSTART:20250309T070000
END:DAYLIGHT
BEGIN:STANDARD
TZOFFSETFROM:-0400
TZOFFSETTO:-0500
TZNAME:EST
DTSTART:20251102T060000
END:STANDARD
BEGIN:DAYLIGHT
TZOFFSETFROM:-0500
TZOFFSETTO:-0400
TZNAME:EDT
DTSTART:20260308T070000
END:DAYLIGHT
BEGIN:STANDARD
TZOFFSETFROM:-0400
TZOFFSETTO:-0500
TZNAME:EST
DTSTART:20261101T060000
END:STANDARD
BEGIN:DAYLIGHT
TZOFFSETFROM:-0500
TZOFFSETTO:-0400
TZNAME:EDT
DTSTART:20270314T070000
END:DAYLIGHT
BEGIN:STANDARD
TZOFFSETFROM:-0400
TZOFFSETTO:-0500
TZNAME:EST
DTSTART:20271107T060000
END:STANDARD
END:VTIMEZONE
BEGIN:VEVENT
DTSTART;TZID=America/New_York:20260124T090000
DTEND;TZID=America/New_York:20260124T170000
DTSTAMP:20260423T035906
CREATED:20260120T145123Z
LAST-MODIFIED:20260121T132450Z
UID:10004652-1769245200-1769274000@moac.org
SUMMARY:Canceled:Acadia NP Jordan Pond
DESCRIPTION:Too cold. brrr. Ruth Mazzeo is inviting you to join her on a hike around Jordan Pond or some such. Jordan Pond is a popular\, glacially-carved lake in Acadia National Park\, Maine\, known for its clear water\, scenic views of the “Bubbles” mountains\, and the historic Jordan Pond House. It’s a hub for activities like hiking the 3.3-mile loop trail. \nOffers iconic views of Penobscot and Pemetic Mountains\, and the two rounded peaks known as “The Bubbles”. \nWe can be in touch about carpooling and ensuring everyone’s know where to park! Also\, what equipment to use. \nFood optionally after hike. \nEMAIL to ruthmazzeo@yahoo.com for further details\, including start time and meet up spot.
URL:https://moac.org/event/acadia-np-jordan-pond/
ATTACH;FMTTYPE=image/jpeg:https://moac.org/wp-content/uploads/IMG_2296-copy.jpg
ORGANIZER;CN="MOAC":MAILTO:info@moac.org
END:VEVENT
END:VCALENDAR