BEGIN:VCALENDAR
VERSION:2.0
PRODID:-//MOAC - Maine Outdoor Adventure Club - ECPv6.15.12.1//NONSGML v1.0//EN
CALSCALE:GREGORIAN
METHOD:PUBLISH
X-ORIGINAL-URL:https://moac.org
X-WR-CALDESC:Events for MOAC - Maine Outdoor Adventure Club
REFRESH-INTERVAL;VALUE=DURATION:PT1H
X-Robots-Tag:noindex
X-PUBLISHED-TTL:PT1H
BEGIN:VTIMEZONE
TZID:America/New_York
BEGIN:DAYLIGHT
TZOFFSETFROM:-0500
TZOFFSETTO:-0400
TZNAME:EDT
DTSTART:20250309T070000
END:DAYLIGHT
BEGIN:STANDARD
TZOFFSETFROM:-0400
TZOFFSETTO:-0500
TZNAME:EST
DTSTART:20251102T060000
END:STANDARD
BEGIN:DAYLIGHT
TZOFFSETFROM:-0500
TZOFFSETTO:-0400
TZNAME:EDT
DTSTART:20260308T070000
END:DAYLIGHT
BEGIN:STANDARD
TZOFFSETFROM:-0400
TZOFFSETTO:-0500
TZNAME:EST
DTSTART:20261101T060000
END:STANDARD
BEGIN:DAYLIGHT
TZOFFSETFROM:-0500
TZOFFSETTO:-0400
TZNAME:EDT
DTSTART:20270314T070000
END:DAYLIGHT
BEGIN:STANDARD
TZOFFSETFROM:-0400
TZOFFSETTO:-0500
TZNAME:EST
DTSTART:20271107T060000
END:STANDARD
END:VTIMEZONE
BEGIN:VEVENT
DTSTART;TZID=America/New_York:20260128T080000
DTEND;TZID=America/New_York:20260203T170000
DTSTAMP:20260421T191313
CREATED:20260125T162549Z
LAST-MODIFIED:20260125T162549Z
UID:10004659-1769587200-1770138000@moac.org
SUMMARY:Quickie Tropic Camping!
DESCRIPTION:El Cheapo tropical camping trip\, at Cinnamon Bay St. John US Virgin Islands!  Fly Boston direct ($500)\, take the ferry and local bus and you’re there!  Tent platform\, your own tent/$25/day!  Beach\, snorkeling and hiking!  Text quick@478….six835! For Dan
URL:https://moac.org/event/quickie-tropic-camping/
ATTACH;FMTTYPE=image/png:https://moac.org/wp-content/uploads/1000007808-1.png
ORGANIZER;CN="Dan Kidd":MAILTO:pocketcrimper@gmail.com
END:VEVENT
BEGIN:VEVENT
DTSTART;TZID=America/New_York:20260129T100000
DTEND;TZID=America/New_York:20260129T233000
DTSTAMP:20260421T191313
CREATED:20260113T032608Z
LAST-MODIFIED:20260129T022944Z
UID:10004275-1769680800-1769729400@moac.org
SUMMARY:MOAC Marketing and Development Committee
DESCRIPTION:MOAC’s marketing and development committee meeting where we hope to expand our membership and make it and better group for our members. \nThe meeting will be held on Jan. 29 at 10:00 am to 11:30am.
URL:https://moac.org/event/moac-marketing-and-development-committee/
ORGANIZER;CN="Melanie Lawlor":MAILTO:melaniesochanphoto@yahoo.com
END:VEVENT
END:VCALENDAR