BEGIN:VCALENDAR
VERSION:2.0
PRODID:-//MOAC - Maine Outdoor Adventure Club - ECPv6.15.12.1//NONSGML v1.0//EN
CALSCALE:GREGORIAN
METHOD:PUBLISH
X-WR-CALNAME:MOAC - Maine Outdoor Adventure Club
X-ORIGINAL-URL:https://moac.org
X-WR-CALDESC:Events for MOAC - Maine Outdoor Adventure Club
REFRESH-INTERVAL;VALUE=DURATION:PT1H
X-Robots-Tag:noindex
X-PUBLISHED-TTL:PT1H
BEGIN:VTIMEZONE
TZID:America/New_York
BEGIN:DAYLIGHT
TZOFFSETFROM:-0500
TZOFFSETTO:-0400
TZNAME:EDT
DTSTART:20250309T070000
END:DAYLIGHT
BEGIN:STANDARD
TZOFFSETFROM:-0400
TZOFFSETTO:-0500
TZNAME:EST
DTSTART:20251102T060000
END:STANDARD
BEGIN:DAYLIGHT
TZOFFSETFROM:-0500
TZOFFSETTO:-0400
TZNAME:EDT
DTSTART:20260308T070000
END:DAYLIGHT
BEGIN:STANDARD
TZOFFSETFROM:-0400
TZOFFSETTO:-0500
TZNAME:EST
DTSTART:20261101T060000
END:STANDARD
BEGIN:DAYLIGHT
TZOFFSETFROM:-0500
TZOFFSETTO:-0400
TZNAME:EDT
DTSTART:20270314T070000
END:DAYLIGHT
BEGIN:STANDARD
TZOFFSETFROM:-0400
TZOFFSETTO:-0500
TZNAME:EST
DTSTART:20271107T060000
END:STANDARD
END:VTIMEZONE
BEGIN:VEVENT
DTSTART;TZID=America/New_York:20260418T080000
DTEND;TZID=America/New_York:20260429T170000
DTSTAMP:20260424T033606
CREATED:20260226T154624Z
LAST-MODIFIED:20260227T160418Z
UID:10004812-1776499200-1777482000@moac.org
SUMMARY:Cheapo Sailing in Turkey!
DESCRIPTION:Just rented a 40-ft sailboat in Turkey and read Sailing for Dummies!  All set!  Any experience a plus!  See ancient MOAC ruins!   Boat cost only $400 each plus damages!  Think about it. Sitting in a secluded cove in turquoise Waters with your favorite counselor at your side mixing your favorite drink!…text Dan@four78…six835!
URL:https://moac.org/event/cheapo-sailing-in-turkey/
ATTACH;FMTTYPE=image/jpeg:https://moac.org/wp-content/uploads/1000008007.jpg
ORGANIZER;CN="Dan Kidd":MAILTO:pocketcrimper@gmail.com
END:VEVENT
BEGIN:VEVENT
DTSTART;TZID=America/New_York:20260424T103000
DTEND;TZID=America/New_York:20260424T120000
DTSTAMP:20260424T033606
CREATED:20260423T203429Z
LAST-MODIFIED:20260423T203429Z
UID:10004866-1777026600-1777032000@moac.org
SUMMARY:Rines Forest Hike
DESCRIPTION:Hike the trails at Rine’s Forest in Cumberland\, about 2.5 miles. Depending on the group we can do more or less. The trails do have some muddy spots\, please wear appropriate footwear. This activity is a show & go\, meet in the parking lot @ 363 Range Rd Cumberland\, overflow parking across the street on Idlewood drive.
URL:https://moac.org/event/rines-forest-hike/
LOCATION:Rines Forest
ATTACH;FMTTYPE=image/jpeg:https://moac.org/wp-content/uploads/Rines-Forest.jpg
ORGANIZER;CN="Marc Pomerleau":MAILTO:mpomer27@gmail.com
END:VEVENT
BEGIN:VEVENT
DTSTART;TZID=America/New_York:20260424T173000
DTEND;TZID=America/New_York:20260424T200000
DTSTAMP:20260424T033606
CREATED:20260423T034001Z
LAST-MODIFIED:20260423T034001Z
UID:10004864-1777051800-1777060800@moac.org
SUMMARY:HAPPY HOUR
DESCRIPTION:HAPPY HOUR this Friday will be at the COWBELL RESTAURANT located at 185 US Route 1 in SCARBOROUGH. Very good food\, full bar\, free parking.
URL:https://moac.org/event/happy-hour-209/
CATEGORIES:Happy Hour/Dancing
ORGANIZER;CN="Tom Geis":MAILTO:tomjgeis@hotmail.com
END:VEVENT
END:VCALENDAR