BEGIN:VCALENDAR
VERSION:2.0
PRODID:-//MOAC - Maine Outdoor Adventure Club - ECPv6.15.12.1//NONSGML v1.0//EN
CALSCALE:GREGORIAN
METHOD:PUBLISH
X-WR-CALNAME:MOAC - Maine Outdoor Adventure Club
X-ORIGINAL-URL:https://moac.org
X-WR-CALDESC:Events for MOAC - Maine Outdoor Adventure Club
REFRESH-INTERVAL;VALUE=DURATION:PT1H
X-Robots-Tag:noindex
X-PUBLISHED-TTL:PT1H
BEGIN:VTIMEZONE
TZID:America/New_York
BEGIN:DAYLIGHT
TZOFFSETFROM:-0500
TZOFFSETTO:-0400
TZNAME:EDT
DTSTART:20210314T070000
END:DAYLIGHT
BEGIN:STANDARD
TZOFFSETFROM:-0400
TZOFFSETTO:-0500
TZNAME:EST
DTSTART:20211107T060000
END:STANDARD
BEGIN:DAYLIGHT
TZOFFSETFROM:-0500
TZOFFSETTO:-0400
TZNAME:EDT
DTSTART:20220313T070000
END:DAYLIGHT
BEGIN:STANDARD
TZOFFSETFROM:-0400
TZOFFSETTO:-0500
TZNAME:EST
DTSTART:20221106T060000
END:STANDARD
BEGIN:DAYLIGHT
TZOFFSETFROM:-0500
TZOFFSETTO:-0400
TZNAME:EDT
DTSTART:20230312T070000
END:DAYLIGHT
BEGIN:STANDARD
TZOFFSETFROM:-0400
TZOFFSETTO:-0500
TZNAME:EST
DTSTART:20231105T060000
END:STANDARD
END:VTIMEZONE
BEGIN:VEVENT
DTSTART;TZID=America/New_York:20220506T173000
DTEND;TZID=America/New_York:20220506T200000
DTSTAMP:20260423T150225
CREATED:20220505T032044Z
LAST-MODIFIED:20220505T032044Z
UID:10000496-1651858200-1651867200@moac.org
SUMMARY:Happy Hour
DESCRIPTION:Happy Hour this Friday will Be at STOCKHOUSE RESTAURANT AND SPORTS PUB located on Main Street in Westbrook. The weather is supposed to be nice on Friday but I don’t think we can count on being outside on their deck quite yet. We’ll make a reservation for inside. Parking is free in their large lot in back. \n\n\n\n\n\n\n\n\n\n\n\n\n\nWith the advent of cooler weather\, MOAC Happy Hours may now be located at establishments offering limited or no options for outdoor seating.  For each Happy Hour venue\, we will try to give as much information as practical about available seating options.\n\nParticipation in Happy Hour events\, regardless of seating options\, is a personal decision and MOAC assumes no liability for potential health risks associated with attending these activities.\n\nVaccination against COVID-19 (including approved booster shots) is STRONGLY ENCOURAGED\, but not required for participation in Happy Hour events.   Participants are expected to practice safe behaviors including social distancing\, hand washing and wearing a mask when not eating/drinking or when not seated.   Please be respectful of other people’s choices and comfort level.  Do not participate if you are not feeling well\, exhibiting COVID symptoms\, have recently tested positive for COVID or have come into close contact with someone who may be COVID positive.
URL:https://moac.org/event/happy-hour-4/
CATEGORIES:Happy Hour/Dancing
END:VEVENT
BEGIN:VEVENT
DTSTART;TZID=America/New_York:20220508T183000
DTEND;TZID=America/New_York:20220508T200000
DTSTAMP:20260423T150225
CREATED:20220508T131934Z
LAST-MODIFIED:20220508T131934Z
UID:10000504-1652034600-1652040000@moac.org
SUMMARY:Mother's Day Music Jam Tonight!
DESCRIPTION:Yes!  Tonight!  6:30 \n9 Ballard St\, South Portland
URL:https://moac.org/event/mothers-day-music-jam-tonight/
CATEGORIES:Happy Hour/Dancing
END:VEVENT
BEGIN:VEVENT
DTSTART;TZID=America/New_York:20220512T180000
DTEND;TZID=America/New_York:20220512T200000
DTSTAMP:20260423T150225
CREATED:20220512T125518Z
LAST-MODIFIED:20220512T125518Z
UID:10000401-1652378400-1652385600@moac.org
SUMMARY:Sunset on the Bay by Campfire!
DESCRIPTION:Tonight! \nJoin in next to a campfire\, the ocean\, and someone who thinks you’re smart and sexy!  Talk trash!  Solve social issues! \n9 Ballard St.\,South Portland 6-8 pm
URL:https://moac.org/event/sunset-on-the-bay-by-campfire-2/
CATEGORIES:Happy Hour/Dancing
END:VEVENT
BEGIN:VEVENT
DTSTART;TZID=America/New_York:20220513T173000
DTEND;TZID=America/New_York:20220513T200000
DTSTAMP:20260423T150225
CREATED:20220510T153036Z
LAST-MODIFIED:20220510T153036Z
UID:10000396-1652463000-1652472000@moac.org
SUMMARY:Happy Hour
DESCRIPTION:Happy Hour this Friday will be at OXBOW BLENDING AND BOTTLING located at 49 Washington Avenue in Portland. It’s a large indoor space but there’s also heated outside seating. Good food on site. They have a small lot but there’s parking all along Washington Avenue.
URL:https://moac.org/event/happy-hour-5/
CATEGORIES:Happy Hour/Dancing
END:VEVENT
BEGIN:VEVENT
DTSTART;TZID=America/New_York:20220514T170000
DTEND;TZID=America/New_York:20220514T210000
DTSTAMP:20260423T150225
CREATED:20220511T142454Z
LAST-MODIFIED:20220511T142454Z
UID:10000398-1652547600-1652562000@moac.org
SUMMARY:beach happy hour
DESCRIPTION:Beautiful weather Saturday! Join Happy Hour social event in Scarborough at Ferry Beach off Black Point Road …BYO everything (food\, beverage\, lawn chair\, musical instrument\, voice\, personality…) starting 5:00pm until whenever. beach walk. \nAddress: Ferry Beach off Black Point Road\, Scarborough \nHosted by Lorna. Contact info – cellphone 207-512-0502 \n  \n 
URL:https://moac.org/event/beach-happy-hour/
CATEGORIES:Happy Hour/Dancing
ORGANIZER;CN="Lorna":MAILTO:lornaconneen@ymail.com
END:VEVENT
BEGIN:VEVENT
DTSTART;VALUE=DATE:20220520
DTEND;VALUE=DATE:20220524
DTSTAMP:20260423T150225
CREATED:20220410T162034Z
LAST-MODIFIED:20220515T163203Z
UID:10000437-1653004800-1653350399@moac.org
SUMMARY:Lily Bay Group Camping Site
DESCRIPTION:UPDATED TO REFLECT PRICE\, LINK TO RESERVATION FORM\, AND REGULAR CAMPSITE INFO. \nMOAC has reserved what is called the most sought after group campsite in the Maine State Park System. We wanted beautiful late August but we got late May. Oh well. Early\, yes\, but we are hearty. It is a three night reservation. Friday through Monday. \nTo attend this weekend\,  please be fully vaccinated. \nThis trip is being co-led by Nancy Dorrans and Tammy/Peter Mullen. Nancy will handle the registration and payment part and Tammy/Peter the logistics. \nThe cost for the weekend is $25 regardless of how many nights you plan to stay. Max\, three nights. \nTo be placed on the waitlist\, CLICK HERE. \nPlease email us at pcm25me@gmail.com or njdorran@gmail.com with questions. \nFor those that might prefer a camper to a tent\, it would be possible to stay in the State Park campground itself and come hang out. These campsites will be first-come/first-served as reservations don’t start until the day we leave. The campground and the group site are not close together. A mile or two maybe? But it is an option. \nMud Brook Group Campsite is just north of Lily Bay State Park. Capacity is 50 with a large fire circle\, and a small cooking shelter if needed. It is surrounded on three sides by Moosehead Lake. It has a water source and a vault toilet. Showers in the State Park are  available but it is a drive to them. \nThe park is 8 miles out of Greenville on the eastern shore of Moosehead Lake. \nPaddle the lake or any of the other countless bodies of water nearby? Hike? Bike? Fish? Moose watch? Explore Greenville? Sit and read? Sit and read and drink wine? \nMore details will be coming so check back.
URL:https://moac.org/event/lily-bay-group-camping-site-accepting-waitlist/
CATEGORIES:Camping,Happy Hour/Dancing,Hiking,Kayaking/Canoeing,Mountain Biking,Other/General,Road Biking,Sailing/Boating,Walking
ATTACH;FMTTYPE=image/jpeg:https://moac.org/wp-content/uploads/lily-bay-group-camping.jpeg
END:VEVENT
BEGIN:VEVENT
DTSTART;TZID=America/New_York:20220520T173000
DTEND;TZID=America/New_York:20220520T200000
DTSTAMP:20260423T150225
CREATED:20220519T142438Z
LAST-MODIFIED:20220519T142857Z
UID:10000517-1653067800-1653076800@moac.org
SUMMARY:Happy Hour
DESCRIPTION:Happy Hour this Friday will be at MAST LANDING BREWING COMPANY  located at 920 Main Street in Westbrook. Lots of room inside with high ceilings and some tables outside as well. Free parking in their out front lot. Reviews mention food on site and there are several good restaurants within walking distance. Big turnout here last time. \n\n\n\n\n\n\n\n\n\n\n\n\n\nWith the advent of cooler weather\, MOAC Happy Hours may now be located at establishments offering limited or no options for outdoor seating.  For each Happy Hour venue\, we will try to give as much information as practical about available seating options.\n\nParticipation in Happy Hour events\, regardless of seating options\, is a personal decision and MOAC assumes no liability for potential health risks associated with attending these activities.\n\nVaccination against COVID-19 (including approved booster shots) is STRONGLY ENCOURAGED\, but not required for participation in Happy Hour events.   Participants are expected to practice safe behaviors including social distancing\, hand washing and wearing a mask when not eating/drinking or when not seated.   Please be respectful of other people’s choices and comfort level.  Do not participate if you are not feeling well\, exhibiting COVID symptoms\, have recently tested positive for COVID or have come into close contact with someone who may be COVID positive.
URL:https://moac.org/event/happy-hour-6/
CATEGORIES:Happy Hour/Dancing
END:VEVENT
BEGIN:VEVENT
DTSTART;TZID=America/New_York:20220524T190000
DTEND;TZID=America/New_York:20220524T220000
DTSTAMP:20260423T150225
CREATED:20220410T164004Z
LAST-MODIFIED:20220410T181531Z
UID:10000439-1653418800-1653429600@moac.org
SUMMARY:Banff Mountain Film Festival World Tour
DESCRIPTION:Banff returns to State Theater! Different films each night! \nClick HERE for online tickets. \nClick HERE for additional information.
URL:https://moac.org/event/banff-mountain-film-festival-world-tour/2022-05-24/
CATEGORIES:Camping,Happy Hour/Dancing,Hiking,Kayaking/Canoeing,Mountain Biking,Other/General,Road Biking,Sailing/Boating,Skating,Skiing-Downhill,Skiing-XC/Classic/Skate,Snowshoeing,Walking
ATTACH;FMTTYPE=image/jpeg:https://moac.org/wp-content/uploads/banff-mountain-film-festival-world-tour-2022.jpeg
END:VEVENT
BEGIN:VEVENT
DTSTART;TZID=America/New_York:20220525T190000
DTEND;TZID=America/New_York:20220525T220000
DTSTAMP:20260423T150225
CREATED:20220410T164004Z
LAST-MODIFIED:20220410T181531Z
UID:10000440-1653505200-1653516000@moac.org
SUMMARY:Banff Mountain Film Festival World Tour
DESCRIPTION:Banff returns to State Theater! Different films each night! \nClick HERE for online tickets. \nClick HERE for additional information.
URL:https://moac.org/event/banff-mountain-film-festival-world-tour/2022-05-25/
CATEGORIES:Camping,Happy Hour/Dancing,Hiking,Kayaking/Canoeing,Mountain Biking,Other/General,Road Biking,Sailing/Boating,Skating,Skiing-Downhill,Skiing-XC/Classic/Skate,Snowshoeing,Walking
ATTACH;FMTTYPE=image/jpeg:https://moac.org/wp-content/uploads/banff-mountain-film-festival-world-tour-2022.jpeg
END:VEVENT
BEGIN:VEVENT
DTSTART;TZID=America/New_York:20220527T173000
DTEND;TZID=America/New_York:20220527T193000
DTSTAMP:20260423T150225
CREATED:20220526T204715Z
LAST-MODIFIED:20220526T204715Z
UID:10000409-1653672600-1653679800@moac.org
SUMMARY:MOAC Happy Hour
DESCRIPTION:MOAC Happy Hour this week will be at Salty Bay at Pine Point in Scarborough. The address is: 68 Jones Creek Drive\, Scarborough\, at 5:30 p.m. \n“For each Happy Hour venue\, we will try to give \nas much information as practical about available seating options.\nParticipation in Happy Hour events\, regardless of seating options\, \nis a personal decision and MOAC assumes no liability \nfor potential health risks associated with attending these activities.\n\nVaccination against COVID-19 (including approved booster shots) is \nSTRONGLY ENCOURAGED\, but not required for participation in \nHappy Hour events.  Participants are expected to practice safe behaviors \nincluding social distancing\, hand washing and wearing a mask \nwhen not eating/drinking or when not seated.   Please be respectful of \nother people’s choices and comfort level.  Do not participate if\nyou are not feeling well\, exhibiting COVID symptoms\,\nhave recently tested positive for COVID or have come \ninto close contact with someone who may be COVID positive.”
URL:https://moac.org/event/moac-happy-hour/
CATEGORIES:Happy Hour/Dancing
ORGANIZER;CN="Ruth Earley":MAILTO:rearley1980@gmail.com
END:VEVENT
END:VCALENDAR