BEGIN:VCALENDAR
VERSION:2.0
PRODID:-//MOAC - Maine Outdoor Adventure Club - ECPv6.15.12.1//NONSGML v1.0//EN
CALSCALE:GREGORIAN
METHOD:PUBLISH
X-WR-CALNAME:MOAC - Maine Outdoor Adventure Club
X-ORIGINAL-URL:https://moac.org
X-WR-CALDESC:Events for MOAC - Maine Outdoor Adventure Club
REFRESH-INTERVAL;VALUE=DURATION:PT1H
X-Robots-Tag:noindex
X-PUBLISHED-TTL:PT1H
BEGIN:VTIMEZONE
TZID:America/New_York
BEGIN:DAYLIGHT
TZOFFSETFROM:-0500
TZOFFSETTO:-0400
TZNAME:EDT
DTSTART:20210314T070000
END:DAYLIGHT
BEGIN:STANDARD
TZOFFSETFROM:-0400
TZOFFSETTO:-0500
TZNAME:EST
DTSTART:20211107T060000
END:STANDARD
BEGIN:DAYLIGHT
TZOFFSETFROM:-0500
TZOFFSETTO:-0400
TZNAME:EDT
DTSTART:20220313T070000
END:DAYLIGHT
BEGIN:STANDARD
TZOFFSETFROM:-0400
TZOFFSETTO:-0500
TZNAME:EST
DTSTART:20221106T060000
END:STANDARD
BEGIN:DAYLIGHT
TZOFFSETFROM:-0500
TZOFFSETTO:-0400
TZNAME:EDT
DTSTART:20230312T070000
END:DAYLIGHT
BEGIN:STANDARD
TZOFFSETFROM:-0400
TZOFFSETTO:-0500
TZNAME:EST
DTSTART:20231105T060000
END:STANDARD
END:VTIMEZONE
BEGIN:VEVENT
DTSTART;TZID=America/New_York:20220805T173000
DTEND;TZID=America/New_York:20220805T200000
DTSTAMP:20260423T064311
CREATED:20220804T025532Z
LAST-MODIFIED:20220804T025532Z
UID:10000616-1659720600-1659729600@moac.org
SUMMARY:Happy Hour
DESCRIPTION:Happy Hour this Friday will be at the SEA DOG RESTAURANT AT 725 BROADWAY IN SOUTH PORTLAND. They have inside seating as well as outside seating on an attractive patio. Parking is free in their own lot. The Sea Dog sits adjacent to the South Portland Greenbelt Pathway. \n\n\n\n\n\n\n\n\n\n\n\n\n\nWith the advent of cooler weather\, MOAC Happy Hours may now be located at establishments offering limited or no options for outdoor seating.  For each Happy Hour venue\, we will try to give as much information as practical about available seating options.\n\nParticipation in Happy Hour events\, regardless of seating options\, is a personal decision and MOAC assumes no liability for potential health risks associated with attending these activities.\n\nVaccination against COVID-19 (including approved booster shots) is STRONGLY ENCOURAGED\, but not required for participation in Happy Hour events.   Participants are expected to practice safe behaviors including social distancing\, hand washing and wearing a mask when not eating/drinking or when not seated.   Please be respectful of other people’s choices and comfort level.  Do not participate if you are not feeling well\, exhibiting COVID symptoms\, have recently tested positive for COVID or have come into close contact with someone who may be COVID positive.
URL:https://moac.org/event/happy-hour-15/
CATEGORIES:Happy Hour/Dancing
ORGANIZER;CN="Tom Geis":MAILTO:tomjgeis@hotmail.com
END:VEVENT
BEGIN:VEVENT
DTSTART;TZID=America/New_York:20220812T160000
DTEND;TZID=America/New_York:20220814T170000
DTSTAMP:20260423T064311
CREATED:20220811T125037Z
LAST-MODIFIED:20220812T151807Z
UID:10000629-1660320000-1660496400@moac.org
SUMMARY:Blues Music\, Bike\, Kayak
DESCRIPTION:Visit one of Maine’s 5\,500 lakes close to hiking\, off-road and road biking\, the Androscoggin River\, AND the Mountain Valley Stomp! Music starts Friday night in Peru Village with Lunch Pail Jere’s BAND in Jess and Steve’s barn. Saturday The Stomp starts at 11 and winds down at 6PM at Mountain View Campground in Dixfield. SEE LINK HEREIN for Stomp details. \nBeds indoors at my cottage or bring a tent. Plenty of room by reservation. I will have my 6-per pop-up tent set up for people who just want to crawl in and sleep. \nCOME WHENEVER YOU ARE ABLE.
URL:https://moac.org/event/blues-music-bike-kayak-812/
CATEGORIES:Happy Hour/Dancing,Kayaking/Canoeing,Mountain Biking,Road Biking,Walking
ATTACH;FMTTYPE=image/jpeg:https://moac.org/wp-content/uploads/681541_1003020793-BlackCatRoad.jpg
END:VEVENT
BEGIN:VEVENT
DTSTART;TZID=America/New_York:20220812T173000
DTEND;TZID=America/New_York:20220812T200000
DTSTAMP:20260423T064311
CREATED:20220811T011542Z
LAST-MODIFIED:20220811T011542Z
UID:10000627-1660325400-1660334400@moac.org
SUMMARY:Happy Hour
DESCRIPTION:Happy Hour this Friday will be up on THE ROOFTOP AT BAYSIDE BOWL. Cheap drinks – 16 oz. Moosehead cans just $3.00. Mexican eats available from the rooftop food truck. Free parking in their lot plus plenty of free parking on adjoining streets. It’s supposed to be a nice night: partly sunny with temps around 70. \n\n\n\n\n\n\n\n\n\n\n\n\n\nWith the advent of cooler weather\, MOAC Happy Hours may now be located at establishments offering limited or no options for outdoor seating.  For each Happy Hour venue\, we will try to give as much information as practical about available seating options.\n\nParticipation in Happy Hour events\, regardless of seating options\, is a personal decision and MOAC assumes no liability for potential health risks associated with attending these activities.\n\nVaccination against COVID-19 (including approved booster shots) is STRONGLY ENCOURAGED\, but not required for participation in Happy Hour events.   Participants are expected to practice safe behaviors including social distancing\, hand washing and wearing a mask when not eating/drinking or when not seated.   Please be respectful of other people’s choices and comfort level.  Do not participate if you are not feeling well\, exhibiting COVID symptoms\, have recently tested positive for COVID or have come into close contact with someone who may be COVID positive.
URL:https://moac.org/event/happy-hour-16/
CATEGORIES:Happy Hour/Dancing
ORGANIZER;CN="Tom Geis":MAILTO:tomjgeis@hotmail.com
END:VEVENT
BEGIN:VEVENT
DTSTART;TZID=America/New_York:20220819T173000
DTEND;TZID=America/New_York:20220819T200000
DTSTAMP:20260423T064311
CREATED:20220818T001329Z
LAST-MODIFIED:20220818T001329Z
UID:10000655-1660930200-1660939200@moac.org
SUMMARY:Happy Hour
DESCRIPTION:Happy Hour this Friday will be at JIMMY THE GREEK’S located at 215 Saco Avenue in Old Orchard. PLEASE READ ON. \nIt’s a slick and easy ride\, just a flat 20 minutes from the corner of Franklin & Marginal Way. Take the Saco exit off I-95 and get on the spur (I-195) which brings you virtually to  Jimmy’s door. Large outside patio with plenty of room inside as well. Free parking in their lot. Over a dozen beers on tap\, full bar\, and wood oven pizza. From Jimmy’s it’s a little over a mile down Temple Street to the beach in the village of Ocean Park. Free parking there too. If you’ve never been there\, Ocean Park is the antithesis of OOB – a quaint village on the water with an ice cream shop and old fashioned library. \n\n\n\n\n\n\n\n\n\n\n\n\n\nWith the advent of cooler weather\, MOAC Happy Hours may now be located at establishments offering limited or no options for outdoor seating.  For each Happy Hour venue\, we will try to give as much information as practical about available seating options.\n\nParticipation in Happy Hour events\, regardless of seating options\, is a personal decision and MOAC assumes no liability for potential health risks associated with attending these activities.\n\nVaccination against COVID-19 (including approved booster shots) is STRONGLY ENCOURAGED\, but not required for participation in Happy Hour events.   Participants are expected to practice safe behaviors including social distancing\, hand washing and wearing a mask when not eating/drinking or when not seated.   Please be respectful of other people’s choices and comfort level.  Do not participate if you are not feeling well\, exhibiting COVID symptoms\, have recently tested positive for COVID or have come into close contact with someone who may be COVID positive.\n\n\n\n\n\n\n\n\n\n\n\n\n\n 
URL:https://moac.org/event/happy-hour-17/
CATEGORIES:Happy Hour/Dancing
END:VEVENT
BEGIN:VEVENT
DTSTART;TZID=America/New_York:20220823T173000
DTEND;TZID=America/New_York:20220823T210000
DTSTAMP:20260423T064311
CREATED:20220822T200404Z
LAST-MODIFIED:20220822T200404Z
UID:10000665-1661275800-1661288400@moac.org
SUMMARY:Music jam
DESCRIPTION:Small \, almost spur of the moment\, music jam this Tuesday eve 5:30 on \nat 82 Fowler rd Cape Elizabeth. Bring ears and instrument if u got one
URL:https://moac.org/event/music-jam/
CATEGORIES:Happy Hour/Dancing
ORGANIZER;CN="Bill Stressenger":MAILTO:billstressenger@gmail.com
END:VEVENT
BEGIN:VEVENT
DTSTART;TZID=America/New_York:20220826T173000
DTEND;TZID=America/New_York:20220826T200000
DTSTAMP:20260423T064311
CREATED:20220824T000050Z
LAST-MODIFIED:20220824T000050Z
UID:10000669-1661535000-1661544000@moac.org
SUMMARY:Happy Hour
DESCRIPTION:Happy Hour this Friday will be at OXBOW BREWING located at 49 Washington Street in Portland. Plenty of roomy seating both inside and out. Some of the outside tables have fire pits. Upscale local restaurant DUCKFAT provides quick bites on site. There’s a small parking lot but there’s also free parking all along Washington Avenue. \n\n\n\n\n\n\n\n\n\n\n\n\n\nWith the advent of cooler weather\, MOAC Happy Hours may now be located at establishments offering limited or no options for outdoor seating.  For each Happy Hour venue\, we will try to give as much information as practical about available seating options.\n\nParticipation in Happy Hour events\, regardless of seating options\, is a personal decision and MOAC assumes no liability for potential health risks associated with attending these activities.\n\nVaccination against COVID-19 (including approved booster shots) is STRONGLY ENCOURAGED\, but not required for participation in Happy Hour events.   Participants are expected to practice safe behaviors including social distancing\, hand washing and wearing a mask when not eating/drinking or when not seated.   Please be respectful of other people’s choices and comfort level.  Do not participate if you are not feeling well\, exhibiting COVID symptoms\, have recently tested positive for COVID or have come into close contact with someone who may be COVID positive.
URL:https://moac.org/event/happy-hour-18/
CATEGORIES:Happy Hour/Dancing
END:VEVENT
BEGIN:VEVENT
DTSTART;TZID=America/New_York:20220827T180000
DTEND;TZID=America/New_York:20220827T200000
DTSTAMP:20260423T064311
CREATED:20220826T204800Z
LAST-MODIFIED:20220826T204800Z
UID:10000676-1661623200-1661630400@moac.org
SUMMARY:Happy Hour at the Farm
DESCRIPTION:Come hear The Midnight Rangers at Orchard Ridge Farm\,  236 Sebago Lake Road Gorham Maine.  Come out to the farm for an evening of music\, food & Beers!
URL:https://moac.org/event/happy-hour-at-the-farm/
CATEGORIES:Happy Hour/Dancing
ATTACH;FMTTYPE=image/jpeg:https://moac.org/wp-content/uploads/D80DCB26-7558-40E9-9EF8-700349A0FD34.jpeg
ORGANIZER;CN="Maureen Griffin":MAILTO:mrngriffin1012@gmail.com
END:VEVENT
END:VCALENDAR