BEGIN:VCALENDAR
VERSION:2.0
PRODID:-//MOAC - Maine Outdoor Adventure Club - ECPv6.15.12.1//NONSGML v1.0//EN
CALSCALE:GREGORIAN
METHOD:PUBLISH
X-ORIGINAL-URL:https://moac.org
X-WR-CALDESC:Events for MOAC - Maine Outdoor Adventure Club
REFRESH-INTERVAL;VALUE=DURATION:PT1H
X-Robots-Tag:noindex
X-PUBLISHED-TTL:PT1H
BEGIN:VTIMEZONE
TZID:America/New_York
BEGIN:DAYLIGHT
TZOFFSETFROM:-0500
TZOFFSETTO:-0400
TZNAME:EDT
DTSTART:20210314T070000
END:DAYLIGHT
BEGIN:STANDARD
TZOFFSETFROM:-0400
TZOFFSETTO:-0500
TZNAME:EST
DTSTART:20211107T060000
END:STANDARD
BEGIN:DAYLIGHT
TZOFFSETFROM:-0500
TZOFFSETTO:-0400
TZNAME:EDT
DTSTART:20220313T070000
END:DAYLIGHT
BEGIN:STANDARD
TZOFFSETFROM:-0400
TZOFFSETTO:-0500
TZNAME:EST
DTSTART:20221106T060000
END:STANDARD
BEGIN:DAYLIGHT
TZOFFSETFROM:-0500
TZOFFSETTO:-0400
TZNAME:EDT
DTSTART:20230312T070000
END:DAYLIGHT
BEGIN:STANDARD
TZOFFSETFROM:-0400
TZOFFSETTO:-0500
TZNAME:EST
DTSTART:20231105T060000
END:STANDARD
END:VTIMEZONE
BEGIN:VEVENT
DTSTART;TZID=America/New_York:20220902T170000
DTEND;TZID=America/New_York:20220902T200000
DTSTAMP:20260423T081245
CREATED:20220901T021058Z
LAST-MODIFIED:20220901T021058Z
UID:10000680-1662138000-1662148800@moac.org
SUMMARY:Happy Hour
DESCRIPTION:It’s the last Friday before Labor Day and we’d like to interest our group in something different. Happy Hour this Friday will be at THE PIRATE’S PATIO\, 2 Walnut Street in OOB. Please READ ON. \nThe “patio” is the sand of the beach. The place is rustic but they have a full bar and pub food. There typically is a one-piece band – a vocalist on a guitar singing mellow country music. \nGETTING THERE: If you take the Old Blue Point Road off of Route 1 (just set your GPS from Terra Cotta Pasta on that corner) you’ll get all the way to the Pirate’s Patio with ZERO TRAFFIC. \nPARKING: The town’s Milliken Street Parking Lot is large and always has plenty of room. It’s at the corner of Walnut and Milliken Street and is exactly one-tenth mile from Pirate’s Patio – a two to three minute walk. Last time I parked there it was $2.00 per hour. \n  \n\n\n\n\n\n\n\n\n\n\n\n\n\nWith the advent of cooler weather\, MOAC Happy Hours may now be located at establishments offering limited or no options for outdoor seating.  For each Happy Hour venue\, we will try to give as much information as practical about available seating options.\n\nParticipation in Happy Hour events\, regardless of seating options\, is a personal decision and MOAC assumes no liability for potential health risks associated with attending these activities.\n\nVaccination against COVID-19 (including approved booster shots) is STRONGLY ENCOURAGED\, but not required for participation in Happy Hour events.   Participants are expected to practice safe behaviors including social distancing\, hand washing and wearing a mask when not eating/drinking or when not seated.   Please be respectful of other people’s choices and comfort level.  Do not participate if you are not feeling well\, exhibiting COVID symptoms\, have recently tested positive for COVID or have come into close contact with someone who may be COVID positive.\n\n\n\n\n\n\n\n\n\n\n\n\n\n  \n  \n  \n 
URL:https://moac.org/event/happy-hour-19/
CATEGORIES:Happy Hour/Dancing
END:VEVENT
BEGIN:VEVENT
DTSTART;TZID=America/New_York:20220909T170000
DTEND;TZID=America/New_York:20220909T200000
DTSTAMP:20260423T081245
CREATED:20220908T153819Z
LAST-MODIFIED:20220908T153819Z
UID:10000688-1662742800-1662753600@moac.org
SUMMARY:Happy Hour
DESCRIPTION:Happy Hour this week will be at “Run of the Mill” at 100 Main Street down in Saco. Easy to get to: Take I95 to the Saco/OOB Exit proceeding on to the spur (I195) which brings you to Route 1; turn right on to Route 1 and “Run of the Mill” will be on your right in about one mile. \nGreat food\, full bar\, and their own microbrewery onsite. They have a great deck which is pretty much on the Saco River (they prefer to seat folks here who will be eating something). Their bar (where we normally sit) is cozy with lots of wood. Free parking in their lot. \n\n\n\n\n\n\n\n\n\n\n\n\n\nWith the advent of cooler weather\, MOAC Happy Hours may now be located at establishments offering limited or no options for outdoor seating.  For each Happy Hour venue\, we will try to give as much information as practical about available seating options.\n\nParticipation in Happy Hour events\, regardless of seating options\, is a personal decision and MOAC assumes no liability for potential health risks associated with attending these activities.\n\nVaccination against COVID-19 (including approved booster shots) is STRONGLY ENCOURAGED\, but not required for participation in Happy Hour events.   Participants are expected to practice safe behaviors including social distancing\, hand washing and wearing a mask when not eating/drinking or when not seated.   Please be respectful of other people’s choices and comfort level.  Do not participate if you are not feeling well\, exhibiting COVID symptoms\, have recently tested positive for COVID or have come into close contact with someone who may be COVID positive.
URL:https://moac.org/event/happy-hour-20/
CATEGORIES:Happy Hour/Dancing
END:VEVENT
BEGIN:VEVENT
DTSTART;TZID=America/New_York:20220916T173000
DTEND;TZID=America/New_York:20220916T200000
DTSTAMP:20260423T081245
CREATED:20220915T024106Z
LAST-MODIFIED:20220915T024106Z
UID:10000552-1663349400-1663358400@moac.org
SUMMARY:Happy Hour
DESCRIPTION:Happy Hour this Friday will be at the NOVARE RES BIER CAFE located at 4 Canal Plaza in the Old Port. A unique spot set back in off Exchange Street in a grotto-like atmosphere. Beer\, wine\, and light bites. Inside and outside seating. Like it or not the tourist season is pretty much over so on street parking will be much easier to come by. \n\n\n\n\n\n\n\n\n\n\n\n\n\nWith the advent of cooler weather\, MOAC Happy Hours may now be located at establishments offering limited or no options for outdoor seating.  For each Happy Hour venue\, we will try to give as much information as practical about available seating options.\n\nParticipation in Happy Hour events\, regardless of seating options\, is a personal decision and MOAC assumes no liability for potential health risks associated with attending these activities.\n\nVaccination against COVID-19 (including approved booster shots) is STRONGLY ENCOURAGED\, but not required for participation in Happy Hour events.   Participants are expected to practice safe behaviors including social distancing\, hand washing and wearing a mask when not eating/drinking or when not seated.   Please be respectful of other people’s choices and comfort level.  Do not participate if you are not feeling well\, exhibiting COVID symptoms\, have recently tested positive for COVID or have come into close contact with someone who may be COVID positive.
URL:https://moac.org/event/happy-hour-21/
CATEGORIES:Happy Hour/Dancing
ORGANIZER;CN="Tom Geis":MAILTO:tomjgeis@hotmail.com
END:VEVENT
BEGIN:VEVENT
DTSTART;TZID=America/New_York:20220923T173000
DTEND;TZID=America/New_York:20220923T200000
DTSTAMP:20260423T081245
CREATED:20220922T151341Z
LAST-MODIFIED:20220922T151341Z
UID:10000568-1663954200-1663963200@moac.org
SUMMARY:Happy Hour
DESCRIPTION:HAPPY HOUR this Friday will be at RIVALRIES in FALMOUTH which is located behind the WalMart off Route 1. We’ll likely be inside and there’s plenty of room. Reasonable drink prices and full bar. Good food. Free parking in their own lot. \n\n\n\n\n\n\n\n\n\n\n\n\n\nWith the advent of cooler weather\, MOAC Happy Hours may now be located at establishments offering limited or no options for outdoor seating.  For each Happy Hour venue\, we will try to give as much information as practical about available seating options.\n\nParticipation in Happy Hour events\, regardless of seating options\, is a personal decision and MOAC assumes no liability for potential health risks associated with attending these activities.\n\nVaccination against COVID-19 (including approved booster shots) is STRONGLY ENCOURAGED\, but not required for participation in Happy Hour events.   Participants are expected to practice safe behaviors including social distancing\, hand washing and wearing a mask when not eating/drinking or when not seated.   Please be respectful of other people’s choices and comfort level.  Do not participate if you are not feeling well\, exhibiting COVID symptoms\, have recently tested positive for COVID or have come into close contact with someone who may be COVID positive.
URL:https://moac.org/event/happy-hour-22/
CATEGORIES:Happy Hour/Dancing
ORGANIZER;CN="Tom Geis":MAILTO:tomjgeis@hotmail.com
END:VEVENT
BEGIN:VEVENT
DTSTART;TZID=America/New_York:20220930T173000
DTEND;TZID=America/New_York:20220930T200000
DTSTAMP:20260423T081245
CREATED:20220929T130525Z
LAST-MODIFIED:20220929T130525Z
UID:10000696-1664559000-1664568000@moac.org
SUMMARY:HAPPY HOUR
DESCRIPTION:Happy Hour this Friday will be RISING TIDE BREWING COMPANY\, 103 Fox Street in Portland. Inside and outside seating. Free parking in their own lot. It’s supposed to be a nice night but cool so we’ll probably be around one of their FIRE PITS. \n\n\n\n\n\n\n\n\n\n\n\n\n\nWith the advent of cooler weather\, MOAC Happy Hours may now be located at establishments offering limited or no options for outdoor seating.  For each Happy Hour venue\, we will try to give as much information as practical about available seating options.\n\nParticipation in Happy Hour events\, regardless of seating options\, is a personal decision and MOAC assumes no liability for potential health risks associated with attending these activities.\n\nVaccination against COVID-19 (including approved booster shots) is STRONGLY ENCOURAGED\, but not required for participation in Happy Hour events.   Participants are expected to practice safe behaviors including social distancing\, hand washing and wearing a mask when not eating/drinking or when not seated.   Please be respectful of other people’s choices and comfort level.  Do not participate if you are not feeling well\, exhibiting COVID symptoms\, have recently tested positive for COVID or have come into close contact with someone who may be COVID positive.
URL:https://moac.org/event/happy-hour-23/
CATEGORIES:Happy Hour/Dancing
ORGANIZER;CN="Tom Geis":MAILTO:tomjgeis@hotmail.com
END:VEVENT
END:VCALENDAR