BEGIN:VCALENDAR
VERSION:2.0
PRODID:-//MOAC - Maine Outdoor Adventure Club - ECPv6.15.12.1//NONSGML v1.0//EN
CALSCALE:GREGORIAN
METHOD:PUBLISH
X-WR-CALNAME:MOAC - Maine Outdoor Adventure Club
X-ORIGINAL-URL:https://moac.org
X-WR-CALDESC:Events for MOAC - Maine Outdoor Adventure Club
REFRESH-INTERVAL;VALUE=DURATION:PT1H
X-Robots-Tag:noindex
X-PUBLISHED-TTL:PT1H
BEGIN:VTIMEZONE
TZID:America/New_York
BEGIN:DAYLIGHT
TZOFFSETFROM:-0500
TZOFFSETTO:-0400
TZNAME:EDT
DTSTART:20210314T070000
END:DAYLIGHT
BEGIN:STANDARD
TZOFFSETFROM:-0400
TZOFFSETTO:-0500
TZNAME:EST
DTSTART:20211107T060000
END:STANDARD
BEGIN:DAYLIGHT
TZOFFSETFROM:-0500
TZOFFSETTO:-0400
TZNAME:EDT
DTSTART:20220313T070000
END:DAYLIGHT
BEGIN:STANDARD
TZOFFSETFROM:-0400
TZOFFSETTO:-0500
TZNAME:EST
DTSTART:20221106T060000
END:STANDARD
BEGIN:DAYLIGHT
TZOFFSETFROM:-0500
TZOFFSETTO:-0400
TZNAME:EDT
DTSTART:20230312T070000
END:DAYLIGHT
BEGIN:STANDARD
TZOFFSETFROM:-0400
TZOFFSETTO:-0500
TZNAME:EST
DTSTART:20231105T060000
END:STANDARD
END:VTIMEZONE
BEGIN:VEVENT
DTSTART;TZID=America/New_York:20221104T173000
DTEND;TZID=America/New_York:20221104T200000
DTSTAMP:20260422T225720
CREATED:20221103T021820Z
LAST-MODIFIED:20221103T021820Z
UID:10000734-1667583000-1667592000@moac.org
SUMMARY:HAPPY HOUR
DESCRIPTION:HAPPY HOUR this Friday will be at WILLOWS RESTAURANT located at 740 Broadway in South Portland. We’ll be inside in their dining room/lounge likely milling around their fireplace. Free parking in their own lot. Full bar with reasonable drink prices and really good pizza. \n\n\n\n\n\n\n\n\n\n\n\n\n\nWith the advent of cooler weather\, MOAC Happy Hours may now be located at establishments offering limited or no options for outdoor seating.  For each Happy Hour venue\, we will try to give as much information as practical about available seating options.\n\nParticipation in Happy Hour events\, regardless of seating options\, is a personal decision and MOAC assumes no liability for potential health risks associated with attending these activities.\n\nVaccination against COVID-19 (including approved booster shots) is STRONGLY ENCOURAGED\, but not required for participation in Happy Hour events.   Participants are expected to practice safe behaviors including social distancing\, hand washing and wearing a mask when not eating/drinking or when not seated.   Please be respectful of other people’s choices and comfort level.  Do not participate if you are not feeling well\, exhibiting COVID symptoms\, have recently tested positive for COVID or have come into close contact with someone who may be COVID positive.
URL:https://moac.org/event/happy-hour-28/
CATEGORIES:Happy Hour/Dancing
ORGANIZER;CN="Tom Geis":MAILTO:tomjgeis@hotmail.com
END:VEVENT
BEGIN:VEVENT
DTSTART;TZID=America/New_York:20221105T080000
DTEND;TZID=America/New_York:20221105T130000
DTSTAMP:20260422T225720
CREATED:20221001T134322Z
LAST-MODIFIED:20221020T124536Z
UID:10000698-1667635200-1667653200@moac.org
SUMMARY:Take Pride in Acadia Day\, 2022
DESCRIPTION:For 31 years\, volunteers have gathered on the first Saturday of November to help ready the famous carriage roads for winter. Sponsored by Friends of Acadia\, teams are assigned troublesome sections of carriage roads where erosion can cause damage over the winter. The task? Rake the leaves and debris off the shoulders and into the woods. MOAC has had members at this event for many years. We have a team that will work together. \nIf you follow the Friends of Acadia link above\, there will be information about how to sign up for the event. PLEASE do not do that. Since we are working as a group\, use the sign up link below so I can keep track. I will submit our roster of names to Friends. \nPlease click HERE to sign up. Your email is so we can communicate before the weekend. Your phone number so we can as well during the weekend. \nMost who sign up make it a weekend\, but that is not required. The actual commitment to the park is from roughly 8:30 am to noon on Saturday. If you choose to make it a weekend\, the rest of the time is yours. \nThere is no cost to the event itself. If you choose to stay over\, you will need to find your own lodging. Tam and I are staying at the Bar Harbor Grand Hotel\, right in downtown and that has been the hotel of choice for the most part for a few years now. But\, you can do as you wish in this regard. The Grand offers a free breakfast. Local restaurants for the rest. \nBack for 2022\, however\, is the free lunch after the work Saturday. Discontinued during Covid\, it’s back. After our work commitment is done\, we can head over to the Park Headquarters on Eagle Lake Road for a “CCC” lunch. Chili\, cornbread\, and cider. At least that’s what it used to be. Aside from the ingredients\, it’s named to honor the Civilian Conservation Corp\, who did a lot of work in Acadia.
URL:https://moac.org/event/take-pride-in-acadia-day-2022/
CATEGORIES:Happy Hour/Dancing,Hiking,Mountain Biking,Other/General,Road Biking,Social,Walking
ATTACH;FMTTYPE=image/jpeg:https://moac.org/wp-content/uploads/Take-Pride-2.jpeg
ORGANIZER;CN="Peter Mullen":MAILTO:pcm25me@gmail.com
END:VEVENT
BEGIN:VEVENT
DTSTART;TZID=America/New_York:20221111T173000
DTEND;TZID=America/New_York:20221111T200000
DTSTAMP:20260422T225720
CREATED:20221110T011827Z
LAST-MODIFIED:20221110T011827Z
UID:10000740-1668187800-1668196800@moac.org
SUMMARY:HAPPY HOUR
DESCRIPTION:HAPPY HOUR this Friday will be at the RUN OF THE MILL PUBLIC HOUSE located at 100 Main Street in Saco. Warm bar and lounge area with lots of wood. Full bar and very good food. Free parking in their own lot. \n\n\n\n\n\n\n\n\n\n\n\n\n\nWith the advent of cooler weather\, MOAC Happy Hours may now be located at establishments offering limited or no options for outdoor seating.  For each Happy Hour venue\, we will try to give as much information as practical about available seating options.\n\nParticipation in Happy Hour events\, regardless of seating options\, is a personal decision and MOAC assumes no liability for potential health risks associated with attending these activities.\n\nVaccination against COVID-19 (including approved booster shots) is STRONGLY ENCOURAGED\, but not required for participation in Happy Hour events.   Participants are expected to practice safe behaviors including social distancing\, hand washing and wearing a mask when not eating/drinking or when not seated.   Please be respectful of other people’s choices and comfort level.  Do not participate if you are not feeling well\, exhibiting COVID symptoms\, have recently tested positive for COVID or have come into close contact with someone who may be COVID positive.
URL:https://moac.org/event/happy-hour-29/
CATEGORIES:Happy Hour/Dancing
ORGANIZER;CN="Tom Geis":MAILTO:tomjgeis@hotmail.com
END:VEVENT
BEGIN:VEVENT
DTSTART;TZID=America/New_York:20221125T173000
DTEND;TZID=America/New_York:20221125T200000
DTSTAMP:20260422T225720
CREATED:20221124T025002Z
LAST-MODIFIED:20221124T025002Z
UID:10000749-1669397400-1669406400@moac.org
SUMMARY:HAPPY HOUR
DESCRIPTION:HAPPY HOUR this Friday will be at ROSIE’S RESTAURANT & PUB located at 330 Fore Street in the Old Port. ROSIE’s is a relatively small and intimate spot that always seems to have a friendly crowd. Old Port holiday lights should be up by now and any showers are supposed to end by evening on Friday. \n\n\n\n\n\n\n\n\n\n\n\n\n\nWith the advent of cooler weather\, MOAC Happy Hours may now be located at establishments offering limited or no options for outdoor seating.  For each Happy Hour venue\, we will try to give as much information as practical about available seating options.\n\nParticipation in Happy Hour events\, regardless of seating options\, is a personal decision and MOAC assumes no liability for potential health risks associated with attending these activities.\n\nVaccination against COVID-19 (including approved booster shots) is STRONGLY ENCOURAGED\, but not required for participation in Happy Hour events.   Participants are expected to practice safe behaviors including social distancing\, hand washing and wearing a mask when not eating/drinking or when not seated.   Please be respectful of other people’s choices and comfort level.  Do not participate if you are not feeling well\, exhibiting COVID symptoms\, have recently tested positive for COVID or have come into close contact with someone who may be COVID positive.\n\n\n\n\n\n\n\n\n\n\n\n\n\n 
URL:https://moac.org/event/happy-hour-31/
CATEGORIES:Happy Hour/Dancing
ORGANIZER;CN="Tom Geis":MAILTO:tomjgeis@hotmail.com
END:VEVENT
END:VCALENDAR