BEGIN:VCALENDAR
VERSION:2.0
PRODID:-//MOAC - Maine Outdoor Adventure Club - ECPv6.15.12.1//NONSGML v1.0//EN
CALSCALE:GREGORIAN
METHOD:PUBLISH
X-ORIGINAL-URL:https://moac.org
X-WR-CALDESC:Events for MOAC - Maine Outdoor Adventure Club
REFRESH-INTERVAL;VALUE=DURATION:PT1H
X-Robots-Tag:noindex
X-PUBLISHED-TTL:PT1H
BEGIN:VTIMEZONE
TZID:America/New_York
BEGIN:DAYLIGHT
TZOFFSETFROM:-0500
TZOFFSETTO:-0400
TZNAME:EDT
DTSTART:20220313T070000
END:DAYLIGHT
BEGIN:STANDARD
TZOFFSETFROM:-0400
TZOFFSETTO:-0500
TZNAME:EST
DTSTART:20221106T060000
END:STANDARD
BEGIN:DAYLIGHT
TZOFFSETFROM:-0500
TZOFFSETTO:-0400
TZNAME:EDT
DTSTART:20230312T070000
END:DAYLIGHT
BEGIN:STANDARD
TZOFFSETFROM:-0400
TZOFFSETTO:-0500
TZNAME:EST
DTSTART:20231105T060000
END:STANDARD
BEGIN:DAYLIGHT
TZOFFSETFROM:-0500
TZOFFSETTO:-0400
TZNAME:EDT
DTSTART:20240310T070000
END:DAYLIGHT
BEGIN:STANDARD
TZOFFSETFROM:-0400
TZOFFSETTO:-0500
TZNAME:EST
DTSTART:20241103T060000
END:STANDARD
END:VTIMEZONE
BEGIN:VEVENT
DTSTART;TZID=America/New_York:20230407T173000
DTEND;TZID=America/New_York:20230407T200000
DTSTAMP:20260421T215813
CREATED:20230406T134620Z
LAST-MODIFIED:20230406T134620Z
UID:10000881-1680888600-1680897600@moac.org
SUMMARY:HAPPY HOUR
DESCRIPTION:HAPPY HOUR this Friday will be at the STOCKHOUSE RESTAURANT AND SPORTS PUB located at 506 Main Street in Westbrook. Free parking in their own lot. Food and drink specials. Always good. \n\n\n\n\n\n\n\n\n\n\n\n\n\nWith the advent of cooler weather\, MOAC Happy Hours may now be located at establishments offering limited or no options for outdoor seating.  For each Happy Hour venue\, we will try to give as much information as practical about available seating options.\n\nParticipation in Happy Hour events\, regardless of seating options\, is a personal decision and MOAC assumes no liability for potential health risks associated with attending these activities.\n\nVaccination against COVID-19 (including approved booster shots) is STRONGLY ENCOURAGED\, but not required for participation in Happy Hour events.   Participants are expected to practice safe behaviors including social distancing\, hand washing and wearing a mask when not eating/drinking or when not seated.   Please be respectful of other people’s choices and comfort level.  Do not participate if you are not feeling well\, exhibiting COVID symptoms\, have recently tested positive for COVID or have come into close contact with someone who may be COVID positive.
URL:https://moac.org/event/happy-hour-50/
CATEGORIES:Happy Hour/Dancing
END:VEVENT
BEGIN:VEVENT
DTSTART;TZID=America/New_York:20230414T173000
DTEND;TZID=America/New_York:20230414T200000
DTSTAMP:20260421T215813
CREATED:20230412T141354Z
LAST-MODIFIED:20230412T141354Z
UID:10000919-1681493400-1681502400@moac.org
SUMMARY:HAPPY HOUR
DESCRIPTION:SPECIAL HAPPY HOUR THIS FRIDAY… Dan Kidd is having a LOBSTER BAKE this Friday in his backyard and we’ll be incorporating it with our HAPPY HOUR! It’s a BYOB event.  IF YOU’D LIKE A LOBSTER PLEASE TEXT DAN AT (207) 478-6835. Dan is going to buy them and cook them. THE LOBSTERS WILL BE $20 EACH which is a very good deal – they’re now $14.95 per pound at Hannaford. Dan’s address is 9 BALLARD STREET IN SOUTH PORTLAND. We’ll be in back at the water’s edge so BRING A CHAIR. NORMAL START TIME: 5:30PM. Supposed to be a nice night weather-wise. What a great way to start the season!!
URL:https://moac.org/event/happy-hour-51/
CATEGORIES:Happy Hour/Dancing
END:VEVENT
BEGIN:VEVENT
DTSTART;TZID=America/New_York:20230414T180000
DTEND;TZID=America/New_York:20230414T203000
DTSTAMP:20260421T215813
CREATED:20230412T184232Z
LAST-MODIFIED:20230414T021344Z
UID:10000921-1681495200-1681504200@moac.org
SUMMARY:Live Blues Music
DESCRIPTION:Meet at the Am Legion\, 300 Conant Street\, Westbrook. (Off Route 25 toward Groham. ) Music is 6-8:30. Kitchen 5:30-8:00. $5 cover for non-Vet members.
URL:https://moac.org/event/live-blues-music/
CATEGORIES:Happy Hour/Dancing
ATTACH;FMTTYPE=image/jpeg:https://moac.org/wp-content/uploads/Screenshot_20230413-221131_Facebook.jpg
END:VEVENT
BEGIN:VEVENT
DTSTART;TZID=America/New_York:20230421T173000
DTEND;TZID=America/New_York:20230421T200000
DTSTAMP:20260421T215813
CREATED:20230420T142655Z
LAST-MODIFIED:20230420T142655Z
UID:10000929-1682098200-1682107200@moac.org
SUMMARY:HAPPY HOUR
DESCRIPTION:A new spot this week checked out and recommended by one of our HAPPY HOUR regulars. HAPPY HOUR this Friday will be at BLAZE BREWING located at 28 PEARL STREET IN BIDDEFORD. It’s situated in one of the recently renovated mill buildings overlooking the Saco River and dam. Lots of brick inside with post and beam construction. An assortment of draft beers are offered along with wine selections and very good food. Parking is free and on site.
URL:https://moac.org/event/happy-hour-52/
CATEGORIES:Happy Hour/Dancing
END:VEVENT
BEGIN:VEVENT
DTSTART;TZID=America/New_York:20230421T190000
DTEND;TZID=America/New_York:20230421T220000
DTSTAMP:20260421T215813
CREATED:20230419T001639Z
LAST-MODIFIED:20230419T001639Z
UID:10000926-1682103600-1682114400@moac.org
SUMMARY:Black Cat Road
DESCRIPTION:Maine’s Own Black Cat Road will be taking the stage Friday evening at the New Gloucester Fraternal Order Of Eagles\, Sabbathday Rd\, New Gloucester\, ME 04260. 7 pm. \nBCR calls their music “swamp rock and blues” and played several of the Maine Blues Festivals in Naples.
URL:https://moac.org/event/black-cat-road/
CATEGORIES:Happy Hour/Dancing
ATTACH;FMTTYPE=image/jpeg:https://moac.org/wp-content/uploads/bcr-bw-1.jpg
ORGANIZER;CN="Peter Mullen":MAILTO:pcm25me@gmail.com
END:VEVENT
BEGIN:VEVENT
DTSTART;TZID=America/New_York:20230428T173000
DTEND;TZID=America/New_York:20230428T200000
DTSTAMP:20260421T215813
CREATED:20230427T021823Z
LAST-MODIFIED:20230427T021823Z
UID:10000934-1682703000-1682712000@moac.org
SUMMARY:HAPPY HOUR
DESCRIPTION:With ‘The Season” just around the corner now’s a good time to get into the Old Port. Weather on Friday is supposed to be great too. HAPPY HOUR this Friday will be at THREE DOLLAR DEWEY’S located at 241 Commercial Street. Very reasonable drink prices. Free popcorn and good pub food. Long-table seating.
URL:https://moac.org/event/happy-hour-53/
CATEGORIES:Happy Hour/Dancing
END:VEVENT
END:VCALENDAR