BEGIN:VCALENDAR
VERSION:2.0
PRODID:-//MOAC - Maine Outdoor Adventure Club - ECPv6.15.12.1//NONSGML v1.0//EN
CALSCALE:GREGORIAN
METHOD:PUBLISH
X-WR-CALNAME:MOAC - Maine Outdoor Adventure Club
X-ORIGINAL-URL:https://moac.org
X-WR-CALDESC:Events for MOAC - Maine Outdoor Adventure Club
REFRESH-INTERVAL;VALUE=DURATION:PT1H
X-Robots-Tag:noindex
X-PUBLISHED-TTL:PT1H
BEGIN:VTIMEZONE
TZID:America/New_York
BEGIN:DAYLIGHT
TZOFFSETFROM:-0500
TZOFFSETTO:-0400
TZNAME:EDT
DTSTART:20220313T070000
END:DAYLIGHT
BEGIN:STANDARD
TZOFFSETFROM:-0400
TZOFFSETTO:-0500
TZNAME:EST
DTSTART:20221106T060000
END:STANDARD
BEGIN:DAYLIGHT
TZOFFSETFROM:-0500
TZOFFSETTO:-0400
TZNAME:EDT
DTSTART:20230312T070000
END:DAYLIGHT
BEGIN:STANDARD
TZOFFSETFROM:-0400
TZOFFSETTO:-0500
TZNAME:EST
DTSTART:20231105T060000
END:STANDARD
BEGIN:DAYLIGHT
TZOFFSETFROM:-0500
TZOFFSETTO:-0400
TZNAME:EDT
DTSTART:20240310T070000
END:DAYLIGHT
BEGIN:STANDARD
TZOFFSETFROM:-0400
TZOFFSETTO:-0500
TZNAME:EST
DTSTART:20241103T060000
END:STANDARD
END:VTIMEZONE
BEGIN:VEVENT
DTSTART;TZID=America/New_York:20230505T173000
DTEND;TZID=America/New_York:20230505T200000
DTSTAMP:20260421T203942
CREATED:20230504T005210Z
LAST-MODIFIED:20230504T005210Z
UID:10000937-1683307800-1683316800@moac.org
SUMMARY:HAPPY HOUR
DESCRIPTION:HAPPY HOUR this Friday will be at the new SEA DOG RESTAURANT AND BREWING COMPANY located in Cabela’s Plaza in Scarborough. Easy to get to directly off Exit 42 of I95. Good food\, good drinks\, good prices\, good service. Free parking in their own lot.
URL:https://moac.org/event/happy-hour-54/
CATEGORIES:Happy Hour/Dancing
END:VEVENT
BEGIN:VEVENT
DTSTART;TZID=America/New_York:20230512T173000
DTEND;TZID=America/New_York:20230512T200000
DTSTAMP:20260421T203942
CREATED:20230505T172702Z
LAST-MODIFIED:20230505T172702Z
UID:10000942-1683912600-1683921600@moac.org
SUMMARY:HAPPY HOUR
DESCRIPTION:PLEASE NOTE: The following post is for Friday May 12. \nHAPPY HOUR for Friday May 12 will be at THE STOCKHOUSE RESTAURANT AND SPORTS PUB located at 506 Main Street in Westbrook. Good service\, good food\, good drinks\, good prices. Free parking in their own lot.
URL:https://moac.org/event/happy-hour-55/
CATEGORIES:Happy Hour/Dancing
END:VEVENT
BEGIN:VEVENT
DTSTART;TZID=America/New_York:20230519T173000
DTEND;TZID=America/New_York:20230519T200000
DTSTAMP:20260421T203942
CREATED:20230513T213743Z
LAST-MODIFIED:20230513T213743Z
UID:10000949-1684517400-1684526400@moac.org
SUMMARY:HAPPY HOUR
DESCRIPTION:HAPPY HOUR for Friday\, May 19 will be at FOUNDATIONS BREWING located at 1 Industrial Way in Portland. Great beer\, spiked lemonade\, and terrific Detroit Style Pizza. Both inside and outside seating. Free parking on site.
URL:https://moac.org/event/happy-hour-56/
CATEGORIES:Happy Hour/Dancing
END:VEVENT
BEGIN:VEVENT
DTSTART;TZID=America/New_York:20230526T173000
DTEND;TZID=America/New_York:20230526T200000
DTSTAMP:20260421T203942
CREATED:20230513T214303Z
LAST-MODIFIED:20230513T214303Z
UID:10000950-1685122200-1685131200@moac.org
SUMMARY:HAPPY HOUR
DESCRIPTION:HAPPY HOUR for Friday\, May 26 will be at RIVALRIES in FALMOUTH located at 2 Hat Trick Drive. Full bar\, good food\, good service. Both inside and outside seating. Free parking on site.
URL:https://moac.org/event/happy-hour-57/
CATEGORIES:Happy Hour/Dancing
END:VEVENT
END:VCALENDAR