BEGIN:VCALENDAR
VERSION:2.0
PRODID:-//MOAC - Maine Outdoor Adventure Club - ECPv6.15.12.1//NONSGML v1.0//EN
CALSCALE:GREGORIAN
METHOD:PUBLISH
X-ORIGINAL-URL:https://moac.org
X-WR-CALDESC:Events for MOAC - Maine Outdoor Adventure Club
REFRESH-INTERVAL;VALUE=DURATION:PT1H
X-Robots-Tag:noindex
X-PUBLISHED-TTL:PT1H
BEGIN:VTIMEZONE
TZID:America/New_York
BEGIN:DAYLIGHT
TZOFFSETFROM:-0500
TZOFFSETTO:-0400
TZNAME:EDT
DTSTART:20220313T070000
END:DAYLIGHT
BEGIN:STANDARD
TZOFFSETFROM:-0400
TZOFFSETTO:-0500
TZNAME:EST
DTSTART:20221106T060000
END:STANDARD
BEGIN:DAYLIGHT
TZOFFSETFROM:-0500
TZOFFSETTO:-0400
TZNAME:EDT
DTSTART:20230312T070000
END:DAYLIGHT
BEGIN:STANDARD
TZOFFSETFROM:-0400
TZOFFSETTO:-0500
TZNAME:EST
DTSTART:20231105T060000
END:STANDARD
BEGIN:DAYLIGHT
TZOFFSETFROM:-0500
TZOFFSETTO:-0400
TZNAME:EDT
DTSTART:20240310T070000
END:DAYLIGHT
BEGIN:STANDARD
TZOFFSETFROM:-0400
TZOFFSETTO:-0500
TZNAME:EST
DTSTART:20241103T060000
END:STANDARD
END:VTIMEZONE
BEGIN:VEVENT
DTSTART;TZID=America/New_York:20230602T173000
DTEND;TZID=America/New_York:20230602T200000
DTSTAMP:20260421T204535
CREATED:20230531T000552Z
LAST-MODIFIED:20230531T000552Z
UID:10000966-1685727000-1685736000@moac.org
SUMMARY:HAPPY HOUR
DESCRIPTION:HAPPY HOUR this Friday will be at THE BRUNSWICK on Old Orchard Beach. Full bar\, good food\, live music. Summer’s here! Let’s kick it off on the beach!
URL:https://moac.org/event/happy-hour-58/
CATEGORIES:Happy Hour/Dancing
END:VEVENT
BEGIN:VEVENT
DTSTART;TZID=America/New_York:20230609T173000
DTEND;TZID=America/New_York:20230609T200000
DTSTAMP:20260421T204535
CREATED:20230608T040752Z
LAST-MODIFIED:20230608T040752Z
UID:10000971-1686331800-1686340800@moac.org
SUMMARY:HAPPY HOUR
DESCRIPTION:HAPPY HOUR this Friday will be at the SIDECAR PUB located on the 4th floor at 7 Railroad Avenue in Gorham. Nice views – take the elevator to SIDECAR (4th floor) and then the stairway to the rooftop observation room. Good food and full bar including more exotic cocktails. Free parking in their own lot.
URL:https://moac.org/event/happy-hour-59/
CATEGORIES:Happy Hour/Dancing
END:VEVENT
BEGIN:VEVENT
DTSTART;TZID=America/New_York:20230616T173000
DTEND;TZID=America/New_York:20230616T200000
DTSTAMP:20260421T204535
CREATED:20230615T034222Z
LAST-MODIFIED:20230615T034223Z
UID:10001011-1686936600-1686945600@moac.org
SUMMARY:HAPPY HOUR
DESCRIPTION:HAPPY HOUR this Friday will be at THE STOCKHOUSE RESTAURANT & SPORTS PUB located at 506 Main Street in Westbrook. Their large deck is all set up now for Summer and the weather forecast looks good at this point. The food is good. The drinks are cheap. And the parking is free and on site.
URL:https://moac.org/event/happy-hour-60/
CATEGORIES:Happy Hour/Dancing
END:VEVENT
BEGIN:VEVENT
DTSTART;TZID=America/New_York:20230623T173000
DTEND;TZID=America/New_York:20230623T200000
DTSTAMP:20260421T204535
CREATED:20230622T032137Z
LAST-MODIFIED:20230622T032137Z
UID:10001020-1687541400-1687550400@moac.org
SUMMARY:HAPPY HOUR
DESCRIPTION:HAPPY HOUR this Friday will be at the RISING TIDE BREWING COMPANY located at 103 Fox Street in Portland. Beer and light bites including very good pizza. Inside and outside seating. Free parking on site. Festive atmosphere.
URL:https://moac.org/event/happy-hour-61/
CATEGORIES:Happy Hour/Dancing
END:VEVENT
BEGIN:VEVENT
DTSTART;TZID=America/New_York:20230623T180000
DTEND;TZID=America/New_York:20230623T210000
DTSTAMP:20260421T204535
CREATED:20230621T025053Z
LAST-MODIFIED:20230621T025702Z
UID:10001016-1687543200-1687554000@moac.org
SUMMARY:Friday Happy Hour and Music Jam (rain or shine)
DESCRIPTION:This is an open music jam for one and all. Play a crowd favorite or a personal one\, an original song\, a great singalong or even a special instrumental. There will be a piano and a guitar to borrow\, but bring your own instruments\, acoustic drums and your singing voice. \nPlease bring your own snacks\, liquid refreshments and something to sit on. \nThis is a rain or shine event\, in good weather we will gather round the campfire. If it rains\, there is a large screened porch. \n\n\n\n\n\nLocation: 688 Ft Knox Rd\, Prospect\, ME\nPlease RSVP to Dan Pelletier at 914-589-3212
URL:https://moac.org/event/friday-happy-hour-and-music-jam-rain-or-shine/
CATEGORIES:Happy Hour/Dancing
ATTACH;FMTTYPE=image/png:https://moac.org/wp-content/uploads/music-photo.png
END:VEVENT
BEGIN:VEVENT
DTSTART;TZID=America/New_York:20230624T053000
DTEND;TZID=America/New_York:20230624T193000
DTSTAMP:20260421T204535
CREATED:20230622T002706Z
LAST-MODIFIED:20230624T165958Z
UID:10001019-1687584600-1687635000@moac.org
SUMMARY:Happy Hour Orchard Ridge Farm
DESCRIPTION:Due to Rain and Thunderstorms scheduled in the area tonight’s music on the Farm is canceled. \n  \nCome to Orchard Ridge Farm 236 Sebago Lake Rd\, Gorham Me\,  this Saturday\, June 24th 530-730 Rain or Shine.  Cover charge 6$  get tickets at Eventbrite.com   Come listen to the music of the up and coming trio\, The Midnight Rangers.   Stay in the Hoop House and watch it rain or sit outside and watch the sunset when it stops raining.  A beautiful venue to enjoy the first weekend of Summer!
URL:https://moac.org/event/maureen-griffin/
CATEGORIES:Happy Hour/Dancing
ATTACH;FMTTYPE=image/jpeg:https://moac.org/wp-content/uploads/IMG_0854.jpeg
END:VEVENT
BEGIN:VEVENT
DTSTART;TZID=America/New_York:20230625T140000
DTEND;TZID=America/New_York:20230625T170000
DTSTAMP:20260421T204535
CREATED:20230621T122950Z
LAST-MODIFIED:20230623T193210Z
UID:10001017-1687701600-1687712400@moac.org
SUMMARY:Rainy day pizza\, beer and games
DESCRIPTION:Another rainy weekend got you down? Join me at the Oxbow Beer Garden in Oxford where we can hang out in either one of their two post and beam pavilions. That’s right – they added another one! It may or may not be raining\, so bring your lawn games and board games to be prepared either way. I’ll have my cribbage board. Lots of fabulous wood-fired pizza and drinks available all afternoon. Please let me know if you plan to come so I can have an approximate head count (207-380-6008). No micro spikes or snow shoes required this time! 🙂
URL:https://moac.org/event/rainy-day-pizza-beer-and-games/
CATEGORIES:Happy Hour/Dancing
ATTACH;FMTTYPE=image/jpeg:https://moac.org/wp-content/uploads/IMG_3783.jpg
ORGANIZER;CN="Anne Geisler":MAILTO:annegme.123@gmail.com
END:VEVENT
BEGIN:VEVENT
DTSTART;TZID=America/New_York:20230630T173000
DTEND;TZID=America/New_York:20230630T200000
DTSTAMP:20260421T204535
CREATED:20230629T135400Z
LAST-MODIFIED:20230629T135400Z
UID:10001025-1688146200-1688155200@moac.org
SUMMARY:HAPPY HOUR
DESCRIPTION:HAPPY HOUR this Friday will be at the SEA DOG BREWING COMPANY located just off Exit 42 in SCARBOROUGH (3 CABELA BLVD.). Both inside and outside seating. Free parking in their own lot. Very good food and reasonable food and drink prices.
URL:https://moac.org/event/happy-hour-62/
CATEGORIES:Happy Hour/Dancing
END:VEVENT
END:VCALENDAR