BEGIN:VCALENDAR
VERSION:2.0
PRODID:-//MOAC - Maine Outdoor Adventure Club - ECPv6.15.12.1//NONSGML v1.0//EN
CALSCALE:GREGORIAN
METHOD:PUBLISH
X-WR-CALNAME:MOAC - Maine Outdoor Adventure Club
X-ORIGINAL-URL:https://moac.org
X-WR-CALDESC:Events for MOAC - Maine Outdoor Adventure Club
REFRESH-INTERVAL;VALUE=DURATION:PT1H
X-Robots-Tag:noindex
X-PUBLISHED-TTL:PT1H
BEGIN:VTIMEZONE
TZID:America/New_York
BEGIN:DAYLIGHT
TZOFFSETFROM:-0500
TZOFFSETTO:-0400
TZNAME:EDT
DTSTART:20220313T070000
END:DAYLIGHT
BEGIN:STANDARD
TZOFFSETFROM:-0400
TZOFFSETTO:-0500
TZNAME:EST
DTSTART:20221106T060000
END:STANDARD
BEGIN:DAYLIGHT
TZOFFSETFROM:-0500
TZOFFSETTO:-0400
TZNAME:EDT
DTSTART:20230312T070000
END:DAYLIGHT
BEGIN:STANDARD
TZOFFSETFROM:-0400
TZOFFSETTO:-0500
TZNAME:EST
DTSTART:20231105T060000
END:STANDARD
BEGIN:DAYLIGHT
TZOFFSETFROM:-0500
TZOFFSETTO:-0400
TZNAME:EDT
DTSTART:20240310T070000
END:DAYLIGHT
BEGIN:STANDARD
TZOFFSETFROM:-0400
TZOFFSETTO:-0500
TZNAME:EST
DTSTART:20241103T060000
END:STANDARD
END:VTIMEZONE
BEGIN:VEVENT
DTSTART;TZID=America/New_York:20230707T173000
DTEND;TZID=America/New_York:20230707T200000
DTSTAMP:20260421T180728
CREATED:20230706T012639Z
LAST-MODIFIED:20230706T012639Z
UID:10001036-1688751000-1688760000@moac.org
SUMMARY:HAPPY HOUR
DESCRIPTION:Unique HAPPY HOUR this week. Friday’s HAPPY HOUR will be at ORCHARD RIDGE FARM located at 236 Sebago Lake Road in Gorham. The property is owned by MOAC member Mary Walker and two of her daughters. Walking trails\, orchards\, farm animals\, a market and restaurant all on 38 acres.  Drinks and snacks will be available. \nP.S.  Rumor has it that MARY MORRIS (wandering MOAC-er) will be in attendance.
URL:https://moac.org/event/happy-hour-63/
CATEGORIES:Happy Hour/Dancing
END:VEVENT
BEGIN:VEVENT
DTSTART;TZID=America/New_York:20230713T180000
DTEND;TZID=America/New_York:20230713T200000
DTSTAMP:20260421T180728
CREATED:20230711T113914Z
LAST-MODIFIED:20230711T113914Z
UID:10001042-1689271200-1689278400@moac.org
SUMMARY:Motor Booty Scarborough
DESCRIPTION:This Thursday the 13th Motor Booty will be playing at Scarborough Memorial Park 6:00-8:00 PM. It’s free with free parking at either Scarborough High School or at an office park across Sawyer street.  Unknown if the snack shack will be open. Restrooms will be open. No need to contact organizer just show up!
URL:https://moac.org/event/motor-booty-scarborough/
CATEGORIES:Happy Hour/Dancing,Other/General,Social
ORGANIZER;CN="Jerry Jalbert":MAILTO:gjalbert53@gmail.com
END:VEVENT
BEGIN:VEVENT
DTSTART;TZID=America/New_York:20230714T173000
DTEND;TZID=America/New_York:20230714T200000
DTSTAMP:20260421T180728
CREATED:20230711T014220Z
LAST-MODIFIED:20230711T014220Z
UID:10001041-1689355800-1689364800@moac.org
SUMMARY:HAPPY HOUR
DESCRIPTION:We’ve received requests to once in a while have the HAPPY HOUR north of town to better accommodate those members that live to the north. HAPPY HOUR this Friday will be at MAST LANDING FREEPORT located at 200 Lower Main Street and just off the Desert Road Exit of I295. It’s only 15 minutes from the intersection of Marginal Way and the Franklin Arterial. Expansive inside seating area and spacious outside patio. Plenty of free parking. Food onsite at the adjacent Nighthawk’s Kitchen.
URL:https://moac.org/event/happy-hour-64/
CATEGORIES:Happy Hour/Dancing
END:VEVENT
BEGIN:VEVENT
DTSTART;TZID=America/New_York:20230715T183000
DTEND;TZID=America/New_York:20230715T203000
DTSTAMP:20260421T180728
CREATED:20230715T160701Z
LAST-MODIFIED:20230715T160701Z
UID:10001046-1689445800-1689453000@moac.org
SUMMARY:Music and Fun@Conant Farm
DESCRIPTION:When you come tomorrow\, Sat July 15th\, let me encourage all that would like to come early and take a dip in the River to do so. There is a very nearby swimming spot on the Presumpscot that is just a 3 minute walk from the concert. The river is very clean and very refreshing. It is directly behind the Homestead along Portland Trails Conant Trail.\nAlso\, we will be grilling GraKakes for the concert. They will be by donation. If you have not had them before they are artisanal vegan burgers. (They wheat free\, non-processed\, no oils\, and hand pressed and baked on the Conant homestead.) They are very good!\nAND there may be the opportunity to walk some young goats. A delight for kids of all species.\n\nSee you Saturday I hope…\n\nMichael and Malory Shaughnessy
URL:https://moac.org/event/music-and-funconant-farm/
CATEGORIES:Happy Hour/Dancing
END:VEVENT
BEGIN:VEVENT
DTSTART;TZID=America/New_York:20230721T173000
DTEND;TZID=America/New_York:20230721T200000
DTSTAMP:20260421T180728
CREATED:20230720T120649Z
LAST-MODIFIED:20230720T120649Z
UID:10001048-1689960600-1689969600@moac.org
SUMMARY:HAPPY HOUR
DESCRIPTION:Another Friday with the possibility of showers in the evening. Offering both inside and outside seating\, HAPPY HOUR this Friday will be at THE STOCKHOUSE located at 506 Main Street in Westbrook. Very reasonable drink prices\, good food\, and free parking in their own lot.
URL:https://moac.org/event/happy-hour-65/
CATEGORIES:Happy Hour/Dancing
END:VEVENT
BEGIN:VEVENT
DTSTART;TZID=America/New_York:20230722T190000
DTEND;TZID=America/New_York:20230722T213000
DTSTAMP:20260421T180728
CREATED:20230720T201452Z
LAST-MODIFIED:20230720T201452Z
UID:10001049-1690052400-1690061400@moac.org
SUMMARY:Summer's Eve Bonfire
DESCRIPTION:Come join the circle!  Weather looks like it will cooperate.  Bring some food to share\, your beverage of choice and something for music-making – voices and kazoos welcomed!  Rain to cancel.  11 McKinley Road\, Falmouth from 7pm to whenever. \n 
URL:https://moac.org/event/summers-eve-bonfire/
CATEGORIES:Happy Hour/Dancing
ORGANIZER;CN="Kathie McCatherin":MAILTO:kathiejoy@maine.rr.com
END:VEVENT
BEGIN:VEVENT
DTSTART;TZID=America/New_York:20230726T190000
DTEND;TZID=America/New_York:20230726T220000
DTSTAMP:20260421T180728
CREATED:20230726T200752Z
LAST-MODIFIED:20230726T202828Z
UID:10001058-1690398000-1690408800@moac.org
SUMMARY:18th season Open Mic at Bentleys
DESCRIPTION:Outside at Bentleys in Arundel professional musicians will be jamming with a great house band.  7:00PM-10:00PM\nStill time to get home and in your sheets early!  Meet outdoors around the stage.  Will have a small sign MOAC.\nThe food is reportedly good and vacationers swear by the experience and the full monty of the place.  Come and go as you please!\nFeel free to text or call me… \n 
URL:https://moac.org/event/18th-season-open-mic-at-bentleys/
CATEGORIES:Happy Hour/Dancing
END:VEVENT
BEGIN:VEVENT
DTSTART;TZID=America/New_York:20230728T173000
DTEND;TZID=America/New_York:20230728T200000
DTSTAMP:20260421T180728
CREATED:20230727T022338Z
LAST-MODIFIED:20230727T022338Z
UID:10001061-1690565400-1690574400@moac.org
SUMMARY:HAPPY HOUR
DESCRIPTION:FINALLY a sunny and rain-free Friday evening! HAPPY HOUR this week will be at the BAYSIDE BOWL ROOFTOP located at 58 Alder Street in Portland. Inexpensive drinks (are 16ounce Moosehead cans still $3.00!)\, surprisingly good Mexican fare by way of the Rooftop Food Trunk\, and free parking in their own lot as well as on all adjoining streets.
URL:https://moac.org/event/happy-hour-66/
CATEGORIES:Happy Hour/Dancing
END:VEVENT
END:VCALENDAR