BEGIN:VCALENDAR
VERSION:2.0
PRODID:-//MOAC - Maine Outdoor Adventure Club - ECPv6.15.12.1//NONSGML v1.0//EN
CALSCALE:GREGORIAN
METHOD:PUBLISH
X-ORIGINAL-URL:https://moac.org
X-WR-CALDESC:Events for MOAC - Maine Outdoor Adventure Club
REFRESH-INTERVAL;VALUE=DURATION:PT1H
X-Robots-Tag:noindex
X-PUBLISHED-TTL:PT1H
BEGIN:VTIMEZONE
TZID:America/New_York
BEGIN:DAYLIGHT
TZOFFSETFROM:-0500
TZOFFSETTO:-0400
TZNAME:EDT
DTSTART:20220313T070000
END:DAYLIGHT
BEGIN:STANDARD
TZOFFSETFROM:-0400
TZOFFSETTO:-0500
TZNAME:EST
DTSTART:20221106T060000
END:STANDARD
BEGIN:DAYLIGHT
TZOFFSETFROM:-0500
TZOFFSETTO:-0400
TZNAME:EDT
DTSTART:20230312T070000
END:DAYLIGHT
BEGIN:STANDARD
TZOFFSETFROM:-0400
TZOFFSETTO:-0500
TZNAME:EST
DTSTART:20231105T060000
END:STANDARD
BEGIN:DAYLIGHT
TZOFFSETFROM:-0500
TZOFFSETTO:-0400
TZNAME:EDT
DTSTART:20240310T070000
END:DAYLIGHT
BEGIN:STANDARD
TZOFFSETFROM:-0400
TZOFFSETTO:-0500
TZNAME:EST
DTSTART:20241103T060000
END:STANDARD
END:VTIMEZONE
BEGIN:VEVENT
DTSTART;TZID=America/New_York:20230804T173000
DTEND;TZID=America/New_York:20230804T200000
DTSTAMP:20260421T154458
CREATED:20230803T021618Z
LAST-MODIFIED:20230803T021618Z
UID:10001070-1691170200-1691179200@moac.org
SUMMARY:HAPPY HOUR
DESCRIPTION:HAPPY HOUR this Friday will be at “The Club at Riverside” located at 1158 Riverside Street in Portland. This is what was formerly the Riverside Grill and is situated in the clubhouse of the Riverside Golf Course. New management\, new menu\, new drinks. Same good prices\, same inside and outside seating\, same free parking on site.
URL:https://moac.org/event/happy-hour-67/
CATEGORIES:Happy Hour/Dancing
END:VEVENT
BEGIN:VEVENT
DTSTART;TZID=America/New_York:20230811T173000
DTEND;TZID=America/New_York:20230811T200000
DTSTAMP:20260421T154458
CREATED:20230809T230658Z
LAST-MODIFIED:20230809T230658Z
UID:10001077-1691775000-1691784000@moac.org
SUMMARY:HAPPY HOUR
DESCRIPTION:HAPPY HOUR this Friday will be at SALTY BAY SEAFOOD BAR & GRILL located at 68 Jones Creek Drive in Scarborough (Pine Point). Fresh seafood from restaurant. Separate  log cabin out-building serves as bar. Picnic tables on expansive lawn which directly abuts the Nonesuch River and Saco Bay. Free parking in their own lot as well as on adjacent street.
URL:https://moac.org/event/happy-hour-68/
CATEGORIES:Happy Hour/Dancing
END:VEVENT
BEGIN:VEVENT
DTSTART;TZID=America/New_York:20230818T173000
DTEND;TZID=America/New_York:20230818T200000
DTSTAMP:20260421T154458
CREATED:20230817T003629Z
LAST-MODIFIED:20230817T003629Z
UID:10001085-1692379800-1692388800@moac.org
SUMMARY:HAPPY HOUR
DESCRIPTION:HAPPY HOUR this Friday will be at RIVALRIES SPORTS PUB & RESTAURANT located at 2 Hat Trick Drive in Falmouth. Inside and outside seating; free parking in their own lot. Good food and full bar.
URL:https://moac.org/event/happy-hour-69/
CATEGORIES:Happy Hour/Dancing
END:VEVENT
BEGIN:VEVENT
DTSTART;TZID=America/New_York:20230819T160000
DTEND;TZID=America/New_York:20230819T200000
DTSTAMP:20260421T154458
CREATED:20230817T013051Z
LAST-MODIFIED:20230817T021150Z
UID:10001086-1692460800-1692475200@moac.org
SUMMARY:York County Blues Festival
DESCRIPTION:5th Annual York County Blues Festival https://yorkcountybluesfest.com/\nFriendship Park\, 255 Old Alfred Rd.\, Waterboro\, ME.\nMaine’s own Bonnie Edwards & the Practical Cats; and Memphis Lightning\, both international touring bands; and headliner\,\nAltered Five Blues Band.\nAffordable food by Town of Waterboro and non-alcohol and alcoholic beverages on site.  BYO food to eat (outside the gate) during breaks.\nTixs are $15+$1.59 at Eventbrite (link below) $25 at the gate.   The Town of Waterboro supports this event and raises money through sponsorships to keep you coming back!\n 
URL:https://moac.org/event/york-county-blues-festival/
CATEGORIES:Happy Hour/Dancing
ATTACH;FMTTYPE=image/jpeg:https://moac.org/wp-content/uploads/With_Headers.jpeg
END:VEVENT
BEGIN:VEVENT
DTSTART;TZID=America/New_York:20230825T173000
DTEND;TZID=America/New_York:20230825T200000
DTSTAMP:20260421T154458
CREATED:20230824T145415Z
LAST-MODIFIED:20230824T145415Z
UID:10001114-1692984600-1692993600@moac.org
SUMMARY:HAPPY HOUR
DESCRIPTION:HAPPY HOUR this Friday will be at the SEA DOG BREWPUB located in Cabela’s Plaza in SCARBOROUGH. The food is very good\, they have a full bar\, and there’s free parking in their large lot on site.
URL:https://moac.org/event/happy-hour-70/
CATEGORIES:Happy Hour/Dancing
END:VEVENT
BEGIN:VEVENT
DTSTART;TZID=America/New_York:20230825T173000
DTEND;TZID=America/New_York:20230825T200000
DTSTAMP:20260421T154458
CREATED:20230825T151841Z
LAST-MODIFIED:20230825T151841Z
UID:10001115-1692984600-1692993600@moac.org
SUMMARY:HAPPY HOUR CHANGE!
DESCRIPTION:URGENT MESSAGE RE. HAPPY HOUR: Tonight’s Happy Hour will be changed to THE STOCKHOUSE. Sea Dog cannot accommodate us this evening!
URL:https://moac.org/event/happy-hour-change/
CATEGORIES:Happy Hour/Dancing
END:VEVENT
END:VCALENDAR