BEGIN:VCALENDAR
VERSION:2.0
PRODID:-//MOAC - Maine Outdoor Adventure Club - ECPv6.15.12.1//NONSGML v1.0//EN
CALSCALE:GREGORIAN
METHOD:PUBLISH
X-ORIGINAL-URL:https://moac.org
X-WR-CALDESC:Events for MOAC - Maine Outdoor Adventure Club
REFRESH-INTERVAL;VALUE=DURATION:PT1H
X-Robots-Tag:noindex
X-PUBLISHED-TTL:PT1H
BEGIN:VTIMEZONE
TZID:America/New_York
BEGIN:DAYLIGHT
TZOFFSETFROM:-0500
TZOFFSETTO:-0400
TZNAME:EDT
DTSTART:20220313T070000
END:DAYLIGHT
BEGIN:STANDARD
TZOFFSETFROM:-0400
TZOFFSETTO:-0500
TZNAME:EST
DTSTART:20221106T060000
END:STANDARD
BEGIN:DAYLIGHT
TZOFFSETFROM:-0500
TZOFFSETTO:-0400
TZNAME:EDT
DTSTART:20230312T070000
END:DAYLIGHT
BEGIN:STANDARD
TZOFFSETFROM:-0400
TZOFFSETTO:-0500
TZNAME:EST
DTSTART:20231105T060000
END:STANDARD
BEGIN:DAYLIGHT
TZOFFSETFROM:-0500
TZOFFSETTO:-0400
TZNAME:EDT
DTSTART:20240310T070000
END:DAYLIGHT
BEGIN:STANDARD
TZOFFSETFROM:-0400
TZOFFSETTO:-0500
TZNAME:EST
DTSTART:20241103T060000
END:STANDARD
END:VTIMEZONE
BEGIN:VEVENT
DTSTART;TZID=America/New_York:20230901T173000
DTEND;TZID=America/New_York:20230901T200000
DTSTAMP:20260421T071442
CREATED:20230831T001331Z
LAST-MODIFIED:20230831T001331Z
UID:10001117-1693589400-1693598400@moac.org
SUMMARY:HAPPY HOUR
DESCRIPTION:HAPPY HOUR this Friday will be at the RISING TIDE BREWING COMPANY located at 103 Fox Street in Portland. Live music\, food truck on site\, and free parking in their own lot.
URL:https://moac.org/event/happy-hour-71/
CATEGORIES:Happy Hour/Dancing
END:VEVENT
BEGIN:VEVENT
DTSTART;TZID=America/New_York:20230908T173000
DTEND;TZID=America/New_York:20230908T200000
DTSTAMP:20260421T071442
CREATED:20230906T234626Z
LAST-MODIFIED:20230906T234626Z
UID:10001121-1694194200-1694203200@moac.org
SUMMARY:HAPPY HOUR
DESCRIPTION:HAPPY HOUR this Friday will be at RIVALRIES SPORTS PUB & RESTAURANT located at 2 Hat Trick Drive in Falmouth. Both inside and outside seating. Full bar and good food. Free parking in their own lot.
URL:https://moac.org/event/happy-hour-72/
CATEGORIES:Happy Hour/Dancing
END:VEVENT
BEGIN:VEVENT
DTSTART;TZID=America/New_York:20230915T173000
DTEND;TZID=America/New_York:20230915T203000
DTSTAMP:20260421T071442
CREATED:20230914T134743Z
LAST-MODIFIED:20230914T134743Z
UID:10001128-1694799000-1694809800@moac.org
SUMMARY:HAPPY HOUR
DESCRIPTION:The tourist crunch is largely over and it shouldn’t be difficult now to get down to the Old Port and find parking. HAPPY HOUR this Friday will be at GRITTY”S BREW PUB located at 396 Fore Street. Communal seating and always a festive atmosphere. FREE PARKING at the meters come 6PM.
URL:https://moac.org/event/happy-hour-73/
CATEGORIES:Happy Hour/Dancing
END:VEVENT
BEGIN:VEVENT
DTSTART;TZID=America/New_York:20230922T173000
DTEND;TZID=America/New_York:20230922T200000
DTSTAMP:20260421T071442
CREATED:20230921T132056Z
LAST-MODIFIED:20230921T132056Z
UID:10001135-1695403800-1695412800@moac.org
SUMMARY:HAPPY HOUR
DESCRIPTION:HAPPY HOUR this Friday will be at the AUSTIN STREET BREWERY located at 115 FOX STREET IN PORTLAND. Inside and outside seating. Light snacks in their tasting room and often a food truck on site. Should have their fire pits up and running by now if we’re outside. Free parking on site and also on Fox Street.
URL:https://moac.org/event/happy-hour-74/
CATEGORIES:Happy Hour/Dancing
END:VEVENT
BEGIN:VEVENT
DTSTART;TZID=America/New_York:20230929T173000
DTEND;TZID=America/New_York:20230929T200000
DTSTAMP:20260421T071442
CREATED:20230926T234414Z
LAST-MODIFIED:20230926T234414Z
UID:10001139-1696008600-1696017600@moac.org
SUMMARY:HAPPY HOUR
DESCRIPTION:The tourist season is largely over and we can now get back into the Old Port. HAPPY HOUR this Friday will be at THREE DOLLAR DEWEYS located at 241 Commercial Street. Free parking on Commercial Street down by Becky’s Diner. Also the meters are free come 6:00PM. Communal seating and festive atmosphere.
URL:https://moac.org/event/happy-hour-75/
CATEGORIES:Happy Hour/Dancing
END:VEVENT
END:VCALENDAR