BEGIN:VCALENDAR
VERSION:2.0
PRODID:-//MOAC - Maine Outdoor Adventure Club - ECPv6.15.12.1//NONSGML v1.0//EN
CALSCALE:GREGORIAN
METHOD:PUBLISH
X-ORIGINAL-URL:https://moac.org
X-WR-CALDESC:Events for MOAC - Maine Outdoor Adventure Club
REFRESH-INTERVAL;VALUE=DURATION:PT1H
X-Robots-Tag:noindex
X-PUBLISHED-TTL:PT1H
BEGIN:VTIMEZONE
TZID:America/New_York
BEGIN:DAYLIGHT
TZOFFSETFROM:-0500
TZOFFSETTO:-0400
TZNAME:EDT
DTSTART:20240310T070000
END:DAYLIGHT
BEGIN:STANDARD
TZOFFSETFROM:-0400
TZOFFSETTO:-0500
TZNAME:EST
DTSTART:20241103T060000
END:STANDARD
BEGIN:DAYLIGHT
TZOFFSETFROM:-0500
TZOFFSETTO:-0400
TZNAME:EDT
DTSTART:20250309T070000
END:DAYLIGHT
BEGIN:STANDARD
TZOFFSETFROM:-0400
TZOFFSETTO:-0500
TZNAME:EST
DTSTART:20251102T060000
END:STANDARD
BEGIN:DAYLIGHT
TZOFFSETFROM:-0500
TZOFFSETTO:-0400
TZNAME:EDT
DTSTART:20260308T070000
END:DAYLIGHT
BEGIN:STANDARD
TZOFFSETFROM:-0400
TZOFFSETTO:-0500
TZNAME:EST
DTSTART:20261101T060000
END:STANDARD
END:VTIMEZONE
BEGIN:VEVENT
DTSTART;TZID=America/New_York:20250307T173000
DTEND;TZID=America/New_York:20250307T200000
DTSTAMP:20260421T215800
CREATED:20250306T161716Z
LAST-MODIFIED:20250306T161716Z
UID:10003940-1741368600-1741377600@moac.org
SUMMARY:HAPPY HOUR
DESCRIPTION:HAPPY HOUR this Friday will be at the SIDECAR PUB located at 7 Railroad Avenue in Gorham. Take the elevator to the fourth floor to check out this unique rooftop spot. Full bar\, good light bites\, free parking.
URL:https://moac.org/event/happy-hour-150/
CATEGORIES:Happy Hour/Dancing
ORGANIZER;CN="Tom Geis":MAILTO:tomjgeis@hotmail.com
END:VEVENT
BEGIN:VEVENT
DTSTART;TZID=America/New_York:20250313T193000
DTEND;TZID=America/New_York:20250313T220000
DTSTAMP:20260421T215800
CREATED:20250306T041632Z
LAST-MODIFIED:20250306T041632Z
UID:10003939-1741894200-1741903200@moac.org
SUMMARY:Church of Cash- One Longfellow Square
DESCRIPTION:Johnny Cash fans come to OLS to see Church of Cash- tickets are $25.00 but you can get (2) free tickets at your town library if you have a library card and if there are any left. Hope some of you will come. Seems like it will be a great show!! Email any questions . \n 
URL:https://moac.org/event/church-of-cash-one-longfellow-square/
LOCATION:One Longfellow Square\, 181 State St\, Portland\, M\, 04101\, United States
CATEGORIES:Happy Hour/Dancing
ATTACH;FMTTYPE=image/jpeg:https://moac.org/wp-content/uploads/IMG_0656-rotated.jpeg
ORGANIZER;CN="Daphne":MAILTO:luckydog2993@gmail.com
END:VEVENT
BEGIN:VEVENT
DTSTART;TZID=America/New_York:20250314T173000
DTEND;TZID=America/New_York:20250314T200000
DTSTAMP:20260421T215800
CREATED:20250313T004848Z
LAST-MODIFIED:20250313T004848Z
UID:10003951-1741973400-1741982400@moac.org
SUMMARY:HAPPY HOUR
DESCRIPTION:Trying a new spot this week. HAPPY HOUR this Friday will be at the COWBELL WOOD FIRE GRILL located at 185 US Route 1 in SCARBOROUGH. Quick and easy to get to: Take I295 South to the Scarborough Spur (Rt.701) which empties on to Route 1 heading south. The Cowbell appears shortly on your right at the corner of  Little Dolphin Drive. Happy Hour drink specials\, good pizza\, free parking in their own lot. We’ve reserved a table.
URL:https://moac.org/event/happy-hour-151/
CATEGORIES:Happy Hour/Dancing
ORGANIZER;CN="Tom Geis":MAILTO:tomjgeis@hotmail.com
END:VEVENT
BEGIN:VEVENT
DTSTART;TZID=America/New_York:20250321T173000
DTEND;TZID=America/New_York:20250321T200000
DTSTAMP:20260421T215800
CREATED:20250320T153120Z
LAST-MODIFIED:20250320T153120Z
UID:10003962-1742578200-1742587200@moac.org
SUMMARY:HAPPY HOUR
DESCRIPTION:Another new spot to try this week. HAPPY HOUR this Friday will be at THE CONTINENTAL located at 170 Brighton Ave. (at St. John street) in Portland. Full bar along with some out of the ordinary beers. British/European inspired menu. Parking in their own lot and on adjacent streets.
URL:https://moac.org/event/happy-hour-152/
CATEGORIES:Happy Hour/Dancing
ORGANIZER;CN="Tom Geis":MAILTO:tomjgeis@hotmail.com
END:VEVENT
BEGIN:VEVENT
DTSTART;TZID=America/New_York:20250322T200000
DTEND;TZID=America/New_York:20250322T233000
DTSTAMP:20260421T215800
CREATED:20250315T110231Z
LAST-MODIFIED:20250319T004854Z
UID:10003953-1742673600-1742686200@moac.org
SUMMARY:The Smith Collaboration at Sugarloaf. Potluck at 6:00 or Meet at The Rack at 8:00PM.
DESCRIPTION:Meet at The Roadhouse for HH and dinner at 6:00PM or at The Rack at 8:00. Don’t miss this nostalgic band with the pipes of Janis Joplin and the vibe of Stevie Wonder\, Eric Clapton\, etc.  https://www.facebook.com/thesmithcollaboration/videos/478947686767814\nJoin the MOAC group at The Roadhouse between Stratton and Rangeley for some action on snow.  Save your money by potlucking dinner with MOAC friends at the super friendly Roadhouse kitchen and dining room with the two Jens.  Call The Roadhouse directly for a reservation. Private rooms and walled off bunks for privacy and soundproofing.  Bring earplugs for uninterrupted sleep.  Potluck dinners in MOAC style.  Breakfast will be bagels and homemade muffins\, fruit\, coffee/tea\, included.  Bunks are $40/night\, rooms $50-60.  Cash preferred.  Make your reservation directly with Jen or Jen at 207-670-4159 for one or more nights.  You pay when you check out.  Questions?  Call Eileen 207-749-0211  AS OF MAR 17TH\, ONLY 5 BUNKS AND 1 PRIVATE ROOM ARE AVAILABLE FOR SAT NIGHT\, MARCH 22ND.\n\n \n \nWhere:\nThe Rack BBQ\n5016 Sugarloaf Access Rd\nCarrabassett Valley\nME 04047
URL:https://moac.org/event/the-smith-collaboration/
CATEGORIES:Happy Hour/Dancing
ATTACH;FMTTYPE=image/jpeg:https://moac.org/wp-content/uploads/FB_IMG_1742345191290.jpg
ORGANIZER;CN="Eileen Whynot":MAILTO:ewhynote@gmail.com
END:VEVENT
BEGIN:VEVENT
DTSTART;TZID=America/New_York:20250328T173000
DTEND;TZID=America/New_York:20250328T200000
DTSTAMP:20260421T215800
CREATED:20250326T233521Z
LAST-MODIFIED:20250326T233521Z
UID:10003964-1743183000-1743192000@moac.org
SUMMARY:HAPPY HOUR
DESCRIPTION:HAPPY HOUR this Friday will be at RIVALRIES SPORTS PUB AND RESTAURANT located at 2 Hat Trick Drive in Falmouth. Good food\, full bar\, comfortable atmosphere\, and free parking in their own lot. \nAnd just a short hop up I95 to catch Kat & The Kooltones at Cadenza in Freeport (starts at 7:00PM)
URL:https://moac.org/event/happy-hour-153/
CATEGORIES:Happy Hour/Dancing
ORGANIZER;CN="Tom Geis":MAILTO:tomjgeis@hotmail.com
END:VEVENT
BEGIN:VEVENT
DTSTART;TZID=America/New_York:20250328T190000
DTEND;TZID=America/New_York:20250328T203000
DTSTAMP:20260421T215800
CREATED:20250312T024849Z
LAST-MODIFIED:20250312T024849Z
UID:10003946-1743188400-1743193800@moac.org
SUMMARY:Kat & the Kooltones at Cadenza
DESCRIPTION:Come join us in an intimate listening room as we travel through the decades in song.  We shake it up with music from many genres- jazz\, standards\, Broadway\, pop\, and music from today with a variety of sounds and musicians that include synth\, piano\, flute\, sax\, guitar\, drums and bass.  Come check it out! \nFor tickets:  https://www.eventbrite.com/e/kat-and-the-kooltones-tickets-1159513178129?aff=oddtdtcreator \n 
URL:https://moac.org/event/kat-the-kooltones-at-cadenza-3/
LOCATION:Cadenza\, 5 Depot Street\, Freeport\, 04032\, United States
CATEGORIES:Happy Hour/Dancing
ORGANIZER;CN="Kathie McCatherin":MAILTO:kathiejoy@maine.rr.com
END:VEVENT
BEGIN:VEVENT
DTSTART;TZID=America/New_York:20250329T140000
DTEND;TZID=America/New_York:20250329T180000
DTSTAMP:20260421T215800
CREATED:20250328T181439Z
LAST-MODIFIED:20250328T181758Z
UID:10003965-1743256800-1743271200@moac.org
SUMMARY:Dance to Trifecta!!
DESCRIPTION:MOAC’s favorite band\, playing dance tunes from 2:00-6:00 at Old Orchard Beach.  Meet at the Brunswick\,  39 West Grand Avenue for some fun with great people.  Parking in their own lot.  Walk on the beach weather permitting.   I’ll be leaving the beach at 3:45.  Eileen 207-749-0211
URL:https://moac.org/event/dance-to-trifecta/
CATEGORIES:Happy Hour/Dancing,Social
ORGANIZER;CN="Eileen Whynot":MAILTO:ewhynote@gmail.com
END:VEVENT
BEGIN:VEVENT
DTSTART;TZID=America/New_York:20250329T180000
DTEND;TZID=America/New_York:20250329T210000
DTSTAMP:20260421T215800
CREATED:20250315T152701Z
LAST-MODIFIED:20250315T153349Z
UID:10003956-1743271200-1743282000@moac.org
SUMMARY:Black Cat Road at Windham Eagles Club
DESCRIPTION:Maine band and a MOAC favorite\, Black Cat Road\, will be playing at the Windham Eagles Club. They refer to themselves as a “swamp rock and blues” band. The listing for the evening does not include a price. They often do not charge. I will update this post if I hear different. \nThe club is at 456 Roosevelt Trail\, Windham\, ME 04062 (Route 302). Continue west on 302 after the rotary in Windham and it will be about a half mile on your left.
URL:https://moac.org/event/black-cat-road-at-windham-eagles-club/
CATEGORIES:Happy Hour/Dancing
ATTACH;FMTTYPE=image/jpeg:https://moac.org/wp-content/uploads/blackcatroad.jpg
ORGANIZER;CN="Peter Mullen":MAILTO:pcm25me@gmail.com
END:VEVENT
END:VCALENDAR