BEGIN:VCALENDAR
VERSION:2.0
PRODID:-//MOAC - Maine Outdoor Adventure Club - ECPv6.15.12.1//NONSGML v1.0//EN
CALSCALE:GREGORIAN
METHOD:PUBLISH
X-WR-CALNAME:MOAC - Maine Outdoor Adventure Club
X-ORIGINAL-URL:https://moac.org
X-WR-CALDESC:Events for MOAC - Maine Outdoor Adventure Club
REFRESH-INTERVAL;VALUE=DURATION:PT1H
X-Robots-Tag:noindex
X-PUBLISHED-TTL:PT1H
BEGIN:VTIMEZONE
TZID:America/New_York
BEGIN:DAYLIGHT
TZOFFSETFROM:-0500
TZOFFSETTO:-0400
TZNAME:EDT
DTSTART:20240310T070000
END:DAYLIGHT
BEGIN:STANDARD
TZOFFSETFROM:-0400
TZOFFSETTO:-0500
TZNAME:EST
DTSTART:20241103T060000
END:STANDARD
BEGIN:DAYLIGHT
TZOFFSETFROM:-0500
TZOFFSETTO:-0400
TZNAME:EDT
DTSTART:20250309T070000
END:DAYLIGHT
BEGIN:STANDARD
TZOFFSETFROM:-0400
TZOFFSETTO:-0500
TZNAME:EST
DTSTART:20251102T060000
END:STANDARD
BEGIN:DAYLIGHT
TZOFFSETFROM:-0500
TZOFFSETTO:-0400
TZNAME:EDT
DTSTART:20260308T070000
END:DAYLIGHT
BEGIN:STANDARD
TZOFFSETFROM:-0400
TZOFFSETTO:-0500
TZNAME:EST
DTSTART:20261101T060000
END:STANDARD
END:VTIMEZONE
BEGIN:VEVENT
DTSTART;TZID=America/New_York:20250404T173000
DTEND;TZID=America/New_York:20250404T200000
DTSTAMP:20260422T043133
CREATED:20250403T005737Z
LAST-MODIFIED:20250403T005737Z
UID:10003968-1743787800-1743796800@moac.org
SUMMARY:HAPPY HOUR
DESCRIPTION:HAPPY HOUR this Friday will be at THE CLUB AT RIVERSIDE next to and part of the Riverside Golf Course in Portland. Inexpensive drinks\, good food\, and free on site parking. Very well received on our last outing here.
URL:https://moac.org/event/happy-hour-154/
CATEGORIES:Happy Hour/Dancing
ORGANIZER;CN="Tom Geis":MAILTO:tomjgeis@hotmail.com
END:VEVENT
BEGIN:VEVENT
DTSTART;TZID=America/New_York:20250411T173000
DTEND;TZID=America/New_York:20250411T200000
DTSTAMP:20260422T043133
CREATED:20250407T194628Z
LAST-MODIFIED:20250407T194628Z
UID:10003971-1744392600-1744401600@moac.org
SUMMARY:HAPPY HOUR
DESCRIPTION:HAPPY HOUR this Friday will be at THREE DOLLAR DEWEYS located at 241 Commercial Street in the Old Port. The food is good\, there’s a $3.oo draft pint for Happy Hour\, and the popcorn is free. Free parking can be had on Commercial up be Becky’s and also at the meters come 6:00PM.
URL:https://moac.org/event/happy-hour-155/
CATEGORIES:Happy Hour/Dancing
ORGANIZER;CN="Tom Geis":MAILTO:tomjgeis@hotmail.com
END:VEVENT
BEGIN:VEVENT
DTSTART;TZID=America/New_York:20250418T173000
DTEND;TZID=America/New_York:20250418T200000
DTSTAMP:20260422T043133
CREATED:20250407T195237Z
LAST-MODIFIED:20250407T195237Z
UID:10003972-1744997400-1745006400@moac.org
SUMMARY:HAPPY HOUR
DESCRIPTION:HAPPY HOUR this Friday will be at THE STOCKHOUSE located at 506 Main Street in Westbrook. It’s a comfortable and consistent spot offering Happy Hour drink prices\, good food\, and free parking in their lot.
URL:https://moac.org/event/happy-hour-156/
CATEGORIES:Happy Hour/Dancing
ORGANIZER;CN="Tom Geis":MAILTO:tomjgeis@hotmail.com
END:VEVENT
BEGIN:VEVENT
DTSTART;TZID=America/New_York:20250425T173000
DTEND;TZID=America/New_York:20250425T200000
DTSTAMP:20260422T043133
CREATED:20250423T233820Z
LAST-MODIFIED:20250423T233820Z
UID:10003980-1745602200-1745611200@moac.org
SUMMARY:HAPPY HOUR
DESCRIPTION:HAPPY HOUR this Friday will be at the RUN OF THE MILL restaurant located at 100 Main Street in Saco. Full bar\, very good food\, good service\, and free parking. Quick and easy to get to: take I95 south to the Saco exit; proceed onto the spur which will take you to Route 1; turn right on Route 1. We’ll either be at one of their hightop tables in the bar or\, if we get a larger group\, they have been seating us in a private room.
URL:https://moac.org/event/happy-hour-157/
CATEGORIES:Happy Hour/Dancing
ORGANIZER;CN="Tom Geis":MAILTO:tomjgeis@hotmail.com
END:VEVENT
END:VCALENDAR