BEGIN:VCALENDAR
VERSION:2.0
PRODID:-//MOAC - Maine Outdoor Adventure Club - ECPv6.15.12.1//NONSGML v1.0//EN
CALSCALE:GREGORIAN
METHOD:PUBLISH
X-ORIGINAL-URL:https://moac.org
X-WR-CALDESC:Events for MOAC - Maine Outdoor Adventure Club
REFRESH-INTERVAL;VALUE=DURATION:PT1H
X-Robots-Tag:noindex
X-PUBLISHED-TTL:PT1H
BEGIN:VTIMEZONE
TZID:America/New_York
BEGIN:DAYLIGHT
TZOFFSETFROM:-0500
TZOFFSETTO:-0400
TZNAME:EDT
DTSTART:20240310T070000
END:DAYLIGHT
BEGIN:STANDARD
TZOFFSETFROM:-0400
TZOFFSETTO:-0500
TZNAME:EST
DTSTART:20241103T060000
END:STANDARD
BEGIN:DAYLIGHT
TZOFFSETFROM:-0500
TZOFFSETTO:-0400
TZNAME:EDT
DTSTART:20250309T070000
END:DAYLIGHT
BEGIN:STANDARD
TZOFFSETFROM:-0400
TZOFFSETTO:-0500
TZNAME:EST
DTSTART:20251102T060000
END:STANDARD
BEGIN:DAYLIGHT
TZOFFSETFROM:-0500
TZOFFSETTO:-0400
TZNAME:EDT
DTSTART:20260308T070000
END:DAYLIGHT
BEGIN:STANDARD
TZOFFSETFROM:-0400
TZOFFSETTO:-0500
TZNAME:EST
DTSTART:20261101T060000
END:STANDARD
END:VTIMEZONE
BEGIN:VEVENT
DTSTART;TZID=America/New_York:20250606T173000
DTEND;TZID=America/New_York:20250606T200000
DTSTAMP:20260422T100524
CREATED:20250605T012047Z
LAST-MODIFIED:20250605T012047Z
UID:10004033-1749231000-1749240000@moac.org
SUMMARY:HAPPY HOUR
DESCRIPTION:HAPPY HOUR this Friday will be at the SIDECAR PUB located at 7 Railroad Avenue in Gorham. Take the elevator to the fourth floor. Good food\, reasonable drinks (especially before 6PM)\, and free parking. Check out the stairway to the fifth floor balcony. Unique spot: try it … you’ll like it.
URL:https://moac.org/event/happy-hour-163/
CATEGORIES:Happy Hour/Dancing
ORGANIZER;CN="Tom Geis":MAILTO:tomjgeis@hotmail.com
END:VEVENT
BEGIN:VEVENT
DTSTART;TZID=America/New_York:20250613T173000
DTEND;TZID=America/New_York:20250613T193000
DTSTAMP:20260422T100524
CREATED:20250611T174754Z
LAST-MODIFIED:20250611T174754Z
UID:10004041-1749835800-1749843000@moac.org
SUMMARY:Friday night music on the farm
DESCRIPTION:The second in a series of Friday night music events at the farm. \nFood and beverages are available for purchase in the farm store. \nRequesting a $7 donation per adult for the band\,  please pay for the band at the bar\, via Venmo or in the farm store
URL:https://moac.org/event/friday-night-music-on-the-farm/
LOCATION:Orchard Ridge Farm\, 236 Sebago Lake road\, Gorham\, M\, 04038\, United States
CATEGORIES:Happy Hour/Dancing
ATTACH;FMTTYPE=image/jpeg:https://moac.org/wp-content/uploads/IMG_0098.jpeg
ORGANIZER;CN="Mary Walker":MAILTO:Mawalker44@gmail.com
END:VEVENT
BEGIN:VEVENT
DTSTART;TZID=America/New_York:20250613T173000
DTEND;TZID=America/New_York:20250613T200000
DTSTAMP:20260422T100524
CREATED:20250611T233833Z
LAST-MODIFIED:20250611T233833Z
UID:10004042-1749835800-1749844800@moac.org
SUMMARY:HAPPY HOUR
DESCRIPTION:HAPPY HOUR this Friday will be at THE STOCKHOUSE in WESTBROOK. Weather looks good so we’ll be out ON THE DECK. Drinks are cheap\, food is good\, service is better than a lot of places\, and parking is free in their own lot.
URL:https://moac.org/event/happy-hour-164/
CATEGORIES:Happy Hour/Dancing
ORGANIZER;CN="Tom Geis":MAILTO:tomjgeis@hotmail.com
END:VEVENT
BEGIN:VEVENT
DTSTART;TZID=America/New_York:20250620T173000
DTEND;TZID=America/New_York:20250620T200000
DTSTAMP:20260422T100524
CREATED:20250618T152907Z
LAST-MODIFIED:20250618T152907Z
UID:10004052-1750440600-1750449600@moac.org
SUMMARY:HAPPY HOUR
DESCRIPTION:Been a while since we’ve been in the Old Port and Friday looks like a very nice day weather-wise. HAPPY HOUR this Friday will be at GRITTY MCDUFF’S located at 396 Fore Street. Their own brews\, full bar\, good food\, communal seating. Free parking down toward Becky’s and at all meters come 6:00PM.
URL:https://moac.org/event/happy-hour-165/
CATEGORIES:Happy Hour/Dancing
ORGANIZER;CN="Tom Geis":MAILTO:tomjgeis@hotmail.com
END:VEVENT
BEGIN:VEVENT
DTSTART;TZID=America/New_York:20250620T173000
DTEND;TZID=America/New_York:20250620T203000
DTSTAMP:20260422T100524
CREATED:20250617T111839Z
LAST-MODIFIED:20250617T111839Z
UID:10004050-1750440600-1750451400@moac.org
SUMMARY:Music at the farm
DESCRIPTION:The Maine Coon Kats are back!  People loved them at the last event \nFood and drink are available for purchase in the store \n$10 band fee is payable via Venmo\, at the bar or in the farm store.
URL:https://moac.org/event/music-at-the-farm/
LOCATION:Orchard Ridge Farm\, 236 Sebago Lake road\, Gorham\, M\, 04038\, United States
CATEGORIES:Happy Hour/Dancing
ATTACH;FMTTYPE=image/jpeg:https://moac.org/wp-content/uploads/IMG_0094.jpeg
ORGANIZER;CN="Mary Walker":MAILTO:Mawalker44@gmail.com
END:VEVENT
BEGIN:VEVENT
DTSTART;TZID=America/New_York:20250627T173000
DTEND;TZID=America/New_York:20250627T200000
DTSTAMP:20260422T100524
CREATED:20250626T161530Z
LAST-MODIFIED:20250626T161530Z
UID:10004064-1751045400-1751054400@moac.org
SUMMARY:HAPPY HOUR
DESCRIPTION:HAPPY HOUR this Friday will be at the RIVERSIDE GRILL located in the clubhouse of the Riverside Golf Course\, 1158 Riverside Street in Portland. Popular spot having both inside and outside seating. Full bar\, good food\, free parking in their own lot.
URL:https://moac.org/event/happy-hour-166/
CATEGORIES:Happy Hour/Dancing
ORGANIZER;CN="Tom Geis":MAILTO:tomjgeis@hotmail.com
END:VEVENT
END:VCALENDAR