BEGIN:VCALENDAR
VERSION:2.0
PRODID:-//MOAC - Maine Outdoor Adventure Club - ECPv6.15.12.1//NONSGML v1.0//EN
CALSCALE:GREGORIAN
METHOD:PUBLISH
X-ORIGINAL-URL:https://moac.org
X-WR-CALDESC:Events for MOAC - Maine Outdoor Adventure Club
REFRESH-INTERVAL;VALUE=DURATION:PT1H
X-Robots-Tag:noindex
X-PUBLISHED-TTL:PT1H
BEGIN:VTIMEZONE
TZID:America/New_York
BEGIN:DAYLIGHT
TZOFFSETFROM:-0500
TZOFFSETTO:-0400
TZNAME:EDT
DTSTART:20240310T070000
END:DAYLIGHT
BEGIN:STANDARD
TZOFFSETFROM:-0400
TZOFFSETTO:-0500
TZNAME:EST
DTSTART:20241103T060000
END:STANDARD
BEGIN:DAYLIGHT
TZOFFSETFROM:-0500
TZOFFSETTO:-0400
TZNAME:EDT
DTSTART:20250309T070000
END:DAYLIGHT
BEGIN:STANDARD
TZOFFSETFROM:-0400
TZOFFSETTO:-0500
TZNAME:EST
DTSTART:20251102T060000
END:STANDARD
BEGIN:DAYLIGHT
TZOFFSETFROM:-0500
TZOFFSETTO:-0400
TZNAME:EDT
DTSTART:20260308T070000
END:DAYLIGHT
BEGIN:STANDARD
TZOFFSETFROM:-0400
TZOFFSETTO:-0500
TZNAME:EST
DTSTART:20261101T060000
END:STANDARD
END:VTIMEZONE
BEGIN:VEVENT
DTSTART;TZID=America/New_York:20250905T173000
DTEND;TZID=America/New_York:20250905T200000
DTSTAMP:20260422T064438
CREATED:20250904T150311Z
LAST-MODIFIED:20250904T150311Z
UID:10004142-1757093400-1757102400@moac.org
SUMMARY:HAPPY HOUR
DESCRIPTION:There’s still time for us to be outside! HAPPY HOUR this Friday will be at SALTY BAY Seafood Bar & Grill located at 68 Jones Creek Drive down at Pine Point. It’s a takeout seafood restaurant with a log cabin out building which serves as the bar. Seating is at picnic tables situated on the lawn going right down to the water. Free parking in their lot and on the street.
URL:https://moac.org/event/happy-hour-176/
CATEGORIES:Happy Hour/Dancing
ORGANIZER;CN="Tom Geis":MAILTO:tomjgeis@hotmail.com
END:VEVENT
BEGIN:VEVENT
DTSTART;TZID=America/New_York:20250911T183000
DTEND;TZID=America/New_York:20250911T200000
DTSTAMP:20260422T064438
CREATED:20250826T135739Z
LAST-MODIFIED:20250826T135739Z
UID:10004132-1757615400-1757620800@moac.org
SUMMARY:Square Dancing
DESCRIPTION:  \nLearn to square dance with a Portland-area club on Thursday evenings. New free class starting Sept. 11 6:30-8 p.m.\, 8 Corners School\, Scarborough. Then every Thursday same place\, time all winter. Other MOACers are dancers. Come alone or with friends. Always people to pair with.
URL:https://moac.org/event/square-dancing/
CATEGORIES:Happy Hour/Dancing
ORGANIZER;CN="Jerry Turner":MAILTO:turner207@live.com
END:VEVENT
BEGIN:VEVENT
DTSTART;TZID=America/New_York:20250912T173000
DTEND;TZID=America/New_York:20250912T200000
DTSTAMP:20260422T064438
CREATED:20250911T145100Z
LAST-MODIFIED:20250911T145100Z
UID:10004148-1757698200-1757707200@moac.org
SUMMARY:HAPPY HOUR
DESCRIPTION:It’s a once a summer thing and this Friday looks good weather-wise!  HAPPY HOUR this Friday will be at THE PORTHOLE Restaurant & Pub located at 20 Custom House Wharf in the Old Port. Always festive with a good crowd and live music. Parking should be relatively easy to come by after Labor Day and it’s free at meters come 6:00PM.
URL:https://moac.org/event/happy-hour-177/
CATEGORIES:Happy Hour/Dancing
ORGANIZER;CN="Tom Geis":MAILTO:tomjgeis@hotmail.com
END:VEVENT
BEGIN:VEVENT
DTSTART;TZID=America/New_York:20250919T173000
DTEND;TZID=America/New_York:20250919T200000
DTSTAMP:20260422T064438
CREATED:20250918T150337Z
LAST-MODIFIED:20250918T150337Z
UID:10004153-1758303000-1758312000@moac.org
SUMMARY:HAPPY HOUR
DESCRIPTION:HAPPY HOUR this Friday will be at the RIVERSIDE GRILL located at the Riverside Golf Course\, 1158 Riverside Street in Portland. Temperature expected to be near 70 so we’ll be outside on their deck. Full bar\, surprisingly good food\, free parking.
URL:https://moac.org/event/happy-hour-178/
CATEGORIES:Happy Hour/Dancing
ORGANIZER;CN="Tom Geis":MAILTO:tomjgeis@hotmail.com
END:VEVENT
BEGIN:VEVENT
DTSTART;TZID=America/New_York:20250926T173000
DTEND;TZID=America/New_York:20250926T200000
DTSTAMP:20260422T064438
CREATED:20250925T160537Z
LAST-MODIFIED:20250925T160537Z
UID:10004162-1758907800-1758916800@moac.org
SUMMARY:HAPPY HOUR
DESCRIPTION:It’s going to be summer-like tomorrow with evening temperatures in the 70’s. HAPPY HOUR will be on the riverside deck at RUN OF THE MILL located at 100 Main Street in Saco. Full bar\, the food’s good\, and the parking is free.
URL:https://moac.org/event/happy-hour-179/
CATEGORIES:Happy Hour/Dancing
ORGANIZER;CN="Tom Geis":MAILTO:tomjgeis@hotmail.com
END:VEVENT
END:VCALENDAR