BEGIN:VCALENDAR
VERSION:2.0
PRODID:-//MOAC - Maine Outdoor Adventure Club - ECPv6.15.12.1//NONSGML v1.0//EN
CALSCALE:GREGORIAN
METHOD:PUBLISH
X-ORIGINAL-URL:https://moac.org
X-WR-CALDESC:Events for MOAC - Maine Outdoor Adventure Club
REFRESH-INTERVAL;VALUE=DURATION:PT1H
X-Robots-Tag:noindex
X-PUBLISHED-TTL:PT1H
BEGIN:VTIMEZONE
TZID:America/New_York
BEGIN:DAYLIGHT
TZOFFSETFROM:-0500
TZOFFSETTO:-0400
TZNAME:EDT
DTSTART:20250309T070000
END:DAYLIGHT
BEGIN:STANDARD
TZOFFSETFROM:-0400
TZOFFSETTO:-0500
TZNAME:EST
DTSTART:20251102T060000
END:STANDARD
BEGIN:DAYLIGHT
TZOFFSETFROM:-0500
TZOFFSETTO:-0400
TZNAME:EDT
DTSTART:20260308T070000
END:DAYLIGHT
BEGIN:STANDARD
TZOFFSETFROM:-0400
TZOFFSETTO:-0500
TZNAME:EST
DTSTART:20261101T060000
END:STANDARD
BEGIN:DAYLIGHT
TZOFFSETFROM:-0500
TZOFFSETTO:-0400
TZNAME:EDT
DTSTART:20270314T070000
END:DAYLIGHT
BEGIN:STANDARD
TZOFFSETFROM:-0400
TZOFFSETTO:-0500
TZNAME:EST
DTSTART:20271107T060000
END:STANDARD
END:VTIMEZONE
BEGIN:VEVENT
DTSTART;TZID=America/New_York:20260102T173000
DTEND;TZID=America/New_York:20260102T200000
DTSTAMP:20260421T163938
CREATED:20251224T010255Z
LAST-MODIFIED:20251224T010255Z
UID:10004260-1767375000-1767384000@moac.org
SUMMARY:HAPPY HOUR
DESCRIPTION:HAPPY HOUR for the first Friday in the new year will be at the SIDECAR PUB located at 7 Railroad Avenue (fourth floor) in GORHAM. Well liked by our group and it should be festive on this first Friday after New Year’s. Free parking\, good food\, full bar. Take the elevator up to the fourth floor and check out the loft above.
URL:https://moac.org/event/happy-hour-193/
CATEGORIES:Happy Hour/Dancing
ORGANIZER;CN="Tom Geis":MAILTO:tomjgeis@hotmail.com
END:VEVENT
BEGIN:VEVENT
DTSTART;TZID=America/New_York:20260109T173000
DTEND;TZID=America/New_York:20260109T200000
DTSTAMP:20260421T163938
CREATED:20260108T150655Z
LAST-MODIFIED:20260108T150655Z
UID:10004274-1767979800-1767988800@moac.org
SUMMARY:HAPPY HOUR
DESCRIPTION:HAPPY HOUR this Friday will be at the COWBELL RESTAURANT located at 185 US Route 1 in SCARBOROUGH. Set back in off Route 1 it’s easy to get to via I295 and the Scarborough spur (I701). The parking is free and the food is surprisingly good. Full bar.
URL:https://moac.org/event/happy-hour-194/
CATEGORIES:Happy Hour/Dancing
ORGANIZER;CN="Tom Geis":MAILTO:tomjgeis@hotmail.com
END:VEVENT
BEGIN:VEVENT
DTSTART;TZID=America/New_York:20260116T170000
DTEND;TZID=America/New_York:20260116T200000
DTSTAMP:20260421T163938
CREATED:20260115T161235Z
LAST-MODIFIED:20260115T161235Z
UID:10004645-1768582800-1768593600@moac.org
SUMMARY:HAPPY HOUR
DESCRIPTION:HAPPY HOUR this Friday will be at FOUNDATIONS BREWING AND PIZZA located at 1 Industrial Way in PORTLAND. Comfortable interior setting offering craft beer and wine along with award winning pizza. Easy to get to off I95 and the parking is free. \nPLEASE NOTE: We’ve adjusted the start time to 5:00PM to take advantage of a popular feature: Craft pint and slice for $10.00.
URL:https://moac.org/event/happy-hour-195/
CATEGORIES:Happy Hour/Dancing
ORGANIZER;CN="Tom Geis":MAILTO:tomjgeis@hotmail.com
END:VEVENT
BEGIN:VEVENT
DTSTART;TZID=America/New_York:20260123T173000
DTEND;TZID=America/New_York:20260123T200000
DTSTAMP:20260421T163938
CREATED:20260122T154420Z
LAST-MODIFIED:20260122T154420Z
UID:10004654-1769189400-1769198400@moac.org
SUMMARY:HAPPY HOUR
DESCRIPTION:HAPPY HOUR this Friday will be at the STOCKHOUSE RESTAURANT & SPORTS PUB located at 506 Main Street in WESTBROOK. Free parking\, good food\, full bar\, brew specials before 6PM.
URL:https://moac.org/event/happy-hour-196/
CATEGORIES:Happy Hour/Dancing
ORGANIZER;CN="Tom Geis":MAILTO:tomjgeis@hotmail.com
END:VEVENT
BEGIN:VEVENT
DTSTART;TZID=America/New_York:20260130T173000
DTEND;TZID=America/New_York:20260130T200000
DTSTAMP:20260421T163938
CREATED:20260128T223703Z
LAST-MODIFIED:20260128T223703Z
UID:10004664-1769794200-1769803200@moac.org
SUMMARY:HAPPY HOUR
DESCRIPTION:HAPPY HOUR this Friday will be at THE CLUB AT RIVERSIDE (formerly the Riverside Grill) located in the clubhouse of the Riverside Golf Course at 1158 Riverside Street in Portland. The food is very good\, the parking is free\, and they have a full bar. Entertainment 5:00PM to 7:00PM.
URL:https://moac.org/event/happy-hour-197/
CATEGORIES:Happy Hour/Dancing
ORGANIZER;CN="Tom Geis":MAILTO:tomjgeis@hotmail.com
END:VEVENT
END:VCALENDAR