BEGIN:VCALENDAR
VERSION:2.0
PRODID:-//MOAC - Maine Outdoor Adventure Club - ECPv6.15.12.1//NONSGML v1.0//EN
CALSCALE:GREGORIAN
METHOD:PUBLISH
X-WR-CALNAME:MOAC - Maine Outdoor Adventure Club
X-ORIGINAL-URL:https://moac.org
X-WR-CALDESC:Events for MOAC - Maine Outdoor Adventure Club
REFRESH-INTERVAL;VALUE=DURATION:PT1H
X-Robots-Tag:noindex
X-PUBLISHED-TTL:PT1H
BEGIN:VTIMEZONE
TZID:America/New_York
BEGIN:DAYLIGHT
TZOFFSETFROM:-0500
TZOFFSETTO:-0400
TZNAME:EDT
DTSTART:20210314T070000
END:DAYLIGHT
BEGIN:STANDARD
TZOFFSETFROM:-0400
TZOFFSETTO:-0500
TZNAME:EST
DTSTART:20211107T060000
END:STANDARD
BEGIN:DAYLIGHT
TZOFFSETFROM:-0500
TZOFFSETTO:-0400
TZNAME:EDT
DTSTART:20220313T070000
END:DAYLIGHT
BEGIN:STANDARD
TZOFFSETFROM:-0400
TZOFFSETTO:-0500
TZNAME:EST
DTSTART:20221106T060000
END:STANDARD
BEGIN:DAYLIGHT
TZOFFSETFROM:-0500
TZOFFSETTO:-0400
TZNAME:EDT
DTSTART:20230312T070000
END:DAYLIGHT
BEGIN:STANDARD
TZOFFSETFROM:-0400
TZOFFSETTO:-0500
TZNAME:EST
DTSTART:20231105T060000
END:STANDARD
END:VTIMEZONE
BEGIN:VEVENT
DTSTART;TZID=America/New_York:20220618T123000
DTEND;TZID=America/New_York:20220618T220000
DTSTAMP:20260423T105816
CREATED:20220616T023703Z
LAST-MODIFIED:20220616T033140Z
UID:10000425-1655555400-1655589600@moac.org
SUMMARY:Maine Blues Festival-Listen and Dance\, Dance\, Dance!
DESCRIPTION:The Maine Blues Festival is back!!  The three-day festival has been condensed to one full day and has moved from Naples to Lisbon Falls\, Maine.\nThere will be five stages set up with continuous rocking blues music from 12:30 PM to 10:00 PM.\nSpontaneous jamming goes on until 12:00AM. \nTickets are JUST $12 in advance and $15 the day of the Festival! Children age 12 and under are free.\nRecommended gear: Comfortable shoes\, earplugs\, sunscreen\, hat\, water\, cooler with lunch\, beverages\, or eat and drink from vendors and venues on site. Chair in your car for eating and drinking your BYO.  \nMeet at the Worumbo Stage at 12:30PM for JC and the Aces or text/call to meet up. Eileen Whynot 207.749.0211
URL:https://moac.org/event/maine-blues-festival-listen-and-dance-dance-dance/
CATEGORIES:Happy Hour/Dancing
END:VEVENT
END:VCALENDAR