BEGIN:VCALENDAR
VERSION:2.0
PRODID:-//MOAC - Maine Outdoor Adventure Club - ECPv6.15.12.1//NONSGML v1.0//EN
CALSCALE:GREGORIAN
METHOD:PUBLISH
X-WR-CALNAME:MOAC - Maine Outdoor Adventure Club
X-ORIGINAL-URL:https://moac.org
X-WR-CALDESC:Events for MOAC - Maine Outdoor Adventure Club
REFRESH-INTERVAL;VALUE=DURATION:PT1H
X-Robots-Tag:noindex
X-PUBLISHED-TTL:PT1H
BEGIN:VTIMEZONE
TZID:America/New_York
BEGIN:DAYLIGHT
TZOFFSETFROM:-0500
TZOFFSETTO:-0400
TZNAME:EDT
DTSTART:20210314T070000
END:DAYLIGHT
BEGIN:STANDARD
TZOFFSETFROM:-0400
TZOFFSETTO:-0500
TZNAME:EST
DTSTART:20211107T060000
END:STANDARD
BEGIN:DAYLIGHT
TZOFFSETFROM:-0500
TZOFFSETTO:-0400
TZNAME:EDT
DTSTART:20220313T070000
END:DAYLIGHT
BEGIN:STANDARD
TZOFFSETFROM:-0400
TZOFFSETTO:-0500
TZNAME:EST
DTSTART:20221106T060000
END:STANDARD
BEGIN:DAYLIGHT
TZOFFSETFROM:-0500
TZOFFSETTO:-0400
TZNAME:EDT
DTSTART:20230312T070000
END:DAYLIGHT
BEGIN:STANDARD
TZOFFSETFROM:-0400
TZOFFSETTO:-0500
TZNAME:EST
DTSTART:20231105T060000
END:STANDARD
END:VTIMEZONE
BEGIN:VEVENT
DTSTART;TZID=America/New_York:20220624T170000
DTEND;TZID=America/New_York:20220624T200000
DTSTAMP:20260423T134216
CREATED:20220623T151109Z
LAST-MODIFIED:20220623T151109Z
UID:10000539-1656090000-1656100800@moac.org
SUMMARY:Happy Hour
DESCRIPTION:Happy Hour this Friday will be at RIVALRIES in FALMOUTH. They’re located at 2 Hat Trick Drive which is off Route 1 and essentially behind the WalMart. Rivalries has lots of room inside and also offers outside seating on their patio. Parking is free on site. \nPlease Note: We’ve picked a spot north of town to make it convenient for those that might be going up to Freeport to see DAN PELLITIER’S CONCERT at the Credenza. Also\, Dan’s gig starts at 7:00 so we’ll be starting the Happy Hour a bit earlier at 5:00PM. \n\n\n\n\n\n\n\n\n\n\n\n\n\nWith the advent of cooler weather\, MOAC Happy Hours may now be located at establishments offering limited or no options for outdoor seating.  For each Happy Hour venue\, we will try to give as much information as practical about available seating options.\n\nParticipation in Happy Hour events\, regardless of seating options\, is a personal decision and MOAC assumes no liability for potential health risks associated with attending these activities.\n\nVaccination against COVID-19 (including approved booster shots) is STRONGLY ENCOURAGED\, but not required for participation in Happy Hour events.   Participants are expected to practice safe behaviors including social distancing\, hand washing and wearing a mask when not eating/drinking or when not seated.   Please be respectful of other people’s choices and comfort level.  Do not participate if you are not feeling well\, exhibiting COVID symptoms\, have recently tested positive for COVID or have come into close contact with someone who may be COVID positive.
URL:https://moac.org/event/happy-hour-10/
CATEGORIES:Happy Hour/Dancing
ORGANIZER;CN="Tom Geis":MAILTO:tomjgeis@hotmail.com
END:VEVENT
BEGIN:VEVENT
DTSTART;TZID=America/New_York:20220624T190000
DTEND;TZID=America/New_York:20220624T210000
DTSTAMP:20260423T134216
CREATED:20220601T144405Z
LAST-MODIFIED:20220601T144405Z
UID:10000520-1656097200-1656104400@moac.org
SUMMARY:Dan Pelletier Live at Cadenza in Freeport
DESCRIPTION:MOAC member and nationally recognized singer/songwriter Dan Pelletier is playing at Cadenza in Freeport on Friday\, June 24 at 7 pm. \nFor reservations\, tickets\, directions and more information  go to https://www.cadenzafreeport.com/events/dan-pelletier-5 \n 
URL:https://moac.org/event/dan-pelletier-live-at-cadenza-in-freeport/
CATEGORIES:Happy Hour/Dancing,Social
ATTACH;FMTTYPE=image/jpeg:https://moac.org/wp-content/uploads/Dan-at-Cadenza.jpg
ORGANIZER;CN="Dan Pelletier":MAILTO:danpelletier@mail.com
END:VEVENT
END:VCALENDAR