BEGIN:VCALENDAR
VERSION:2.0
PRODID:-//MOAC - Maine Outdoor Adventure Club - ECPv6.15.12.1//NONSGML v1.0//EN
CALSCALE:GREGORIAN
METHOD:PUBLISH
X-ORIGINAL-URL:https://moac.org
X-WR-CALDESC:Events for MOAC - Maine Outdoor Adventure Club
REFRESH-INTERVAL;VALUE=DURATION:PT1H
X-Robots-Tag:noindex
X-PUBLISHED-TTL:PT1H
BEGIN:VTIMEZONE
TZID:America/New_York
BEGIN:DAYLIGHT
TZOFFSETFROM:-0500
TZOFFSETTO:-0400
TZNAME:EDT
DTSTART:20210314T070000
END:DAYLIGHT
BEGIN:STANDARD
TZOFFSETFROM:-0400
TZOFFSETTO:-0500
TZNAME:EST
DTSTART:20211107T060000
END:STANDARD
BEGIN:DAYLIGHT
TZOFFSETFROM:-0500
TZOFFSETTO:-0400
TZNAME:EDT
DTSTART:20220313T070000
END:DAYLIGHT
BEGIN:STANDARD
TZOFFSETFROM:-0400
TZOFFSETTO:-0500
TZNAME:EST
DTSTART:20221106T060000
END:STANDARD
BEGIN:DAYLIGHT
TZOFFSETFROM:-0500
TZOFFSETTO:-0400
TZNAME:EDT
DTSTART:20230312T070000
END:DAYLIGHT
BEGIN:STANDARD
TZOFFSETFROM:-0400
TZOFFSETTO:-0500
TZNAME:EST
DTSTART:20231105T060000
END:STANDARD
END:VTIMEZONE
BEGIN:VEVENT
DTSTART;TZID=America/New_York:20220707T183000
DTEND;TZID=America/New_York:20220707T200000
DTSTAMP:20260423T115147
CREATED:20220630T131523Z
LAST-MODIFIED:20220630T131523Z
UID:10000553-1657218600-1657224000@moac.org
SUMMARY:Concerts in the Park - OOB: Motor Booty Affair
DESCRIPTION:Concerts in the Ballpark–This Week: Motor Booty Affair! \n\n\n\n\n\nThursday\, July 7\, 2022 6:30 PM – 8:00 PMEST\n\n\nOOB Ballpark\n7 Ballpark Way\nOld Orchard Beach\, ME 04064\n\n\n\n\n\n\n\n\n\n\n\nMotor Booty Affair \nFamily friendly summer concert series at the Ballpark. Admission $5.00 for adults\, children 12 and under are free. \nQuestions? Email OOBRecinfo@oobmaine.com.
URL:https://moac.org/event/concerts-in-the-park-oob-motor-booty-affair/
CATEGORIES:Happy Hour/Dancing
ATTACH;FMTTYPE=image/jpeg:https://moac.org/wp-content/uploads/Motor-Booty-Affair-OOB.jpeg
ORGANIZER;CN="Lorna":MAILTO:lornaconneen@ymail.com
END:VEVENT
END:VCALENDAR