BEGIN:VCALENDAR
VERSION:2.0
PRODID:-//MOAC - Maine Outdoor Adventure Club - ECPv6.15.12.1//NONSGML v1.0//EN
CALSCALE:GREGORIAN
METHOD:PUBLISH
X-ORIGINAL-URL:https://moac.org
X-WR-CALDESC:Events for MOAC - Maine Outdoor Adventure Club
REFRESH-INTERVAL;VALUE=DURATION:PT1H
X-Robots-Tag:noindex
X-PUBLISHED-TTL:PT1H
BEGIN:VTIMEZONE
TZID:America/New_York
BEGIN:DAYLIGHT
TZOFFSETFROM:-0500
TZOFFSETTO:-0400
TZNAME:EDT
DTSTART:20210314T070000
END:DAYLIGHT
BEGIN:STANDARD
TZOFFSETFROM:-0400
TZOFFSETTO:-0500
TZNAME:EST
DTSTART:20211107T060000
END:STANDARD
BEGIN:DAYLIGHT
TZOFFSETFROM:-0500
TZOFFSETTO:-0400
TZNAME:EDT
DTSTART:20220313T070000
END:DAYLIGHT
BEGIN:STANDARD
TZOFFSETFROM:-0400
TZOFFSETTO:-0500
TZNAME:EST
DTSTART:20221106T060000
END:STANDARD
BEGIN:DAYLIGHT
TZOFFSETFROM:-0500
TZOFFSETTO:-0400
TZNAME:EDT
DTSTART:20230312T070000
END:DAYLIGHT
BEGIN:STANDARD
TZOFFSETFROM:-0400
TZOFFSETTO:-0500
TZNAME:EST
DTSTART:20231105T060000
END:STANDARD
END:VTIMEZONE
BEGIN:VEVENT
DTSTART;TZID=America/New_York:20220729T173000
DTEND;TZID=America/New_York:20220729T200000
DTSTAMP:20260423T091158
CREATED:20220728T002519Z
LAST-MODIFIED:20220728T002519Z
UID:10000607-1659115800-1659124800@moac.org
SUMMARY:HAPPY HOUR
DESCRIPTION:Happy Hour this Friday will be at MAST LANDING BREWING COMPANY located at 920 Main Street in Westbrook. Both inside and outside seating. Free parking in their own lot. \n\n\n\n\n\n\n\n\n\n\n\n\n\nWith the advent of cooler weather\, MOAC Happy Hours may now be located at establishments offering limited or no options for outdoor seating.  For each Happy Hour venue\, we will try to give as much information as practical about available seating options.\n\nParticipation in Happy Hour events\, regardless of seating options\, is a personal decision and MOAC assumes no liability for potential health risks associated with attending these activities.\n\nVaccination against COVID-19 (including approved booster shots) is STRONGLY ENCOURAGED\, but not required for participation in Happy Hour events.   Participants are expected to practice safe behaviors including social distancing\, hand washing and wearing a mask when not eating/drinking or when not seated.   Please be respectful of other people’s choices and comfort level.  Do not participate if you are not feeling well\, exhibiting COVID symptoms\, have recently tested positive for COVID or have come into close contact with someone who may be COVID positive.
URL:https://moac.org/event/happy-hour-14/
CATEGORIES:Happy Hour/Dancing
ORGANIZER;CN="Tom Geis":MAILTO:tomjgeis@hotmail.com
END:VEVENT
BEGIN:VEVENT
DTSTART;TZID=America/New_York:20220729T180000
DTEND;TZID=America/New_York:20220729T220000
DTSTAMP:20260423T091158
CREATED:20220725T161038Z
LAST-MODIFIED:20220726T130559Z
UID:10000603-1659117600-1659132000@moac.org
SUMMARY:Bluegrass festival!! Friday Night!
DESCRIPTION:Join us Friday evening at the annual bluegrass festival in South Hiram\, right next to Cornish about an hour west of Portland for some really good music!!  Someone told me it was going to be classical another\, rap but I don’t…I don’t really know.  Carpooling is a possibility from Portland.  Meet at the main gate/ticket office at 6 pm.  Tickets are $35  Text Dan and ask for lefty\, code name righty at 2o7 4seveneight 683five!  Free diamond rings for the first ten people!
URL:https://moac.org/event/bluegrass-festival/
CATEGORIES:Happy Hour/Dancing
ATTACH;FMTTYPE=image/jpeg:https://moac.org/wp-content/uploads/PXL_20220719_163040709.jpg
END:VEVENT
END:VCALENDAR