BEGIN:VCALENDAR
VERSION:2.0
PRODID:-//MOAC - Maine Outdoor Adventure Club - ECPv6.15.12.1//NONSGML v1.0//EN
CALSCALE:GREGORIAN
METHOD:PUBLISH
X-ORIGINAL-URL:https://moac.org
X-WR-CALDESC:Events for MOAC - Maine Outdoor Adventure Club
REFRESH-INTERVAL;VALUE=DURATION:PT1H
X-Robots-Tag:noindex
X-PUBLISHED-TTL:PT1H
BEGIN:VTIMEZONE
TZID:America/New_York
BEGIN:DAYLIGHT
TZOFFSETFROM:-0500
TZOFFSETTO:-0400
TZNAME:EDT
DTSTART:20210314T070000
END:DAYLIGHT
BEGIN:STANDARD
TZOFFSETFROM:-0400
TZOFFSETTO:-0500
TZNAME:EST
DTSTART:20211107T060000
END:STANDARD
BEGIN:DAYLIGHT
TZOFFSETFROM:-0500
TZOFFSETTO:-0400
TZNAME:EDT
DTSTART:20220313T070000
END:DAYLIGHT
BEGIN:STANDARD
TZOFFSETFROM:-0400
TZOFFSETTO:-0500
TZNAME:EST
DTSTART:20221106T060000
END:STANDARD
BEGIN:DAYLIGHT
TZOFFSETFROM:-0500
TZOFFSETTO:-0400
TZNAME:EDT
DTSTART:20230312T070000
END:DAYLIGHT
BEGIN:STANDARD
TZOFFSETFROM:-0400
TZOFFSETTO:-0500
TZNAME:EST
DTSTART:20231105T060000
END:STANDARD
END:VTIMEZONE
BEGIN:VEVENT
DTSTART;TZID=America/New_York:20221008T160000
DTEND;TZID=America/New_York:20221008T190000
DTSTAMP:20260423T031351
CREATED:20221002T220415Z
LAST-MODIFIED:20221002T220415Z
UID:10000700-1665244800-1665255600@moac.org
SUMMARY:Lobsta Dinner
DESCRIPTION:Lobster Dinner at Cape Elizabeth Lions Clubhouse at 1 Wheeler Rd \nSaturday 10/8  4pm -7pm \n1/2 lobster dinners $20/28   w/ potato cole slaw drink and desert BYOB \nEat in or to go\,  open to public \nQuantities limited reservations recommended by calling 838-6756
URL:https://moac.org/event/lobsta-dinner/
CATEGORIES:Happy Hour/Dancing
ORGANIZER;CN="Bill Stressenger":MAILTO:billstressenger@gmail.com
END:VEVENT
END:VCALENDAR