BEGIN:VCALENDAR
VERSION:2.0
PRODID:-//MOAC - Maine Outdoor Adventure Club - ECPv6.15.12.1//NONSGML v1.0//EN
CALSCALE:GREGORIAN
METHOD:PUBLISH
X-ORIGINAL-URL:https://moac.org
X-WR-CALDESC:Events for MOAC - Maine Outdoor Adventure Club
REFRESH-INTERVAL;VALUE=DURATION:PT1H
X-Robots-Tag:noindex
X-PUBLISHED-TTL:PT1H
BEGIN:VTIMEZONE
TZID:America/New_York
BEGIN:DAYLIGHT
TZOFFSETFROM:-0500
TZOFFSETTO:-0400
TZNAME:EDT
DTSTART:20210314T070000
END:DAYLIGHT
BEGIN:STANDARD
TZOFFSETFROM:-0400
TZOFFSETTO:-0500
TZNAME:EST
DTSTART:20211107T060000
END:STANDARD
BEGIN:DAYLIGHT
TZOFFSETFROM:-0500
TZOFFSETTO:-0400
TZNAME:EDT
DTSTART:20220313T070000
END:DAYLIGHT
BEGIN:STANDARD
TZOFFSETFROM:-0400
TZOFFSETTO:-0500
TZNAME:EST
DTSTART:20221106T060000
END:STANDARD
BEGIN:DAYLIGHT
TZOFFSETFROM:-0500
TZOFFSETTO:-0400
TZNAME:EDT
DTSTART:20230312T070000
END:DAYLIGHT
BEGIN:STANDARD
TZOFFSETFROM:-0400
TZOFFSETTO:-0500
TZNAME:EST
DTSTART:20231105T060000
END:STANDARD
END:VTIMEZONE
BEGIN:VEVENT
DTSTART;TZID=America/New_York:20221105T080000
DTEND;TZID=America/New_York:20221105T130000
DTSTAMP:20260423T021100
CREATED:20221001T134322Z
LAST-MODIFIED:20221020T124536Z
UID:10000698-1667635200-1667653200@moac.org
SUMMARY:Take Pride in Acadia Day\, 2022
DESCRIPTION:For 31 years\, volunteers have gathered on the first Saturday of November to help ready the famous carriage roads for winter. Sponsored by Friends of Acadia\, teams are assigned troublesome sections of carriage roads where erosion can cause damage over the winter. The task? Rake the leaves and debris off the shoulders and into the woods. MOAC has had members at this event for many years. We have a team that will work together. \nIf you follow the Friends of Acadia link above\, there will be information about how to sign up for the event. PLEASE do not do that. Since we are working as a group\, use the sign up link below so I can keep track. I will submit our roster of names to Friends. \nPlease click HERE to sign up. Your email is so we can communicate before the weekend. Your phone number so we can as well during the weekend. \nMost who sign up make it a weekend\, but that is not required. The actual commitment to the park is from roughly 8:30 am to noon on Saturday. If you choose to make it a weekend\, the rest of the time is yours. \nThere is no cost to the event itself. If you choose to stay over\, you will need to find your own lodging. Tam and I are staying at the Bar Harbor Grand Hotel\, right in downtown and that has been the hotel of choice for the most part for a few years now. But\, you can do as you wish in this regard. The Grand offers a free breakfast. Local restaurants for the rest. \nBack for 2022\, however\, is the free lunch after the work Saturday. Discontinued during Covid\, it’s back. After our work commitment is done\, we can head over to the Park Headquarters on Eagle Lake Road for a “CCC” lunch. Chili\, cornbread\, and cider. At least that’s what it used to be. Aside from the ingredients\, it’s named to honor the Civilian Conservation Corp\, who did a lot of work in Acadia.
URL:https://moac.org/event/take-pride-in-acadia-day-2022/
CATEGORIES:Happy Hour/Dancing,Hiking,Mountain Biking,Other/General,Road Biking,Social,Walking
ATTACH;FMTTYPE=image/jpeg:https://moac.org/wp-content/uploads/Take-Pride-2.jpeg
ORGANIZER;CN="Peter Mullen":MAILTO:pcm25me@gmail.com
END:VEVENT
END:VCALENDAR