BEGIN:VCALENDAR
VERSION:2.0
PRODID:-//MOAC - Maine Outdoor Adventure Club - ECPv6.15.12.1//NONSGML v1.0//EN
CALSCALE:GREGORIAN
METHOD:PUBLISH
X-ORIGINAL-URL:https://moac.org
X-WR-CALDESC:Events for MOAC - Maine Outdoor Adventure Club
REFRESH-INTERVAL;VALUE=DURATION:PT1H
X-Robots-Tag:noindex
X-PUBLISHED-TTL:PT1H
BEGIN:VTIMEZONE
TZID:America/New_York
BEGIN:DAYLIGHT
TZOFFSETFROM:-0500
TZOFFSETTO:-0400
TZNAME:EDT
DTSTART:20220313T070000
END:DAYLIGHT
BEGIN:STANDARD
TZOFFSETFROM:-0400
TZOFFSETTO:-0500
TZNAME:EST
DTSTART:20221106T060000
END:STANDARD
BEGIN:DAYLIGHT
TZOFFSETFROM:-0500
TZOFFSETTO:-0400
TZNAME:EDT
DTSTART:20230312T070000
END:DAYLIGHT
BEGIN:STANDARD
TZOFFSETFROM:-0400
TZOFFSETTO:-0500
TZNAME:EST
DTSTART:20231105T060000
END:STANDARD
BEGIN:DAYLIGHT
TZOFFSETFROM:-0500
TZOFFSETTO:-0400
TZNAME:EDT
DTSTART:20240310T070000
END:DAYLIGHT
BEGIN:STANDARD
TZOFFSETFROM:-0400
TZOFFSETTO:-0500
TZNAME:EST
DTSTART:20241103T060000
END:STANDARD
END:VTIMEZONE
BEGIN:VEVENT
DTSTART;TZID=America/New_York:20230811T173000
DTEND;TZID=America/New_York:20230811T200000
DTSTAMP:20260421T205615
CREATED:20230809T230658Z
LAST-MODIFIED:20230809T230658Z
UID:10001077-1691775000-1691784000@moac.org
SUMMARY:HAPPY HOUR
DESCRIPTION:HAPPY HOUR this Friday will be at SALTY BAY SEAFOOD BAR & GRILL located at 68 Jones Creek Drive in Scarborough (Pine Point). Fresh seafood from restaurant. Separate  log cabin out-building serves as bar. Picnic tables on expansive lawn which directly abuts the Nonesuch River and Saco Bay. Free parking in their own lot as well as on adjacent street.
URL:https://moac.org/event/happy-hour-68/
CATEGORIES:Happy Hour/Dancing
END:VEVENT
END:VCALENDAR