BEGIN:VCALENDAR
VERSION:2.0
PRODID:-//MOAC - Maine Outdoor Adventure Club - ECPv6.15.12.1//NONSGML v1.0//EN
CALSCALE:GREGORIAN
METHOD:PUBLISH
X-WR-CALNAME:MOAC - Maine Outdoor Adventure Club
X-ORIGINAL-URL:https://moac.org
X-WR-CALDESC:Events for MOAC - Maine Outdoor Adventure Club
REFRESH-INTERVAL;VALUE=DURATION:PT1H
X-Robots-Tag:noindex
X-PUBLISHED-TTL:PT1H
BEGIN:VTIMEZONE
TZID:America/New_York
BEGIN:DAYLIGHT
TZOFFSETFROM:-0500
TZOFFSETTO:-0400
TZNAME:EDT
DTSTART:20230312T070000
END:DAYLIGHT
BEGIN:STANDARD
TZOFFSETFROM:-0400
TZOFFSETTO:-0500
TZNAME:EST
DTSTART:20231105T060000
END:STANDARD
BEGIN:DAYLIGHT
TZOFFSETFROM:-0500
TZOFFSETTO:-0400
TZNAME:EDT
DTSTART:20240310T070000
END:DAYLIGHT
BEGIN:STANDARD
TZOFFSETFROM:-0400
TZOFFSETTO:-0500
TZNAME:EST
DTSTART:20241103T060000
END:STANDARD
BEGIN:DAYLIGHT
TZOFFSETFROM:-0500
TZOFFSETTO:-0400
TZNAME:EDT
DTSTART:20250309T070000
END:DAYLIGHT
BEGIN:STANDARD
TZOFFSETFROM:-0400
TZOFFSETTO:-0500
TZNAME:EST
DTSTART:20251102T060000
END:STANDARD
END:VTIMEZONE
BEGIN:VEVENT
DTSTART;TZID=America/New_York:20241207T120000
DTEND;TZID=America/New_York:20241207T140000
DTSTAMP:20260421T150542
CREATED:20241117T193229Z
LAST-MODIFIED:20241117T193229Z
UID:10003782-1733572800-1733580000@moac.org
SUMMARY:2024 Holiday Party Set Up
DESCRIPTION:December 7\, 2024 @ 12:00 pm – 2:00 pm \nJoin the Party before the Party!! \nWe need help with transporting supplies and decorations from the storage unit to our venue and we will need help to return them the next day. \nWe will be setting up the hall with tables\, chairs and decorations (trees\, lights\, tables) for the evening. \nThere will be plenty of time to get home and change before the festivities begin. \nLots of volunteers are needed in the early afternoon (as well as during the party). Come join the fun! \nContact this years organizer or email board@moac.org to sign up.
URL:https://moac.org/event/2024-holiday-party-set-up/
LOCATION:Amvets\, 148 North Rd\, Yarmouth\, 04096\, United States
CATEGORIES:Happy Hour/Dancing,Other/General,Social
ORGANIZER;CN="Elaine M Vadeboncoeur":MAILTO:evadeboncoeur@gmail.com
END:VEVENT
END:VCALENDAR